BEGIN:VCALENDAR
VERSION:2.0
PRODID:-//Info Stargard - ECPv6.15.20//NONSGML v1.0//EN
CALSCALE:GREGORIAN
METHOD:PUBLISH
X-ORIGINAL-URL:https://infostargard.pl
X-WR-CALDESC:Wydarzenia dla Info Stargard
REFRESH-INTERVAL;VALUE=DURATION:PT1H
X-Robots-Tag:noindex
X-PUBLISHED-TTL:PT1H
BEGIN:VTIMEZONE
TZID:Europe/Helsinki
BEGIN:DAYLIGHT
TZOFFSETFROM:+0200
TZOFFSETTO:+0300
TZNAME:EEST
DTSTART:20250330T010000
END:DAYLIGHT
BEGIN:STANDARD
TZOFFSETFROM:+0300
TZOFFSETTO:+0200
TZNAME:EET
DTSTART:20251026T010000
END:STANDARD
BEGIN:DAYLIGHT
TZOFFSETFROM:+0200
TZOFFSETTO:+0300
TZNAME:EEST
DTSTART:20260329T010000
END:DAYLIGHT
BEGIN:STANDARD
TZOFFSETFROM:+0300
TZOFFSETTO:+0200
TZNAME:EET
DTSTART:20261025T010000
END:STANDARD
BEGIN:DAYLIGHT
TZOFFSETFROM:+0200
TZOFFSETTO:+0300
TZNAME:EEST
DTSTART:20270328T010000
END:DAYLIGHT
BEGIN:STANDARD
TZOFFSETFROM:+0300
TZOFFSETTO:+0200
TZNAME:EET
DTSTART:20271031T010000
END:STANDARD
END:VTIMEZONE
BEGIN:VEVENT
DTSTART;TZID=Europe/Helsinki:20260319T140000
DTEND;TZID=Europe/Helsinki:20260319T140000
DTSTAMP:20260419T173517
CREATED:20260319T102056Z
LAST-MODIFIED:20260319T102241Z
UID:41319-1773928800-1773928800@infostargard.pl
SUMMARY:Wystawa Aleksandry Cyglickiej w Urzędzie Gminy Stargard
DESCRIPTION:W czwartek\, 19 marca o godz. 14\, w sali konferencyjnej Urzędu Gminy Stargard\, odbędzie się wernisaż wystawy malarstwa Pani Aleksandry Cyglickiej.  \nArtystka po raz drugi zaprezentuje swoje prace w gminie Stargard. Tym razem będzie to kolekcja obrazów abstrakcyjnych – pełnych intensywnych barw i emocji. Twórczość Pani Aleksandry zachęca do indywidualnej interpretacji oraz do odkrywania znaczeń ukrytych w kolorach i kompozycji. \nWystawę będzie można oglądać do 19 kwietnia 2026 r. \nInf. Urzędu Gminy Stargard
URL:https://infostargard.pl/event/wystawa-aleksandry-cyglickiej-w-urzedzie-gminy-stargard/
LOCATION:Sala konferencyjna Urzędu Gminy Stargard
END:VEVENT
BEGIN:VEVENT
DTSTART;TZID=Europe/Helsinki:20260319T150000
DTEND;TZID=Europe/Helsinki:20260319T180000
DTSTAMP:20260419T173517
CREATED:20260311T110312Z
LAST-MODIFIED:20260319T084507Z
UID:40745-1773932400-1773943200@infostargard.pl
SUMMARY:Klub gier planszowych "Kapibara"
DESCRIPTION:Książnica Stargardzka zaprasza do Klubu Gier Planszowych „Kapibara” – miejsca\, gdzie spotykają się miłośnicy strategii\, zręczności i dobrej zabawy.  \nSpotkanie odbędzie się w czwartek\, 19 marca w godz. 15-18\, w Sali Projekcyjnej Książnicy Stargardzkiej. Wstęp jest bezpłatny. \n– Dołącz do nas! Grać może każdy! – zachęcają organizatorzy. – Zapraszamy młodzież i dorosłych\, niezależnie od doświadczenia. Na uczestników czeka: bogaty wybór gier – od klasycznych tytułów po nowości\, możliwość poznania nowych osób i spędzenia czasu w miłej atmosferze\, dawka emocji\, zdrowej rywalizacji\, śmiechu i wspólnej radości. \n \n  \n 
URL:https://infostargard.pl/event/klub-gier-planszowych-kapibara/
LOCATION:Sala projekcyjna Ksiąznicy Stargardzkiej
END:VEVENT
BEGIN:VEVENT
DTSTART;TZID=Europe/Helsinki:20260319T170000
DTEND;TZID=Europe/Helsinki:20260319T170000
DTSTAMP:20260419T173517
CREATED:20260319T091333Z
LAST-MODIFIED:20260319T091538Z
UID:41290-1773939600-1773939600@infostargard.pl
SUMMARY:"Z książki do gry" - kreatywne spotkania dla dzieci w Książnicy Stargardzkiej
DESCRIPTION:Książnica Stargardzka zaprasza dzieci w wieku 7-12 lat na wyjątkowy cykl spotkań „Z książki do gry”\, który odbędzie się w Filii nr 2 na os. Lotnisko.  \nZajęcia odbędą się w dwóch turach o godz. 17 i 18. \n– W ramach projektu Szkoła-Rodzina-Środowisko stworzyliśmy przestrzeń\, gdzie literatura spotyka się z kreatywnością i zabawą! – informują organizatorzy. – Niech wyobraźnia wejdzie do gry. Podczas zajęć dzieci poznają ciekawe książki\, porozmawiają o bohaterach i ich przygodach i wspólnie stworzą prawdziwą grę na podstawie wybranej książki.  \n\n\nZadanie realizowane w ramach Miejskiego programu profilaktyki i rozwiązywania problemów alkoholowych oraz przeciwdziałania narkomanii dla Miasta Stargard na lata 2026-2029
URL:https://infostargard.pl/event/z-ksiazki-do-gry-kreatywne-spotkania-dla-dzieci-w-ksiaznicy-stargardzkiej/
LOCATION:Filia nr 2\, Książnica Stargardzka
END:VEVENT
BEGIN:VEVENT
DTSTART;TZID=Europe/Helsinki:20260319T170000
DTEND;TZID=Europe/Helsinki:20260319T170000
DTSTAMP:20260419T173517
CREATED:20260319T092310Z
LAST-MODIFIED:20260319T092358Z
UID:41297-1773939600-1773939600@infostargard.pl
SUMMARY:Spotkanie autorskie z Renatą Teresą Korek
DESCRIPTION:Książnica Stargardzka zaprasza na spotkanie autorskie z Renatą Teresą Korek\, autorką tomiku poetyckiego „Wojenna jaskółka” w ramach cyklu Spotkania z poezją – słowem i muzyką malowane.  \nWydarzenie odbędzie się w czwartek\, 19 marca o godz. 17\, w Czytelni Głównej Książnicy Stargardzkiej. Wstęp jest bezpłatny. \nRenata Korek jest poetką i animatorką kultury od lat związaną z Pomorzem. W swojej twórczości często sięga do tematów pamięci\, tożsamości i doświadczeń ludzi żyjących w czasach wielkich zmian. „Wojenna jaskółka” to jeden z najbardziej poruszających przykładów takiej literackiej refleksji. Podczas spotkania będzie można posłuchać fragmentów wierszy\, porozmawiać z autorką o inspiracjach i o tym\, jak powstaje poezja będąca świadectwem współczesnych wydarzeń. Tomik ukazał się nakładem Książnicy Pomorskiej. \n„Wiosenna jaskółka” – to wyjątkowa książka – zbiór wierszy będących literacką reakcją na wydarzenia związane z wojną w Ukrainie. Autorka zapisuje w nich emocje\, obrazy i historie ludzi dotkniętych konfliktem. Jej poezja staje się próbą uchwycenia tego\, co często trudno wyrazić wprost: lęku\, tęsknoty za domem\, ale też nadziei i solidarności. \nInf. organizatora
URL:https://infostargard.pl/event/spotkanie-autorskie-z-renata-teresa-korek/
LOCATION:Czytelnia Główna Książnicy Stargardzkiej
END:VEVENT
BEGIN:VEVENT
DTSTART;TZID=Europe/Helsinki:20260319T170000
DTEND;TZID=Europe/Helsinki:20260319T170000
DTSTAMP:20260419T173517
CREATED:20260319T102316Z
LAST-MODIFIED:20260319T103113Z
UID:41321-1773939600-1773939600@infostargard.pl
SUMMARY:Pianistyczne dialogi - koncert w PSM w Stargardzie
DESCRIPTION:19 marca w Państwowej Szkole Muzycznej I i II st. w Stargardzie odbędzie się koncert z cyklu „Pianistyczne dialogi”. \nW koncercie wystąpią uczniowie klas fortepianu reprezentujący trzy szkoły muzyczne:  Zespół Państwowych Szkół Muzycznych im. F. Nowowiejskiego w Szczecinie\, Państwową Szkołę Muzyczną I i II stopnia im. W. Lutosławskiego w Stargardzie i Ogólnokształcącą Szkołę Muzyczną I stopnia w Stargardzie.
URL:https://infostargard.pl/event/pianistyczne-dialogi-koncert/
LOCATION:PSM I I II st. w Stargardzie
END:VEVENT
BEGIN:VEVENT
DTSTART;TZID=Europe/Helsinki:20260319T180000
DTEND;TZID=Europe/Helsinki:20260319T180000
DTSTAMP:20260419T173517
CREATED:20260313T082739Z
LAST-MODIFIED:20260319T075446Z
UID:40847-1773943200-1773943200@infostargard.pl
SUMMARY:Wernisaż wystawy poplenerowej - Tychowo 26
DESCRIPTION:19 marca w Stargardzkim Centrum Kultury odbędzie się wernisaż wystawy „Zimowy Plener Malarski Tychowo ’26” – druga odsłona wyjątkowego spotkania artystów i pasjonatów malarstwa z terenu Gminy Stargard. \nŚwietlica gminna w Tychowie ponownie stała się przestrzenią twórczej pracy\, wymiany doświadczeń i artystycznych poszukiwań. Pod okiem instruktora\, stargardzkiego artysty Piotra Kosmala\, uczestnicy\, w większości miłośnicy sztuki\, rozwijali swoje umiejętności\, odkrywając bogactwo technik akwareli i akrylu. Inspiracją dla powstałych prac były zimowe pejzaże okolic Tychowa\, uchwycone w indywidualnych\, pełnych wrażliwości interpretacjach. \n– Serdecznie zapraszamy na wernisaż wystawy poplenerowej\, podczas którego zaprezentowane zostaną efekty tej twórczej współpracy – zaprasza SCK. – To wyjątkowa okazja\, by zobaczyć\, jak lokalny krajobraz staje się źródłem artystycznej ekspresji oraz spotkać autorów prezentowanych prac.
URL:https://infostargard.pl/event/wernisaz-wystawy-poplenerowej-tychowo/
LOCATION:Galeria 108 SCK
END:VEVENT
BEGIN:VEVENT
DTSTART;TZID=Europe/Helsinki:20260319T190000
DTEND;TZID=Europe/Helsinki:20260319T190000
DTSTAMP:20260419T173517
CREATED:20260129T110711Z
LAST-MODIFIED:20260129T110940Z
UID:37035-1773946800-1773946800@infostargard.pl
SUMMARY:Koncert 10 Tenorów - Z miłości do kobiet
DESCRIPTION:Stargardzkie Centrum Kultury zaprasza na koncert 10 Tenorów – z miłości do kobiet\, który odbędzie się w czwartek\, 19 marca na Dużej Scenie SCK. Początek godz. 19.  \nBilety od 175 do 185 zł dostępne online lub w kasie kina. \n„10 Tenorów – Z miłości do kobiet” to najnowsza odsłona najwyżej ocenianego projektu muzycznego w swojej kategorii w Polsce. To potwierdzenie nie tylko skali przedsięwzięcia\, ale przede wszystkim konsekwentnie najwyższej jakości artystycznej i produkcyjnej. \n\n\nTrasa koncertowa 10 utalentowanych wokalistów gwarantuje pasję i uśmiech na twarzy. Najbardziej ekscytująca grupa wokalna 10 Tenorów zaśpiewa dosłownie wszystko – od najlepszych piosenek romantyczny pop\, ballad rockowych po utwory ludowe aż do arii operowej. Nic dziwnego – jest ich aż DZIESIĘCIU\, więc i repertuar szeroki i możliwości znaczące. Ale to przecież nie jest cała prawda o 10 Tenorach z Polski i Ukrainy – ważnym elementem jest perfekcja z jaką wykonują muzykę\, oraz skala talentu\, który pozwala na sięganie równocześnie do twórczości Johanna Straussa i Leonarda Cohena. Jakie są rezultaty tego spotkania – oceńcie Państwo sami… \nInf. organizatora
URL:https://infostargard.pl/event/koncert-10-tenorow-z-milosci-do-kobiet/
LOCATION:Duża Scena SCK
END:VEVENT
END:VCALENDAR