BEGIN:VCALENDAR
VERSION:2.0
PRODID:-//Info Stargard - ECPv6.15.20//NONSGML v1.0//EN
CALSCALE:GREGORIAN
METHOD:PUBLISH
X-ORIGINAL-URL:https://infostargard.pl
X-WR-CALDESC:Wydarzenia dla Info Stargard
REFRESH-INTERVAL;VALUE=DURATION:PT1H
X-Robots-Tag:noindex
X-PUBLISHED-TTL:PT1H
BEGIN:VTIMEZONE
TZID:Europe/Helsinki
BEGIN:DAYLIGHT
TZOFFSETFROM:+0200
TZOFFSETTO:+0300
TZNAME:EEST
DTSTART:20250330T010000
END:DAYLIGHT
BEGIN:STANDARD
TZOFFSETFROM:+0300
TZOFFSETTO:+0200
TZNAME:EET
DTSTART:20251026T010000
END:STANDARD
BEGIN:DAYLIGHT
TZOFFSETFROM:+0200
TZOFFSETTO:+0300
TZNAME:EEST
DTSTART:20260329T010000
END:DAYLIGHT
BEGIN:STANDARD
TZOFFSETFROM:+0300
TZOFFSETTO:+0200
TZNAME:EET
DTSTART:20261025T010000
END:STANDARD
BEGIN:DAYLIGHT
TZOFFSETFROM:+0200
TZOFFSETTO:+0300
TZNAME:EEST
DTSTART:20270328T010000
END:DAYLIGHT
BEGIN:STANDARD
TZOFFSETFROM:+0300
TZOFFSETTO:+0200
TZNAME:EET
DTSTART:20271031T010000
END:STANDARD
END:VTIMEZONE
BEGIN:VEVENT
DTSTART;TZID=Europe/Helsinki:20260318T160000
DTEND;TZID=Europe/Helsinki:20260318T160000
DTSTAMP:20260419T173516
CREATED:20260311T105231Z
LAST-MODIFIED:20260311T105402Z
UID:40740-1773849600-1773849600@infostargard.pl
SUMMARY:Spotkanie Dyskusyjnego Klubu Książki dla dorosłych
DESCRIPTION:W środę\, 18 marca o godz. 16\, w Sali Projekcyjnej Książnicy Stargardzkiej odbędzie się spotkanie Dyskusyjnego Klubu Książki dla dorosłych.  \nSpotkanie poświęcone będzie humoresce „Ta trzecia” autorstwa Henryka Sienkiewicza. Nowela w satyryczny sposób opisuje życie artystycznej cyganerii i zakłamanego mieszczaństwa. Utwór przedstawia historię dwóch ubogich malarzy\, Świateckiego i Magórskiego. \nWstęp na to wydarzenie jest bezpłatny.
URL:https://infostargard.pl/event/spotkanie-dyskusyjnego-klubu-ksiazki-dla-doroslych-2/
LOCATION:Sala projekcyjna Ksiąznicy Stargardzkiej
END:VEVENT
BEGIN:VEVENT
DTSTART;TZID=Europe/Helsinki:20260318T170000
DTEND;TZID=Europe/Helsinki:20260318T170000
DTSTAMP:20260419T173516
CREATED:20260318T061148Z
LAST-MODIFIED:20260318T061148Z
UID:41194-1773853200-1773853200@infostargard.pl
SUMMARY:Kolorowy świat w akwareli i akrylu - wernisaż wystawy Danuty Szudzichowskiej
DESCRIPTION:
URL:https://infostargard.pl/event/kolorowy-swiat-w-akwareli-i-akrylu-wernisaz-wystawy-danuty-szudzichowskiej/
LOCATION:CKiR w Kobylance
END:VEVENT
BEGIN:VEVENT
DTSTART;TZID=Europe/Helsinki:20260318T180000
DTEND;TZID=Europe/Helsinki:20260318T180000
DTSTAMP:20260419T173516
CREATED:20260304T102226Z
LAST-MODIFIED:20260304T102301Z
UID:40092-1773856800-1773856800@infostargard.pl
SUMMARY:Alibabki: Przepis na morderstwo
DESCRIPTION:Stargardzkie Centrum Kultury zaprasza na film pt. „Przepis na morderstwo” w ramach comiesięcznych spotkań Alibabki.  \nSeans odbędzie się w środę\, 18 marca o godz. 18\, na Dużej Scenie SCK. Bilety w cenie 40 zł. \nALIBABKI to comiesięczne spotkanie adresowane w szczególności dla kobiet\, choć nie jest to regułą.  Dla wszystkich gwarantujemy dobrą\, nie tylko filmową zabawę. Jest smaczny poczęstunek przygotowany przez naszych Partnerów\, a także prezenty\, vouchery\, zniżki na usługi i zakupy oraz świetny film. \nPrzez najbliższe pół roku (X.25 – III.26) cykl ALIBABKI będzie rozszerzony o projekt edukacyjny KLAPS! To druga edycja autorskiego projektu stworzonego przez prezes Kinads Media – Kingę Dołęgę we współpracy z dr n. med. Agnieszką Nalewczyńską\, dr nauk o zdrowiu i dietetyk kliniczną Hanną Stolińską\, a także Panią Agą Szuścik – edukatorką treści z zakresu ginekologii i onkologii. \nW tramach projektu KLAPS! Widzowie obejrzą 6 odcinków (każdy trwa 10 minut)\, poruszających kluczowe tematy związane ze zdrowiem\, kobiecością\, profilaktyką i innymi zagadnieniami związanymi z edukacją seksualną. Więcej na stronie: www.klaps.edu.pl \nWydziedziczony przez swoją bajecznie bogatą rodzinę Becket Redfellow (Glen Powell) postanawia za wszelką cenę odzyskać należną mu fortunę. Na drodze do celu stoi jednak „tylko” jedna przeszkoda – musi po kolei wyeliminować siedmioro krewnych. W bezwzględnej grze o pieniądze nie ma miejsca na skrupuły\, a każdy krok Becketa wciąga go coraz głębiej w niebezpieczną spiralę intryg i manipulacji. Jego działania splatają się w morderczo zabawną opowieść\, pełną nieprzewidywalnych zwrotów akcji\, tworzących perfekcyjnie poprowadzoną rozgrywkę. \nInf. organizatora
URL:https://infostargard.pl/event/alibabki-przepis-na-morderstwo/
LOCATION:Duża Scena SCK
END:VEVENT
END:VCALENDAR