BEGIN:VCALENDAR
VERSION:2.0
PRODID:-//Info Stargard - ECPv6.15.20//NONSGML v1.0//EN
CALSCALE:GREGORIAN
METHOD:PUBLISH
X-ORIGINAL-URL:https://infostargard.pl
X-WR-CALDESC:Wydarzenia dla Info Stargard
REFRESH-INTERVAL;VALUE=DURATION:PT1H
X-Robots-Tag:noindex
X-PUBLISHED-TTL:PT1H
BEGIN:VTIMEZONE
TZID:Europe/Helsinki
BEGIN:DAYLIGHT
TZOFFSETFROM:+0200
TZOFFSETTO:+0300
TZNAME:EEST
DTSTART:20250330T010000
END:DAYLIGHT
BEGIN:STANDARD
TZOFFSETFROM:+0300
TZOFFSETTO:+0200
TZNAME:EET
DTSTART:20251026T010000
END:STANDARD
BEGIN:DAYLIGHT
TZOFFSETFROM:+0200
TZOFFSETTO:+0300
TZNAME:EEST
DTSTART:20260329T010000
END:DAYLIGHT
BEGIN:STANDARD
TZOFFSETFROM:+0300
TZOFFSETTO:+0200
TZNAME:EET
DTSTART:20261025T010000
END:STANDARD
BEGIN:DAYLIGHT
TZOFFSETFROM:+0200
TZOFFSETTO:+0300
TZNAME:EEST
DTSTART:20270328T010000
END:DAYLIGHT
BEGIN:STANDARD
TZOFFSETFROM:+0300
TZOFFSETTO:+0200
TZNAME:EET
DTSTART:20271031T010000
END:STANDARD
END:VTIMEZONE
BEGIN:VEVENT
DTSTART;TZID=Europe/Helsinki:20260312T160000
DTEND;TZID=Europe/Helsinki:20260312T160000
DTSTAMP:20260419T173516
CREATED:20260311T092853Z
LAST-MODIFIED:20260311T092909Z
UID:40718-1773331200-1773331200@infostargard.pl
SUMMARY:„Pętelkowe” szaleństwo – zrób to sam! – warsztaty robótek ręcznych dla początkujących
DESCRIPTION:Miłośnicy rękodzieła i osoby\, które chcą spróbować swoich sił w robótkach ręcznych\, będą miały ku temu dobrą okazję. Książnica Stargardzka zaprasza na warsztaty pt. „Pętelkowe szaleństwo – zrób to sam” skierowane do początkujących.  \nPodczas spotkania uczestnicy poznają podstawy robótek z włóczki i wykonają proste projekty w przyjaznej\, twórczej atmosferze. Warsztaty odbędą się w czwartek\, 12 marca o godz. 16\, w Filii nr 2 na osiedlu Lotnisko. \nWstęp jest bezpłatny.
URL:https://infostargard.pl/event/petelkowe-szalenstwo-zrob-to-sam-warsztaty-robotek-recznych-dla-poczatkujacych/
LOCATION:Filia nr 2\, Książnica Stargardzka
END:VEVENT
BEGIN:VEVENT
DTSTART;TZID=Europe/Helsinki:20260312T160000
DTEND;TZID=Europe/Helsinki:20260312T160000
DTSTAMP:20260419T173516
CREATED:20260311T115509Z
LAST-MODIFIED:20260311T122705Z
UID:40769-1773331200-1773331200@infostargard.pl
SUMMARY:Lekcja obywatelska z wojewodą
DESCRIPTION:Wojewodowie Adam Rudawski\, Bartosz Brożyński\, wicewojewoda Zachodniopomorski i Dawid Krystek ruszają w region z cyklem otwartych spotkań z mieszkańcami. Taka lekcja obywatelska w Stargardzie odbędzie się 12 marca w starostwie o godz. 16.   \n–Zapraszamy mieszkańców regionu na cykl spotkań edukacyjnych dotyczących bezpieczeństwa i przygotowania na sytuacje kryzysowe – informuje Agnieszka Wilk ze Starostwa Powiatowego w Stargardzie. – Podczas spotkania uczestnicy dowiedzą się m.in. jak spakować plecak ewakuacyjny\, jak rozpoznawać systemy alarmowe i czym jest system RSO oraz jak z niego korzystać. Podczas wydarzenia poruszone zostaną również kwestie ustawy o ochronie ludności i ochronie cywilnej oraz praktyczne porady na wypadek ewakuacji i innych sytuacji kryzysowych.
URL:https://infostargard.pl/event/lekcja-obywatelska-z-wojewoda/
LOCATION:Skarbowa 1\, Starostwo Powiatowe w Stargardzie
END:VEVENT
BEGIN:VEVENT
DTSTART;TZID=Europe/Helsinki:20260312T170000
DTEND;TZID=Europe/Helsinki:20260312T170000
DTSTAMP:20260419T173516
CREATED:20260304T101214Z
LAST-MODIFIED:20260304T101331Z
UID:40084-1773334800-1773334800@infostargard.pl
SUMMARY:CSKF: Dobry chłopiec
DESCRIPTION:W ramach Czwartkowych Spotkań Klubu Filmowego\, Stargardzkie Centrum Kultury zaprasza na seans filmu pt. „Dobry chłopiec”.  \nSeans odbędzie się w czwartek\, 12 marca o godz. 17\, w sali nr 2 SCK. Gościem CSKF będzie aktorka Monika Frajczak\, grająca jedną z głównych ról w najnowszym filmie Jana Komasy „Dobry chłopiec”\, znana m.in. z „Zielonej Góry” Al. Holland. \nRozmowę po seansie przeprowadzi dziennikarz filmowy\, Krzysztof Spór. Bilet z kartą członkowską kosztuje 12 zł\, normalny 17 zł. \nNajnowszy film Jana Komasy to opowieść\, która wciąga od pierwszych minut w kalejdoskop wieloznaczności i prowokuje do głębokiej refleksji. Historia\, która wodzi za nos czarnym humorem\, a jednocześnie zadaje wiele trudnych pytań o granice moralności\, nie dając jednoznacznych odpowiedzi. Zmusza do konfrontacji z własnymi przekonaniami i nikogo nie pozostawia obojętnym. \nInf. organizatora
URL:https://infostargard.pl/event/cskf-dobry-chlopiec/
LOCATION:Sala nr 2 – Piwnica Artystyczna
END:VEVENT
BEGIN:VEVENT
DTSTART;TZID=Europe/Helsinki:20260312T170000
DTEND;TZID=Europe/Helsinki:20260312T170000
DTSTAMP:20260419T173516
CREATED:20260304T120441Z
LAST-MODIFIED:20260311T185858Z
UID:40131-1773334800-1773334800@infostargard.pl
SUMMARY:Spotkanie literackie z pisarką Elżbietą Downarowicz
DESCRIPTION:Biblioteka Publiczna w Marianowie z okazji Dnia Kobiet zaprasza na spotkanie literackie z pisarką Elżbietą Downarowicz.  \nWydarzenie odbędzie się w czwartek\, 12 marca o godz. 17\, w Bibliotece Publicznej w Marianowie.
URL:https://infostargard.pl/event/spotkanie-literackie-z-pisarka-elzbieta-downarowicz/
LOCATION:Biblioteka Publiczna w Marianowie
END:VEVENT
BEGIN:VEVENT
DTSTART;TZID=Europe/Helsinki:20260312T170000
DTEND;TZID=Europe/Helsinki:20260312T170000
DTSTAMP:20260419T173516
CREATED:20260311T085254Z
LAST-MODIFIED:20260311T085401Z
UID:40694-1773334800-1773334800@infostargard.pl
SUMMARY:Przedstawienie "Ukryty ból" w wykonaniu Teatru Magiczna Scena
DESCRIPTION:Filia nr 2 Książnicy Stargardzkiej zaprasza dzieci\, młodzież\, rodziców i nauczycieli na poruszające przedstawienie pt. „Ukryty ból” w wykonaniu Teatru Magiczna Scena.  \nSpektakl odbędzie się w najbliższy czwartek\, 12 marca o godz. 12\, w sali gimnastycznej Zespołu Szkół nr 5. Wydarzenie ma charakter otwarty\, wstęp jest bezpłatny. \n– To historia młodego chłopca\, który próbuje odnaleźć się w świecie pełnym niezrozumienia\, w domu\, w szkole i w relacjach z rówieśnikami – informują organizatorzy. – Spektakl w przystępny\, ale bardzo mocny sposób dotyka tematów\, które niestety wciąż są obecne w życiu wielu młodych ludzi: przemocy domowej\, odrzucenia\, samotności czy trudności w komunikacji. To nie tylko teatr – to opowieść\, która skłania do refleksji i rozmowy. O tym\, jak ważna jest uważność na drugiego człowieka\, gdzie szukać pomocy i dlaczego czasem jeden gest wsparcia może zmienić bardzo wiele \nZadanie realizowane w ramach Miejskiego programu profilaktyki i rozwiązywania problemów alkoholowych oraz przeciwdziałania narkomanii dla Miasta Stargard na lata 2026-2029.
URL:https://infostargard.pl/event/przedstawienie-ukryty-bol-w-wykonaniu-teatru-magiczna-scena/
LOCATION:Sala gimnastyczna Zespołu Szkół nr 5
END:VEVENT
BEGIN:VEVENT
DTSTART;TZID=Europe/Helsinki:20260312T170000
DTEND;TZID=Europe/Helsinki:20260312T170000
DTSTAMP:20260419T173516
CREATED:20260311T091929Z
LAST-MODIFIED:20260311T092120Z
UID:40708-1773334800-1773334800@infostargard.pl
SUMMARY:„Podwójny ślub. Potrójny rozwód” – Głosy Ziemi z Sylwią Wyszomirską
DESCRIPTION:Książnica Stargardzka zaprasza na kolejne spotkanie z cyklu „Głosy Ziemi”\, podczas którego uczestnicy poznają kultury\, tradycje oraz społeczne zjawiska z różnych zakątków świata. Tym razem tematem rozmowy będą małżeństwo i rozwód w świecie islamu.  \nWydarzenie odbędzie się w czwartek\, 12 marca o godz. 17\, w Czytelni Głównej Książnicy Stargardzkiej. \nGościem spotkania będzie Sylwia Wyszomirska\, która przybliży wszystkim temat zatytułowany „Podwójny ślub\, potrójny rozwód”. Spotkanie poświęcone będzie m.in. różnicom między małżeństwem pełnym a czasowym w tradycji sunnickiej i szyickiej oraz historycznym i religijnym podstawom tych instytucji. Uczestnicy dowiedzą się również\, gdzie przebiega granica między tradycją a nadużyciem\, dlaczego małżeństwa czasowe bywają przedmiotem kontrowersji oraz czym jest mehr – ważny element kontraktu małżeńskiego w kulturze muzułmańskiej. \nNie zabraknie także rozmowy o tzw. potrójnym rozwodzie oraz o tym\, jakie prawa w kwestii zakończenia małżeństwa przysługują kobietom w świecie islamu. \n– Warto przyjść i przekonać się jak wartościowe i arcyciekawe są te spotkania – zachęcają organizatorzy. – Czekamy na Was! Do zobaczenia.
URL:https://infostargard.pl/event/podwojny-slub-potrojny-rozwod-glosy-ziemi-z-sylwia-wyszomirska/
LOCATION:Czytelnia Główna Książnicy Stargardzkiej
END:VEVENT
END:VCALENDAR