BEGIN:VCALENDAR
VERSION:2.0
PRODID:-//Info Stargard - ECPv6.15.20//NONSGML v1.0//EN
CALSCALE:GREGORIAN
METHOD:PUBLISH
X-ORIGINAL-URL:https://infostargard.pl
X-WR-CALDESC:Wydarzenia dla Info Stargard
REFRESH-INTERVAL;VALUE=DURATION:PT1H
X-Robots-Tag:noindex
X-PUBLISHED-TTL:PT1H
BEGIN:VTIMEZONE
TZID:Europe/Helsinki
BEGIN:DAYLIGHT
TZOFFSETFROM:+0200
TZOFFSETTO:+0300
TZNAME:EEST
DTSTART:20250330T010000
END:DAYLIGHT
BEGIN:STANDARD
TZOFFSETFROM:+0300
TZOFFSETTO:+0200
TZNAME:EET
DTSTART:20251026T010000
END:STANDARD
BEGIN:DAYLIGHT
TZOFFSETFROM:+0200
TZOFFSETTO:+0300
TZNAME:EEST
DTSTART:20260329T010000
END:DAYLIGHT
BEGIN:STANDARD
TZOFFSETFROM:+0300
TZOFFSETTO:+0200
TZNAME:EET
DTSTART:20261025T010000
END:STANDARD
BEGIN:DAYLIGHT
TZOFFSETFROM:+0200
TZOFFSETTO:+0300
TZNAME:EEST
DTSTART:20270328T010000
END:DAYLIGHT
BEGIN:STANDARD
TZOFFSETFROM:+0300
TZOFFSETTO:+0200
TZNAME:EET
DTSTART:20271031T010000
END:STANDARD
END:VTIMEZONE
BEGIN:VEVENT
DTSTART;TZID=Europe/Helsinki:20260311T140000
DTEND;TZID=Europe/Helsinki:20260311T153000
DTSTAMP:20260419T173516
CREATED:20260205T130313Z
LAST-MODIFIED:20260210T064106Z
UID:37729-1773237600-1773243000@infostargard.pl
SUMMARY:Opto - Bus w Starej Dąbrowie
DESCRIPTION:
URL:https://infostargard.pl/event/opto-bus-w-starej-dabrowie/
LOCATION:Parking przy OSP Stara Dąbrowa
END:VEVENT
BEGIN:VEVENT
DTSTART;TZID=Europe/Helsinki:20260311T163000
DTEND;TZID=Europe/Helsinki:20260311T180000
DTSTAMP:20260419T173516
CREATED:20260216T133801Z
LAST-MODIFIED:20260216T133801Z
UID:38629-1773246600-1773252000@infostargard.pl
SUMMARY:OPTObus w Marianowie
DESCRIPTION:
URL:https://infostargard.pl/event/optobus-w-marianowie/
LOCATION:parking przy UG w Marianowie
END:VEVENT
BEGIN:VEVENT
DTSTART;TZID=Europe/Helsinki:20260311T190000
DTEND;TZID=Europe/Helsinki:20260311T190000
DTSTAMP:20260419T173516
CREATED:20260107T100511Z
LAST-MODIFIED:20260107T100625Z
UID:34423-1773255600-1773255600@infostargard.pl
SUMMARY:Stand-up: Daniel Midas\, Złote Myśli
DESCRIPTION:Stargardzkie Centrum Kultury zaprasza na komediowy program Daniela Midasa pt. „Złote Myśli”.  \nWystęp odbędzie się w środę\, 11 marca o godz. 19\, na Dużej Scenie SCK. Bilety w cenie 99 zł. Gwiazda wieczoru wystąpi support. \nDaniel Midas – odkrycie roku 2022. Komik\, którego „Szopkę dla reportera” oglądają już chyba wszyscy. Jego internetową twórczość możecie sprawdzić na wszystkich popularnych portalach społecznościowych i przekonać się\, że tak szybko nie rozbawił Was jeszcze nikt Najnowszy program \nDaniela Midasa- Złote Myśli\, to już jego trzeci materiał stand-upowy. Daniel porusza w nim złote historie ze swojego życia i nie tylko. Musicie je usłyszeć! \nPrywatnie – Daniel to bardzo pozytywny i zawsze uśmiechnięty chłopak. Gość ma dwa metry wzrostu\, więc jak go poprosicie\, to pewnie zdejmie Wam coś z górnej półki. \nInf. organizatora
URL:https://infostargard.pl/event/stand-up-daniel-midas-zlote-mysli/
LOCATION:Duża Scena SCK
END:VEVENT
END:VCALENDAR