BEGIN:VCALENDAR
VERSION:2.0
PRODID:-//Info Stargard - ECPv6.15.20//NONSGML v1.0//EN
CALSCALE:GREGORIAN
METHOD:PUBLISH
X-ORIGINAL-URL:https://infostargard.pl
X-WR-CALDESC:Wydarzenia dla Info Stargard
REFRESH-INTERVAL;VALUE=DURATION:PT1H
X-Robots-Tag:noindex
X-PUBLISHED-TTL:PT1H
BEGIN:VTIMEZONE
TZID:Europe/Helsinki
BEGIN:DAYLIGHT
TZOFFSETFROM:+0200
TZOFFSETTO:+0300
TZNAME:EEST
DTSTART:20250330T010000
END:DAYLIGHT
BEGIN:STANDARD
TZOFFSETFROM:+0300
TZOFFSETTO:+0200
TZNAME:EET
DTSTART:20251026T010000
END:STANDARD
BEGIN:DAYLIGHT
TZOFFSETFROM:+0200
TZOFFSETTO:+0300
TZNAME:EEST
DTSTART:20260329T010000
END:DAYLIGHT
BEGIN:STANDARD
TZOFFSETFROM:+0300
TZOFFSETTO:+0200
TZNAME:EET
DTSTART:20261025T010000
END:STANDARD
BEGIN:DAYLIGHT
TZOFFSETFROM:+0200
TZOFFSETTO:+0300
TZNAME:EEST
DTSTART:20270328T010000
END:DAYLIGHT
BEGIN:STANDARD
TZOFFSETFROM:+0300
TZOFFSETTO:+0200
TZNAME:EET
DTSTART:20271031T010000
END:STANDARD
END:VTIMEZONE
BEGIN:VEVENT
DTSTART;TZID=Europe/Helsinki:20260310T080000
DTEND;TZID=Europe/Helsinki:20260310T080000
DTSTAMP:20260419T173517
CREATED:20260303T081622Z
LAST-MODIFIED:20260304T101555Z
UID:39922-1773129600-1773129600@infostargard.pl
SUMMARY:Zwyczajne Wakacje - seans dla szkół
DESCRIPTION:#MmW to zespół młodych ludzi między 16 a 20 rokiem życia\, którego celem jest pokazywanie\, że młodzi ludzie mogą realizować duże i ambitne projekty już w młodym wieku. Przez ostatnie miesiące nagrywaliśmy 30-minutowy film krótkometrażowy\, który w połączeniu z wydarzeniem #MmW jest idealną okazją na szkolne wyjście do kina\, podczas którego młodzi ludzie będą mieli okazje porozmawiać o pasji\, rozwoju i sile oraz poczuciu wartości jakie daje nam pasja \nNa samą produkcję poświęciliśmy około 400 godzin pracy około 20-osobowego zespołu\, a to tylko początek ciekawych liczb jakie możemy przedstawić! Nasza produkcja zawiera także wątki i prelekcje przygotowane we współpracy z Zachodniopomorskim Instytutem Psychoterapii. Jeśli jesteście zainteresowani naszym wydarzeniem lub macie jakieś pytania piszcie do nas na maila:\nmlodzi.moga.wiecej.mmw@gmail.com \nOBECNIE DZIAŁAMY NA TERENIE STARGARDU\, W NAJBLIŻSZYCH MIESIĄCACH NASZE DZIAŁANIA POSZERZYMY O SZCZECIN I KOŁOBRZEG. Więcej na https://mlodzimogawiecej.myportfolio.com/ \nInf. organizatora
URL:https://infostargard.pl/event/zwyczajne-wakacje-seans-dla-szkol/
LOCATION:Stargardzkie Centrum Kultury
END:VEVENT
BEGIN:VEVENT
DTSTART;TZID=Europe/Helsinki:20260310T110000
DTEND;TZID=Europe/Helsinki:20260310T110000
DTSTAMP:20260419T173517
CREATED:20260224T093102Z
LAST-MODIFIED:20260224T093224Z
UID:39365-1773140400-1773140400@infostargard.pl
SUMMARY:Spotkanie z okazji Dnia Kobiet w SCK
DESCRIPTION:Zarząd Uniwersytetu Trzeciego Wieku w Stargardzie zaprasza studentów na spotkanie z okazji Dnia Kobiet\, które odbędzie się we wtorek\, 10 marca o godz. 11\, na Małej Scenie SCK.    \nJak informują organizatorzy\, z uwagi na ograniczoną ilość miejsc obowiązują zapisy w biurze u Bożenki. Wpłata symbolicznie 10 zł.
URL:https://infostargard.pl/event/spotkanie-z-okazji-dnia-kobiet-w-sck/
LOCATION:Mała Scena SCK
END:VEVENT
BEGIN:VEVENT
DTSTART;TZID=Europe/Helsinki:20260310T160000
DTEND;TZID=Europe/Helsinki:20260310T160000
DTSTAMP:20260419T173517
CREATED:20260304T113254Z
LAST-MODIFIED:20260304T113503Z
UID:40116-1773158400-1773158400@infostargard.pl
SUMMARY:Lotniskowe Czytanki
DESCRIPTION:Książnica Stargardzka zaprasza na inspirujące zajęcia czytelniczo-kreatywne\, które odbędą się we wtorek\, 10 marca o godz. 16\, w Filii nr 2 na osiedlu Lotnisko.  \nDla kogo? Dla dzieci ciekawych świata\, pełnych wyobraźni i chętnych do zabawy z książką. \nPodczas lotniskowych czytanek: \n\nwspólnie czytamy ciekawe opowiadania\,\ntworzymy scenki z klocków i różnych materiałów\,\nrozwiązujemy zagadki detektywistyczne i łamigłówki\,\nćwiczymy logiczne myślenie i kreatywność\,\npoznajemy podstawy kodowania offline\,\noglądamy i tworzymy teatrzyki Kamishibai\, kukiełkowe i pacynkowe\,\nwykonujemy proste\, bezpieczne eksperymenty naukowe.\n\nZajęcia odbywają się w każdy wtorek o godz. 16:30 w filii nr 2 Książnicy Stargardzkiej. Wszystkie dzieci są mile widziane. Nie obowiązują wcześniejsze zapisy a udział jest całkowicie bezpłatny. \nInf. organizatora \n  \n\n\n\n\n\n\n\n\n  \n 
URL:https://infostargard.pl/event/lotniskowe-czytanki/
LOCATION:Filia nr 2\, Książnica Stargardzka
END:VEVENT
BEGIN:VEVENT
DTSTART;TZID=Europe/Helsinki:20260310T160000
DTEND;TZID=Europe/Helsinki:20260310T170000
DTSTAMP:20260419T173517
CREATED:20260216T133622Z
LAST-MODIFIED:20260216T133622Z
UID:38625-1773158400-1773162000@infostargard.pl
SUMMARY:OPTObus w Kobylance
DESCRIPTION:
URL:https://infostargard.pl/event/optobus-w-kobylance/
LOCATION:parking przy CKiR
END:VEVENT
BEGIN:VEVENT
DTSTART;TZID=Europe/Helsinki:20260310T170000
DTEND;TZID=Europe/Helsinki:20260310T170000
DTSTAMP:20260419T173517
CREATED:20260304T095847Z
LAST-MODIFIED:20260311T084129Z
UID:40081-1773162000-1773162000@infostargard.pl
SUMMARY:"Świnia czy cielę" - wykład dr Marcina Majewskiego w ramach cyklu Stargardiana
DESCRIPTION:Książnica Stargardzka zaprasza na kolejne spotkanie z cyklu „Stargardiana”. Tym razem uczestnicy przeniosą się w świat dawnych ksiąg i rzemiosła introligatorskiego. Wykład pt. „Świnia czy cielę” Introligatorstwo pomorskie XV-XVII w. wygłosi dr hab. prof. US Marcin Majewski. \nSpotkanie odbędzie się we wtorek\, 10 marca o godz. 17\, w Sali Projekcyjnej Książnicy Stargardzkiej. \nPodczas spotkania będzie można dowiedzieć się\, jakich materiałów używano do oprawy ksiąg przed kilkoma stuleciami\, czym różniły się warsztaty działające na Pomorzu oraz jakie znaczenie miały detale zdobnicze i konstrukcyjne dawnych opraw. \n– Jeśli kochasz historię\, książki i detale\, które przetrwały setki lat\, nie może Cię zabraknąć – zachęcają organizatorzy. – Wstęp jest bezpłatny. 
URL:https://infostargard.pl/event/spotkanie-z-cyklu-stargardiana/
LOCATION:Sala projekcyjna Ksiąznicy Stargardzkiej
END:VEVENT
BEGIN:VEVENT
DTSTART;TZID=Europe/Helsinki:20260310T180000
DTEND;TZID=Europe/Helsinki:20260310T180000
DTSTAMP:20260419T173517
CREATED:20260304T114130Z
LAST-MODIFIED:20260304T114229Z
UID:40120-1773165600-1773165600@infostargard.pl
SUMMARY:Zajęcia taneczne dla kobiet w Marianowie
DESCRIPTION:Biblioteka Publiczna w Marianowie zaprasza wszystkie chętne Panie na zajęcia taneczne\, które odbywać się będą w każdy wtorek\, w budynku Domu Kultury w Marianowie.  \nStart 10 marca o godz. 18. Wstęp jest wolny.
URL:https://infostargard.pl/event/zajecia-taneczne-dla-kobiet-w-marianowie/
LOCATION:Budynek Domu Kultury w Marianowie
END:VEVENT
END:VCALENDAR