BEGIN:VCALENDAR
VERSION:2.0
PRODID:-//Info Stargard - ECPv6.15.20//NONSGML v1.0//EN
CALSCALE:GREGORIAN
METHOD:PUBLISH
X-ORIGINAL-URL:https://infostargard.pl
X-WR-CALDESC:Wydarzenia dla Info Stargard
REFRESH-INTERVAL;VALUE=DURATION:PT1H
X-Robots-Tag:noindex
X-PUBLISHED-TTL:PT1H
BEGIN:VTIMEZONE
TZID:Europe/Helsinki
BEGIN:DAYLIGHT
TZOFFSETFROM:+0200
TZOFFSETTO:+0300
TZNAME:EEST
DTSTART:20250330T010000
END:DAYLIGHT
BEGIN:STANDARD
TZOFFSETFROM:+0300
TZOFFSETTO:+0200
TZNAME:EET
DTSTART:20251026T010000
END:STANDARD
BEGIN:DAYLIGHT
TZOFFSETFROM:+0200
TZOFFSETTO:+0300
TZNAME:EEST
DTSTART:20260329T010000
END:DAYLIGHT
BEGIN:STANDARD
TZOFFSETFROM:+0300
TZOFFSETTO:+0200
TZNAME:EET
DTSTART:20261025T010000
END:STANDARD
BEGIN:DAYLIGHT
TZOFFSETFROM:+0200
TZOFFSETTO:+0300
TZNAME:EEST
DTSTART:20270328T010000
END:DAYLIGHT
BEGIN:STANDARD
TZOFFSETFROM:+0300
TZOFFSETTO:+0200
TZNAME:EET
DTSTART:20271031T010000
END:STANDARD
END:VTIMEZONE
BEGIN:VEVENT
DTSTART;TZID=Europe/Helsinki:20260308T100000
DTEND;TZID=Europe/Helsinki:20260308T100000
DTSTAMP:20260419T173519
CREATED:20260303T081952Z
LAST-MODIFIED:20260304T092427Z
UID:39925-1772964000-1772964000@infostargard.pl
SUMMARY:Rowerowy Dzień Kobiet
DESCRIPTION:Stowarzyszenie Stargard na Rowery zaprasza wszystkich rowerzystów\, a szczególnie kobiety małe i duże na Rowerowy Dzień Kobiet. Jest to cykliczna impreza organizowana od kilku lat.  \nZbiórka o godz. 10 przy Bramie Pyrzyckiej. \nUdział w wycieczce/rajdzie jest równoznaczny z akceptacją nw. regulaminu: Regulamin obowiązuje na wszystkich wycieczkach/wydarzeniach Stowarzyszenia „Stargard na Rowery” w 2026 roku: \n1. „Stargard na Rowery” jest tylko inicjatorem wycieczek.\n2. „Stargard na Rowery” nie ponosi odpowiedzialności za żadnego z uczestników wyjazdu.\n3. Każda osoba\, która bierze udział w wyjeździe\, robi to na własną odpowiedzialność.\n4. W wyjeździe mogą uczestniczyć osoby małoletnie jedynie pod opieką pełnoletniego opiekuna.\n5. Uczestników obowiązują przepisy ruchu drogowego obowiązujące na terytorium Polski.\n6. Rower musi spełniać wymogi odpowiednich przepisów prawnych obowiązujących w Polsce.\n7. Stowarzyszenie zaleca aby uczestnicy wycieczki posiadali kask rowerowy\n8. Ubezpieczenie we własnym zakresie.\n9. Uczestnik wyraża zgodę na rozpowszechnianie swojego wizerunku w postaci zdjęć i filmów poprzez publikację na stronie: Stowarzyszenie „Stargard na Rowery” oraz innych.\n10. Zabrania się wyprzedzania osoby wyznaczonej do prowadzenia grupy na czele.\n11. Uczestnicy przejazdu zobowiązani są do wykonywania próśb i poleceń osób wyznaczonych.\n12. Niestosowanie się do powyższego regulaminu w trakcie rajdu/wycieczki skutkowało będzie wykluczeniem z udziału w wydarzeniu.
URL:https://infostargard.pl/event/rowerowy-dzien-kobiet/
LOCATION:Zbiórka przy Bramie Pyrzyckiej
END:VEVENT
BEGIN:VEVENT
DTSTART;TZID=Europe/Helsinki:20260308T120000
DTEND;TZID=Europe/Helsinki:20260308T184500
DTSTAMP:20260419T173519
CREATED:20260305T075240Z
LAST-MODIFIED:20260305T075250Z
UID:40136-1772971200-1772995500@infostargard.pl
SUMMARY:Dzień Kobiet w Ińskim Centrum Kultury
DESCRIPTION:Dzień Kobiet w harmonii z ciałem i duchem. Wyjątkowe warsztaty już 8 marca. \n\n\n\n\n\n\n\n\n\n\nZ okazji Dnia Kobiet\, w niedzielę 8 marca\, w godzinach 12.00–19.00 w Ińskim Centrum Kultury odbędzie się wyjątkowe wydarzenie skierowane do wszystkich kobiet\, które chcą zatrzymać się na chwilę i poświęcić czas wyłącznie sobie. Organizatorzy zapraszają na dzień pełen wyciszenia\, refleksji oraz spotkań w atmosferze wzajemnego wsparcia. \nWydarzenie zostało stworzone przez kobiety i z myślą o kobietach. Ma być przestrzenią sprzyjającą odpoczynkowi\, uważności oraz odkrywaniu własnej siły\, wrażliwości i intuicji. Uczestniczki będą mogły zadbać zarówno o ciało\, jak i o wewnętrzną równowagę. W programie znalazło się kilka różnorodnych warsztatów rozwojowych i relaksacyjnych. Jednym z nich będzie spotkanie „W harmonii ze sobą”\, które poprowadzi naturoterapeutka Edyta Arendt. Podczas warsztatów uczestniczki będą pracować z emocjami\, intencjami oraz uczyć się słuchać głosu własnego serca\, aby budować świadome życie w zgodzie ze sobą. Kolejną propozycją będą warsztaty automasażu twarzy z efektem liftingującym prowadzone przez Paulinę Karol – ekspertkę naturalnych metod odmładzania. Uczestniczki poznają techniki pozwalające wydobyć naturalne piękno i zadbać o kondycję skóry bez ingerencji chirurgicznej. \nW programie znalazły się również warsztaty refleksologii „Mapa zdrowia na Twoich stopach”\, które poprowadzi Monika Stachowiak-Narożańska. Podczas spotkania uczestniczki poznają punkty refleksyjne na stopach i dłoniach oraz nauczą się technik masażu wspierających zdrowie i przywracających harmonię w organizmie. \nNie zabraknie także zajęć oddechowych. Warsztaty „Moc świadomego oddechu”\, prowadzone przez Jowitę Modrzakowską z Jogi Bliskości\, pozwolą uczestniczkom poznać prawidłowe techniki oddychania pomagające redukować napięcia i regenerować siły życiowe. Zwieńczeniem dnia będzie relaksacyjna kąpiel w dźwięku – koncert mis i gongów tybetańskich w wykonaniu Małgorzaty Łukaszewicz z Pokój w Centrum. Kojące wibracje instrumentów wprowadzą uczestniczki w stan głębokiego wyciszenia i relaksu. \nOrganizatorzy podkreślają\, że będzie to dzień poświęcony dbaniu o siebie\, budowaniu wspólnoty i odnajdywaniu wewnętrznej równowagi. W przerwach między warsztatami zaplanowano poczęstunek\, a dla uczestniczek przygotowane zostaną drobne upominki. \nWszystkie warsztaty mają charakter otwarty i są bezpłatne. To doskonała okazja\, aby w Dniu Kobiet zatrzymać się na chwilę\, zadbać o siebie i spędzić czas w inspirującym kobiecym gronie.
URL:https://infostargard.pl/event/dzien-kobiet-w-inskim-centrum-kultury/
LOCATION:Ińskie Centrum Kultury
END:VEVENT
BEGIN:VEVENT
DTSTART;TZID=Europe/Helsinki:20260308T140000
DTEND;TZID=Europe/Helsinki:20260308T140000
DTSTAMP:20260419T173519
CREATED:20260225T082740Z
LAST-MODIFIED:20260225T082805Z
UID:39488-1772978400-1772978400@infostargard.pl
SUMMARY:Dzień Kobiet w Ściennem
DESCRIPTION:Sołtys Sołectwa Ścienne zaprasza wszystkie Panie na spotkanie z okazji Dnia Kobiet\, które odbędzie się w niedzielę\, 8 marca o godz. 14\, w świetlicy wiejskiej w Ściennem.  \nW programie pokaz makijażu\, poczęstunek a także miła atmosfera i wspólne świętowanie.
URL:https://infostargard.pl/event/dzien-kobiet-w-sciennem/
LOCATION:Świetlica wiejska w Ściennem
END:VEVENT
BEGIN:VEVENT
DTSTART;TZID=Europe/Helsinki:20260308T153000
DTEND;TZID=Europe/Helsinki:20260308T153000
DTSTAMP:20260419T173519
CREATED:20260122T105722Z
LAST-MODIFIED:20260122T105733Z
UID:35946-1772983800-1772983800@infostargard.pl
SUMMARY:Szalone nożyczki\, czyli kto zabił - spektakl w SCK
DESCRIPTION:Stargardzkie Centrum Kultury zaprasza na kryminalną komedię pt. „Szalone nożyczki – czyli kto zabił”.  \nSpektakl odbędzie się w niedzielę\, 8 marca w godz. 15:30 i 18:30 na Dużej Scenie SCK. Bilety od 100 do 150 zł dostępne w kasie kina lub online na stronie. \nSzalone nożyczki to niewątpliwy hit wśród sztuk teatralnych. W 1997 wpisano ją do światowej księgi rekordów Guinnessa jako najdłużej bez przerwy graną sztukę na scenach amerykańskich. \n\n\nAtrakcyjności tej komedii kryminalnej dodaje fakt\, że realizatorzy i wykonawcy zawsze sytuują akcję sztuki w danej chwili\, aby widzowie mogli rozpoznawać w przedstawieniu specyfikę swojego miasta\, jego instytucje oraz znanych mieszkańców. Dzięki temu publiczność ma okazję\, by stać się współwykonawcą naszego spektaklu i pomóc bohaterom w rozwiązywaniu kryminalnej zagadki. \nUwaga! Każdego wieczoru śledztwo może potoczyć się inaczej\, dlatego warto odwiedzić miejsce zbrodni więcej niż raz. \nInf. organizatora
URL:https://infostargard.pl/event/szalone-nozyczki-czyli-kto-zabil-spektakl-w-sck/
LOCATION:Duża Scena SCK
END:VEVENT
BEGIN:VEVENT
DTSTART;TZID=Europe/Helsinki:20260308T180000
DTEND;TZID=Europe/Helsinki:20260308T180000
DTSTAMP:20260419T173519
CREATED:20260304T111022Z
LAST-MODIFIED:20260304T111140Z
UID:40109-1772992800-1772992800@infostargard.pl
SUMMARY:Dzień Kobiet z Radomską - stand up
DESCRIPTION:W niedzielę\, 8 marca o godz. 18\, w Caffe Południk odbędzie się stand-up Aleksandry Radomskiej.  \nBilety dostępne w recepcji Południk Park Conference&SPA oraz w bileterii online https://www.kupbilecik.pl/…/Stargard/Aleksandra+Radomska/
URL:https://infostargard.pl/event/dzien-kobiet-z-radomska-stand-up/
LOCATION:Caffe Południk Music Club Bornholmska 48\, Stargard
END:VEVENT
BEGIN:VEVENT
DTSTART;TZID=Europe/Helsinki:20260308T180000
DTEND;TZID=Europe/Helsinki:20260308T200000
DTSTAMP:20260419T173519
CREATED:20260303T102930Z
LAST-MODIFIED:20260303T102930Z
UID:39961-1772992800-1773000000@infostargard.pl
SUMMARY:Mecz I ligi koszykówki. PGE Spójnia Stargard - Miners Katowice
DESCRIPTION:W dniu 08. marca 2026 r. (niedziela)\, w Hali OSiR przy ul. Pierwszej Brygady 1 w Stargardzie\, odbędzie się mecz w ramach 27. kolejki I ligi koszykówki\, pomiędzy PGE Spójnia Stargard\, a Miners Katowice.
URL:https://infostargard.pl/event/mecz-i-ligi-koszykowki-pge-spojnia-stargard-miners-katowice/
LOCATION:Hala OSiR\, ul. Pierwszej Brygady 1
END:VEVENT
BEGIN:VEVENT
DTSTART;TZID=Europe/Helsinki:20260308T190000
DTEND;TZID=Europe/Helsinki:20260308T190000
DTSTAMP:20260419T173519
CREATED:20260224T201719Z
LAST-MODIFIED:20260304T092950Z
UID:39453-1772996400-1772996400@infostargard.pl
SUMMARY:"... a nad nimi szumiał las..." - koncert Julity Kożuszek
DESCRIPTION:W niedzielę\, 8 marca o godz. 19\, w Parafii Chrystusa Króla w Stargardzie odbędzie się koncert Julity Kożuszek „… a nad nimi szumiał las…”\, poświęcony Żołnierzom Niezłomnym.  \nWydarzenie ma charakter autorskiego spektaklu muzycznego. \nZa scenariusz\, reżyserię oraz śpiew odpowiada Julita Kożuszek. Towarzyszyć jej będzie Maciej Szakiel\, który zagra na gitarze i perkusji. Artyści zapowiadają poruszającą\, nastrojową opowieść w której muzyka i słowo splatają się\, przywołując dramatyczne losy powojennego podziemia niepodległościowego. \nOrganizatorzy podkreślają\, że będzie to wieczór zadumy i pamięci\, ale także okazja do wspólnego przeżywania historii poprzez sztukę. \nWstęp na koncert jest biletowany. Koszt udziału wynosi 20 zł. \n \n 
URL:https://infostargard.pl/event/koncert-pamieci-w-parafii-chrystusa-krola-w-stargardzie/
LOCATION:Parafia pw. Chrystusa Króla w Stargardzie
END:VEVENT
END:VCALENDAR