BEGIN:VCALENDAR
VERSION:2.0
PRODID:-//Info Stargard - ECPv6.15.20//NONSGML v1.0//EN
CALSCALE:GREGORIAN
METHOD:PUBLISH
X-ORIGINAL-URL:https://infostargard.pl
X-WR-CALDESC:Wydarzenia dla Info Stargard
REFRESH-INTERVAL;VALUE=DURATION:PT1H
X-Robots-Tag:noindex
X-PUBLISHED-TTL:PT1H
BEGIN:VTIMEZONE
TZID:Europe/Helsinki
BEGIN:DAYLIGHT
TZOFFSETFROM:+0200
TZOFFSETTO:+0300
TZNAME:EEST
DTSTART:20250330T010000
END:DAYLIGHT
BEGIN:STANDARD
TZOFFSETFROM:+0300
TZOFFSETTO:+0200
TZNAME:EET
DTSTART:20251026T010000
END:STANDARD
BEGIN:DAYLIGHT
TZOFFSETFROM:+0200
TZOFFSETTO:+0300
TZNAME:EEST
DTSTART:20260329T010000
END:DAYLIGHT
BEGIN:STANDARD
TZOFFSETFROM:+0300
TZOFFSETTO:+0200
TZNAME:EET
DTSTART:20261025T010000
END:STANDARD
BEGIN:DAYLIGHT
TZOFFSETFROM:+0200
TZOFFSETTO:+0300
TZNAME:EEST
DTSTART:20270328T010000
END:DAYLIGHT
BEGIN:STANDARD
TZOFFSETFROM:+0300
TZOFFSETTO:+0200
TZNAME:EET
DTSTART:20271031T010000
END:STANDARD
END:VTIMEZONE
BEGIN:VEVENT
DTSTART;TZID=Europe/Helsinki:20260306T163000
DTEND;TZID=Europe/Helsinki:20260306T163000
DTSTAMP:20260419T173519
CREATED:20260224T101052Z
LAST-MODIFIED:20260224T101132Z
UID:39370-1772814600-1772814600@infostargard.pl
SUMMARY:Dzień Kobiet w Dobrzanach
DESCRIPTION:Burmistrz Dobrzan wraz z Gminną Biblioteką Publiczną zapraszają wszystkie panie na uroczyste spotkanie z okazji Dnia Kobiet\, które odbędzie się w piątek\, 6 marca o godz. 16\, w stołówce Zespołu Szkół Publicznych.  \nOrganizatorzy przygotowali atrakcyjny program artystyczny. Wśród zaplanowanych punktów znalazł się pokaz mody „Kobieta przez stulecia”\, który zabierze uczestniczki w podróż przez zmieniające się trendy i style na przestrzeni lat. Nie zabraknie również muzycznych emocji – przed publicznością wystąpi duet „Sinatrai inni”. \nNa uczestniczki czekać będzie także słodki poczęstunek oraz drobna niespodzianka.
URL:https://infostargard.pl/event/dzien-kobiet-w-dobrzanach/
LOCATION:Stołówka Zespołu Szkół Publicznych w Dobrzanach
END:VEVENT
BEGIN:VEVENT
DTSTART;TZID=Europe/Helsinki:20260306T170000
DTEND;TZID=Europe/Helsinki:20260306T170000
DTSTAMP:20260419T173519
CREATED:20260225T140207Z
LAST-MODIFIED:20260225T140207Z
UID:39566-1772816400-1772816400@infostargard.pl
SUMMARY:Dzień Kobiet w Łęczycy
DESCRIPTION:
URL:https://infostargard.pl/event/dzien-kobiet-w-leczycy/
LOCATION:świetlica w Łęczycy
END:VEVENT
BEGIN:VEVENT
DTSTART;TZID=Europe/Helsinki:20260306T180000
DTEND;TZID=Europe/Helsinki:20260306T180000
DTSTAMP:20260419T173519
CREATED:20260225T085255Z
LAST-MODIFIED:20260225T085432Z
UID:39497-1772820000-1772820000@infostargard.pl
SUMMARY:Muzyczny Dzień Kobiet w Chociwlu
DESCRIPTION:Burmistrz Chociwla\, Stanisław Szymczak zaprasza mieszkanki gminy na uroczysty koncert z okazji Dnia Kobiet\, który odbędzie się w piątek\, 6 marca o godz. 18\, w Hali Widowiskowo-Sportowej w Chociwlu.  \nW programie koncert „Największe Włoskie Przeboje” w wykonaniu Angelica & Thomas\, słodki poczęstunek oraz miłe niespodzianki dla Pań.
URL:https://infostargard.pl/event/muzyczny-dzien-kobiet-w-chociwlu/
LOCATION:Hala Widowiskowo-Sportowa w Chociwlu
END:VEVENT
BEGIN:VEVENT
DTSTART;TZID=Europe/Helsinki:20260306T180000
DTEND;TZID=Europe/Helsinki:20260306T180000
DTSTAMP:20260419T173519
CREATED:20260305T125417Z
LAST-MODIFIED:20260305T125417Z
UID:40169-1772820000-1772820000@infostargard.pl
SUMMARY:Dzień Kobiet w Gminnym Centrum Kultury w Dolicach
DESCRIPTION:
URL:https://infostargard.pl/event/dzien-kobiet-w-gminnym-centrum-kultury-w-dolicach/
LOCATION:GCK w Dolicach
END:VEVENT
BEGIN:VEVENT
DTSTART;TZID=Europe/Helsinki:20260306T190000
DTEND;TZID=Europe/Helsinki:20260306T190000
DTSTAMP:20260419T173519
CREATED:20260219T103626Z
LAST-MODIFIED:20260219T103724Z
UID:38835-1772823600-1772823600@infostargard.pl
SUMMARY:Muzyczny Dzień Kobiet w Stargardzie. Retro Gitary z repertuarem Osieckiej i Krajewskiego
DESCRIPTION:W piątkowy wieczór\, 6 marca w Domu Kultury Kolejarza zabrzmią utwory Agnieszki Osieckiej i Seweryna Krajewskiego w wyjątkowym koncercie „Osiecka z Krajewskim – Życie to bal”. \nNa scenie wystąpi zespół Retro Gitary\, który zapowiada nastrojową podróż przez jedne z najpiękniejszych tekstów i melodii polskiej piosenki. \nWydarzenie organizowane z okazji Dnia Kobiet ma być hołdem dla wrażliwości\, poetyckiej lekkości i ponadczasowych kompozycji\, które od lat towarzyszą kolejnym pokoleniom słuchaczy. Jak zapowiadają organizatorzy\, nie zabraknie zarówno dobrze znanych przebojów\, jak i mniej oczywistych perełek. \nKoncert rozpocznie się o godz. 19. Bilety w cenie 70 zł dostępne są online na stronie kiupbilecik.pl\, a dla grup zorganizowanych i seniorów przewidziano specjalną ofertę. Kontakt pod nr tel. 723 783 420.
URL:https://infostargard.pl/event/muzyczny-dzien-kobiet-w-stargardzie-retro-gitary-z-repertuarem-osieckiej-i-krajewskiego/
LOCATION:Dom Kultury Kolejarza w Stargardzie
END:VEVENT
BEGIN:VEVENT
DTSTART;TZID=Europe/Helsinki:20260306T193000
DTEND;TZID=Europe/Helsinki:20260308T000000
DTSTAMP:20260419T173519
CREATED:20260209T131607Z
LAST-MODIFIED:20260209T215641Z
UID:38017-1772825400-1772928000@infostargard.pl
SUMMARY:Scena Art Cafe - Najlepszy Dzień Kobiet
DESCRIPTION:
URL:https://infostargard.pl/event/scena-art-cafe-najlepszy-dzien-kobiet/
LOCATION:Szklarnia hotelu Mały Młyn
END:VEVENT
END:VCALENDAR