BEGIN:VCALENDAR
VERSION:2.0
PRODID:-//Info Stargard - ECPv6.15.20//NONSGML v1.0//EN
CALSCALE:GREGORIAN
METHOD:PUBLISH
X-WR-CALNAME:Info Stargard
X-ORIGINAL-URL:https://infostargard.pl
X-WR-CALDESC:Wydarzenia dla Info Stargard
REFRESH-INTERVAL;VALUE=DURATION:PT1H
X-Robots-Tag:noindex
X-PUBLISHED-TTL:PT1H
BEGIN:VTIMEZONE
TZID:Europe/Helsinki
BEGIN:DAYLIGHT
TZOFFSETFROM:+0200
TZOFFSETTO:+0300
TZNAME:EEST
DTSTART:20250330T010000
END:DAYLIGHT
BEGIN:STANDARD
TZOFFSETFROM:+0300
TZOFFSETTO:+0200
TZNAME:EET
DTSTART:20251026T010000
END:STANDARD
BEGIN:DAYLIGHT
TZOFFSETFROM:+0200
TZOFFSETTO:+0300
TZNAME:EEST
DTSTART:20260329T010000
END:DAYLIGHT
BEGIN:STANDARD
TZOFFSETFROM:+0300
TZOFFSETTO:+0200
TZNAME:EET
DTSTART:20261025T010000
END:STANDARD
BEGIN:DAYLIGHT
TZOFFSETFROM:+0200
TZOFFSETTO:+0300
TZNAME:EEST
DTSTART:20270328T010000
END:DAYLIGHT
BEGIN:STANDARD
TZOFFSETFROM:+0300
TZOFFSETTO:+0200
TZNAME:EET
DTSTART:20271031T010000
END:STANDARD
END:VTIMEZONE
BEGIN:VEVENT
DTSTART;TZID=Europe/Helsinki:20260301T093000
DTEND;TZID=Europe/Helsinki:20260301T093000
DTSTAMP:20260419T173426
CREATED:20260224T110559Z
LAST-MODIFIED:20260225T081216Z
UID:39396-1772357400-1772357400@infostargard.pl
SUMMARY:Dzień Pamięci Żołnierzy Wyklętych
DESCRIPTION:W niedzielę\, 1 marca o godz. 9:30 w Stargardzie\, odbędzie się uroczysta msza święta. W taki sposób w kościele św. Jana będziemy obchodzić Narodowy Dzień Pamięci Żołnierzy Wyklętych. Po nabożeństwie w świątyni zostaną złożone kwiaty. Znajduje się tam tablica upamiętniająca Żołnierzy Wyklętych. \nO 11:30 w Parku Batorego rozpocznie się kolejna edycja Biegu Pamięci Żołnierzy Wyklętych „Tropem Wilczym”. Ośrodek Sportu i Rekreacji jak zawsze przygotował starty dla dzieci\, młodzieży i dorosłych\, a także dla osób z niepełnosprawnościami. Wszyscy uczestnicy otrzymają pamiątkowe medale i koszulki\, a najlepsi – statuetki i nagrody. \nDzień Pamięci Żołnierzy Wyklętych to święto państwowe\, obchodzone w Polsce od 2011 r. \nInf. Urzędu Miasta Stargard
URL:https://infostargard.pl/event/dzien-pamieci-zolnierzy-wykletych/
LOCATION:kościół św. Jana w Stargardzie
END:VEVENT
BEGIN:VEVENT
DTSTART;TZID=Europe/Helsinki:20260301T113000
DTEND;TZID=Europe/Helsinki:20260301T133000
DTSTAMP:20260419T173426
CREATED:20260204T210915Z
LAST-MODIFIED:20260210T202255Z
UID:37656-1772364600-1772371800@infostargard.pl
SUMMARY:Bieg Tropem Wilczym 2026
DESCRIPTION:Ośrodek Sportu i Rekreacji w Stargardzie zaprasza do udziału w 14. edycji Biegu Pamięci Żołnierzy Wyklętych „Tropem Wilczym”\, który odbędzie się w niedzielę\, 1 marca o godz. 11:30. \nZbiórka w Parku Stefana Batorego przy rondzie Żołnierzy Wyklętych. Limit uczestników to 150 osób. \n– To wydarzenie łączy pamięć historyczną\, sport i integrację\, niezależnie od wieku czy poziomu zaawansowania – zachęcają organizatorzy. – Liczba miejsc ograniczona. Decyduje kolejność zgłoszeń. Do zobaczenia na starcie.  \nZapisy online: https://osir.stargard.pl/strefa-zapisow \nDystanse: \n\nbieg dzieci 196\,3 m (do 9. roku życia)\nbieg dzieci 963 m (do 12. roku życia)\nbieg osób z niepełnosprawnościami 196\,3–963 m\nbieg i marsz nordic walking 1963 m\nbieg główny 5 km\n\nKto może wystartować? \n\ndystanse 1963 m i 5 km – od 13. roku życia (rocznik 2013 i starsi)\n196\,3 m – dzieci do 9 lat (rocznik 2017 i młodsi)\n963 m – dzieci do 12 lat (rocznik 2014 i młodsi)\n\nNagrody: \n\nstatuetki i nagrody za miejsca I–III (biegi główne)\ndyplomy dla wszystkich uczestników.
URL:https://infostargard.pl/event/bieg-tropem-wilczym-2026/
LOCATION:Park Stefana Batorego (przy rondzie Żołnierzy Wyklętych)
END:VEVENT
BEGIN:VEVENT
DTSTART;TZID=Europe/Helsinki:20260301T180000
DTEND;TZID=Europe/Helsinki:20260301T180000
DTSTAMP:20260419T173426
CREATED:20260226T132950Z
LAST-MODIFIED:20260226T133013Z
UID:39641-1772388000-1772388000@infostargard.pl
SUMMARY:Spotkanie Pod Gwiazdami - zaprasza SCN Filary
DESCRIPTION:Wspólne obserwacje zimowego nieba w Parku Zamkowym. To część wydarzenia SPOTKANIE POD GWIAZDAMI: O tym co skrywa Orion i zimowe niebo.\nZapewnimy lornetkę\, teleskop oraz SeeStar\, ale zachęcamy również do zabrania własnych urządzeń obserwacyjnych – wspólne patrzenie w niebo daje jeszcze więcej satysfakcji!\n Niedziela\, 1 marca 2026\n Godzina 18:00\n Stargardzkie Centrum Nauki FILARY\nWstęp wolny.\n W programie także:\nPodczas prelekcji przyjrzymy się najciekawszym obiektom zimowego nieba – Orionowi\, Mgławicy M42\, Plejadom i innym gwiezdnym perłom.\nNauczymy się odnajdywać je na mapie nieba z pomocą programu Stellarium oraz tradycyjnych mapek.\n W trakcie prelekcji będzie działał kącik dla najmłodszych\, w którym dzieci poznają gwiazdozbiory nocnego nieba – oczywiście również Oriona – w przystępnej i angażującej formie.\n\nInf. organizatora
URL:https://infostargard.pl/event/spotkanie-pod-gwiazdami-w-filarach/
LOCATION:Park Zamkowy
END:VEVENT
END:VCALENDAR