BEGIN:VCALENDAR
VERSION:2.0
PRODID:-//Info Stargard - ECPv6.15.20//NONSGML v1.0//EN
CALSCALE:GREGORIAN
METHOD:PUBLISH
X-ORIGINAL-URL:https://infostargard.pl
X-WR-CALDESC:Wydarzenia dla Info Stargard
REFRESH-INTERVAL;VALUE=DURATION:PT1H
X-Robots-Tag:noindex
X-PUBLISHED-TTL:PT1H
BEGIN:VTIMEZONE
TZID:Europe/Helsinki
BEGIN:DAYLIGHT
TZOFFSETFROM:+0200
TZOFFSETTO:+0300
TZNAME:EEST
DTSTART:20250330T010000
END:DAYLIGHT
BEGIN:STANDARD
TZOFFSETFROM:+0300
TZOFFSETTO:+0200
TZNAME:EET
DTSTART:20251026T010000
END:STANDARD
BEGIN:DAYLIGHT
TZOFFSETFROM:+0200
TZOFFSETTO:+0300
TZNAME:EEST
DTSTART:20260329T010000
END:DAYLIGHT
BEGIN:STANDARD
TZOFFSETFROM:+0300
TZOFFSETTO:+0200
TZNAME:EET
DTSTART:20261025T010000
END:STANDARD
BEGIN:DAYLIGHT
TZOFFSETFROM:+0200
TZOFFSETTO:+0300
TZNAME:EEST
DTSTART:20270328T010000
END:DAYLIGHT
BEGIN:STANDARD
TZOFFSETFROM:+0300
TZOFFSETTO:+0200
TZNAME:EET
DTSTART:20271031T010000
END:STANDARD
END:VTIMEZONE
BEGIN:VEVENT
DTSTART;TZID=Europe/Helsinki:20260228T100000
DTEND;TZID=Europe/Helsinki:20260228T100000
DTSTAMP:20260419T173521
CREATED:20260129T114859Z
LAST-MODIFIED:20260219T091735Z
UID:37049-1772272800-1772272800@infostargard.pl
SUMMARY:Gra terenowa dla młodzieży i rodzin - Tropem Niezłomnych
DESCRIPTION:Parafia p.w. Matki Bożej Bolesnej w Chociwlu wraz z TKKF „Przełaj” Chociwel zapraszają na tegoroczną edycję gry terenowej dla młodzieży i rodzin – Tropem Niezłomnych 2026.  \nWydarzenie odbędzie się w sobotę\, 28 lutego w przeddzień Narodowego Dnia Pamięci Żołnierzy Wyklętych. Start godz. 10 w ogrodzie za plebanią. \n– Masz w sobie piękne pasje\, ducha przygody\, uwielbiasz grę „fair play”? – zachęcają organizatorzy. – Chcesz sprawdzić swoją siłę\, spryt\, odkryć ukryty potencjał? A może po prostu spędzić wyjątkowy dzień w gronie ciekawych i otwartych osób\, znajomych\, bliskich oraz wielu pasjonatów pięknej historii Polski? Dołącz do gry terenowej „TROPEM NIEZŁOMNYCH” i zmierz się z sobą oraz wyzwaniami inspirowanymi losami bohaterów\, żołnierzy niezłomnych! \nCo w programie? \n\nGra terenowa pełna wyzwań\, niespodzianek\, przygody\nWspaniałe\, atrakcyjne i cenne nagrody\nMedale i dyplomy dla uczestników\nGrochówka prosto z kuchni polowej\nOgnisko\, kiełbaski\, gorące napoje\n\nUdział w wydarzeniu jest bezpłatny. \nZgłoś swoją drużynę: \n\nZespoły 3-4 osobowe (rodzinne lub koleżeńskie)\nMłodzież od 14 lat\nDzieci poniżej 14 lat mogą wziąć udział z opiekunem\n\nZapisy do 20 lutego: \n\nProboszcz Zbigniew Regucki SChr\nWaldemar Ślusarczyk\n\n– Nie przegap tej wyjątkowej imprezy\, by uczcić pamięć Żołnierzy Wyklętych i przeżyć niesamowitą przygodę – informują organizatorzy. – Do zobaczenia na starcie! Masz pytania? Pisz do nas w komentarzu lub wiadomości prywatnej! \nInf. organizatora
URL:https://infostargard.pl/event/gra-terenowa-dla-mlodziezy-i-rodzin-tropem-niezlomnych/
LOCATION:Ogród za Plebanią Parafii Matki Bożej Bolesnej w Chociwlu
END:VEVENT
BEGIN:VEVENT
DTSTART;TZID=Europe/Helsinki:20260228T120000
DTEND;TZID=Europe/Helsinki:20260228T120000
DTSTAMP:20260419T173521
CREATED:20260224T102609Z
LAST-MODIFIED:20260224T102729Z
UID:39376-1772280000-1772280000@infostargard.pl
SUMMARY:Kto tak pięknie gra? Młodzi muzycy w Galerii Starówka
DESCRIPTION:Uczniowie OSM I stopnia wraz z PSM I i II stopnia zapraszają mieszkańców na cykl koncertów\, które odbędą się w Galerii Handlowej Starówka.  \nKoncerty rozpoczynają się o godz. 12. \nTo spotkania\, podczas których będzie można usłyszeć efekty wielu godzin ćwiczeń\, pracy i artystycznego zaangażowania młodych wykonawców. Repertuar obejmie utwory klasyczne i rozrywkowe\, prezentujące różnorodność talentów i instrumentów. \nTerminy: \n\nInauguracja – 6 grudnia 2025 r.\n28 lutego 2026 r.\n25 kwietnia 2026r.
URL:https://infostargard.pl/event/kto-tak-pieknie-gra-mlodzi-muzycy-w-galerii-starowka/
LOCATION:Galeria Handlowa Starówka
END:VEVENT
BEGIN:VEVENT
DTSTART;TZID=Europe/Helsinki:20260228T180000
DTEND;TZID=Europe/Helsinki:20260228T180000
DTSTAMP:20260419T173521
CREATED:20260129T093810Z
LAST-MODIFIED:20260129T094005Z
UID:37012-1772301600-1772301600@infostargard.pl
SUMMARY:Koncert „Kto wymyślił naszą miłość”
DESCRIPTION:Stargardzkie Centrum Kultury zaprasza na koncert Pracowni Wokalnej De Facto pt. „Kto wymyślił naszą miłość”. \nWydarzenie odbędzie się w sobotę\, 28 lutego o godz. 18\, na Małej Scenie SCK. Bilety w cenie 50 zł. \n– Zapraszamy na wyjątkowy koncert\, który stanie się muzyczną podróżą do złotych lat polskiej piosenki! – zachęcają organizatorzy. – Tego wieczoru usłyszymy dawne przeboje w zupełnie nowych\, świeżych aranżacjach. Nieśmiertelne utwory Anny Jantar\, Marii Koterbskiej oraz Czesława Niemena zabrzmią na nowo\, zachowując swój niepowtarzalny klimat\, a jednocześnie zyskując współczesną energię i brzmienie. \nW programie zaśpiewają: Muffinki\, Amelia Traczyk. Małgorzata Nowak\, Zofia Natalia Wojtaś\, Rosińska\, Hanna Subocz. Martyna Tańska\, Maja Piekarska\, Lena i Amelia Pędzik i Bartosz Traczyk. \nWokalistom będzie towarzyszył zespół muzyczny pod kierunkiem Alexa Marka.
URL:https://infostargard.pl/event/koncert-kto-wymyslil-nasza-milosc/
LOCATION:Mała Scena SCK
END:VEVENT
END:VCALENDAR