BEGIN:VCALENDAR
VERSION:2.0
PRODID:-//Info Stargard - ECPv6.15.20//NONSGML v1.0//EN
CALSCALE:GREGORIAN
METHOD:PUBLISH
X-ORIGINAL-URL:https://infostargard.pl
X-WR-CALDESC:Wydarzenia dla Info Stargard
REFRESH-INTERVAL;VALUE=DURATION:PT1H
X-Robots-Tag:noindex
X-PUBLISHED-TTL:PT1H
BEGIN:VTIMEZONE
TZID:Europe/Helsinki
BEGIN:DAYLIGHT
TZOFFSETFROM:+0200
TZOFFSETTO:+0300
TZNAME:EEST
DTSTART:20250330T010000
END:DAYLIGHT
BEGIN:STANDARD
TZOFFSETFROM:+0300
TZOFFSETTO:+0200
TZNAME:EET
DTSTART:20251026T010000
END:STANDARD
BEGIN:DAYLIGHT
TZOFFSETFROM:+0200
TZOFFSETTO:+0300
TZNAME:EEST
DTSTART:20260329T010000
END:DAYLIGHT
BEGIN:STANDARD
TZOFFSETFROM:+0300
TZOFFSETTO:+0200
TZNAME:EET
DTSTART:20261025T010000
END:STANDARD
BEGIN:DAYLIGHT
TZOFFSETFROM:+0200
TZOFFSETTO:+0300
TZNAME:EEST
DTSTART:20270328T010000
END:DAYLIGHT
BEGIN:STANDARD
TZOFFSETFROM:+0300
TZOFFSETTO:+0200
TZNAME:EET
DTSTART:20271031T010000
END:STANDARD
END:VTIMEZONE
BEGIN:VEVENT
DTSTART;TZID=Europe/Helsinki:20260222T153000
DTEND;TZID=Europe/Helsinki:20260222T153000
DTSTAMP:20260419T190830
CREATED:20260115T111441Z
LAST-MODIFIED:20260115T111621Z
UID:35248-1771774200-1771774200@infostargard.pl
SUMMARY:Spektakl: Klimakterium i już
DESCRIPTION:Stargardzkie Centrum Kultury zaprasza na komediowy musical pt. „Klimakterium i już”\, który odbędzie się w niedzielę\, 22 lutego o godz. 15:30\, na Dużej Scenie SCK. \nBilety od 130 do 150 zł\, dostępne w kasie kina lub online na stronie. \n„Klimakterium i już” – to komediowy musical nie tylko dla Pań. Tak dowcipnie\, otwarcie\, z dystansem i autorefleksją na własny temat jak w tym spektaklu o sprawach kobiet nikt jeszcze w Polsce nie mówił! W sztuce w przezabawny sposób mówi się i śpiewa o trudnym okresie życia\, który nie ominie żadnej z Pań. Wspólnota doświadczeń łączy bohaterki sztuki oraz kobiety na widowni. Spektakl staje się „babskim spotkaniem” pełnym humoru i najlepszym lekarstwem na wszelkie dolegliwości. Nieuchronne problemy w radosnej i ciepłej atmosferze sztuki przestają być wstydliwe i okazują wcale nie takie straszne! Zapraszamy na wspaniałą muzyczną komedię – jedną z najczęściej wystawianych w ostatnich latach na deskach teatrów w całej Polsce. \nWidzimy się tej zimy – będzie wesoło! \nInf. organizatora.
URL:https://infostargard.pl/event/spektakl-klimakterium-i-juz/
LOCATION:Duża Scena SCK
END:VEVENT
BEGIN:VEVENT
DTSTART;TZID=Europe/Helsinki:20260222T160000
DTEND;TZID=Europe/Helsinki:20260222T160000
DTSTAMP:20260419T190830
CREATED:20260216T132845Z
LAST-MODIFIED:20260216T132845Z
UID:38613-1771776000-1771776000@infostargard.pl
SUMMARY:II Zimowy Turniej Szachowy
DESCRIPTION:22 lutego w Morzyczynie odbędzie się II Zimowy Turniej Szachowy\, który zgromadzi młodych miłośników królewskiej gry z powiatu stargardzkiego. \nWydarzenie organizowane jest przez Koło Szachowe MIEDWIE – MORZYCZYN i stanowi kontynuację ubiegłorocznej inicjatywy promującej rozwój pasji szachowej wśród dzieci i młodzieży. \nTurniej to nie tylko sportowa rywalizacja\, ale również doskonała okazja do integracji lokalnej społeczności oraz promowania logicznego myślenia\, cierpliwości i zdrowej rywalizacji wśród najmłodszych. \n– Z ogromną radością informujemy\, że firmy z Gminy Kobylanka zgłosiły chęć wsparcia II Zimowego Turnieju Szachowego dla Dzieci – informują organizatorzy. – Dzięki ich zaangażowaniu możliwe było ufundowanie wspaniałych nagród – niespodzianek dla uczestników.
URL:https://infostargard.pl/event/ii-zimowy-turniej-szachowy/
LOCATION:świetlica Morzyczyn
END:VEVENT
END:VCALENDAR