BEGIN:VCALENDAR
VERSION:2.0
PRODID:-//Info Stargard - ECPv6.15.20//NONSGML v1.0//EN
CALSCALE:GREGORIAN
METHOD:PUBLISH
X-ORIGINAL-URL:https://infostargard.pl
X-WR-CALDESC:Wydarzenia dla Info Stargard
REFRESH-INTERVAL;VALUE=DURATION:PT1H
X-Robots-Tag:noindex
X-PUBLISHED-TTL:PT1H
BEGIN:VTIMEZONE
TZID:Europe/Helsinki
BEGIN:DAYLIGHT
TZOFFSETFROM:+0200
TZOFFSETTO:+0300
TZNAME:EEST
DTSTART:20250330T010000
END:DAYLIGHT
BEGIN:STANDARD
TZOFFSETFROM:+0300
TZOFFSETTO:+0200
TZNAME:EET
DTSTART:20251026T010000
END:STANDARD
BEGIN:DAYLIGHT
TZOFFSETFROM:+0200
TZOFFSETTO:+0300
TZNAME:EEST
DTSTART:20260329T010000
END:DAYLIGHT
BEGIN:STANDARD
TZOFFSETFROM:+0300
TZOFFSETTO:+0200
TZNAME:EET
DTSTART:20261025T010000
END:STANDARD
BEGIN:DAYLIGHT
TZOFFSETFROM:+0200
TZOFFSETTO:+0300
TZNAME:EEST
DTSTART:20270328T010000
END:DAYLIGHT
BEGIN:STANDARD
TZOFFSETFROM:+0300
TZOFFSETTO:+0200
TZNAME:EET
DTSTART:20271031T010000
END:STANDARD
END:VTIMEZONE
BEGIN:VEVENT
DTSTART;TZID=Europe/Helsinki:20260220T150000
DTEND;TZID=Europe/Helsinki:20260220T150000
DTSTAMP:20260419T190833
CREATED:20260203T100608Z
LAST-MODIFIED:20260204T170233Z
UID:37548-1771599600-1771599600@infostargard.pl
SUMMARY:Słowacka czarna komedia w Stargardzie – filmowe popołudnie w Domu Kultury Kolejarza
DESCRIPTION:Już 20 lutego o godzinie 15 Dom Kultury Kolejarza w Stargardzie stanie się miejscem wyjątkowego spotkania z kinem słowackim. W ramach współpracy Domu Kultury Kolejarza Stargard z Instytutem Słowackim w Polsce widzowie będą mieli okazję obejrzeć niezwykły film\, który łączy inteligentny humor z refleksją nad ludzkimi relacjami. \nNa ekranie pojawi się czarna komedia „No i mamy\, cośmy chcieli” – produkcja pełna emocji\, ironii i celnych obserwacji codzienności. Film w nieszablonowy sposób podejmuje temat relacji międzyludzkich\, skłaniając zarówno do śmiechu\, jak i do chwili zadumy. To propozycja idealna na popołudnie spędzone w dobrym towarzystwie i kinowym klimacie. \nSeans odbędzie się w siedzibie Domu Kultury Kolejarza przy ul. Szczecińskiej 17 w Stargardzie\, a co szczególnie warte podkreślenia – wstęp na wydarzenie jest bezpłatny. Organizatorzy zachęcają do wspólnego przeżywania filmu\, rozmów po seansie oraz dzielenia się wrażeniami. \nTo doskonała okazja\, aby zaprosić znajomych\, oderwać się od codzienności i zanurzyć w świecie ambitnego kina. Filmowe popołudnie w Domu Kultury Kolejarza zapowiada się jako wydarzenie pełne dobrej energii\, kultury i inspirujących rozmów.
URL:https://infostargard.pl/event/slowacka-czarna-komedia-w-stargardzie-filmowe-popoludnie-w-domu-kultury-kolejarza/
LOCATION:Dom Kultury Kolejarza
END:VEVENT
BEGIN:VEVENT
DTSTART;TZID=Europe/Helsinki:20260220T170000
DTEND;TZID=Europe/Helsinki:20260220T170000
DTSTAMP:20260419T190833
CREATED:20260218T132748Z
LAST-MODIFIED:20260219T085345Z
UID:38752-1771606800-1771606800@infostargard.pl
SUMMARY:Oswoić menopauzę - Książnica Stargardzka
DESCRIPTION:Już w najbliższy piątek\, 20 lutego o godz. 17\, w Pracowni Kreatywności odbędzie się spotkanie pod hasłem „Oswoić menopauzę”. To kontynuacja cyklu Być Kobietą – Babskie Pogaduchy w Książnicy Stargardzkiej.  \nSpotkanie poprowadzą ekspertki – Anna Kario-Skoczylas oraz Magda Trembacka. Podczas spotkania będzie można dowiedzieć się czym różni się perimenopauza od menopauzy i jak rozpoznać pierwsze objawy zmian. \n– Przyjdźcie\, zabierzcie koleżanki i podarujcie sobie ten czas! – zachęcają organizatorzy. – Do zobaczenia 20 lutego w Pracowni Kreatywności.  \nPorozmawiamy o stylu życia – o tym\, jak jeść i jak się ruszać\, by wspierać organizm w tym czasie. Zatrzymamy się przy temacie dna miednicy i najczęstszych trudnościach\, które mogą pojawić się w okresie okołomenopauzalnym. \nNie zabraknie także rozmowy o emocjach\, tożsamości i relacjach. Zastanowimy się\, jakie uczucia mogą towarzyszyć temu etapowi życia\, jak zmienia się obraz siebie i jak te zmiany wpływają na relacje z bliskimi.Spojrzymy na ciało i psychikę jako jeden\, wzajemnie przenikający się system. Zobaczymy\, jak emocje wpływają na ciało\, a ciało na emocje – oraz jak w łagodny sposób budować równowagę i większą życzliwość wobec siebie w tym ważnym czasie. \nUczestniczki otrzymają również konkretne\, praktyczne wskazówki dotyczące ruchu\, oddechu\, snu\, diety i regulacji stresu. Pokażemy\, jak małe\, codzienne działania mogą realnie poprawić jakość życia. \nInf. organizatora
URL:https://infostargard.pl/event/oswoic-menopauze-ksiaznica-stargardzka/
LOCATION:Książnica Stargardzka – Pracownia Kreatywności (wejście od ul. Pocztowej)
END:VEVENT
BEGIN:VEVENT
DTSTART;TZID=Europe/Helsinki:20260220T190000
DTEND;TZID=Europe/Helsinki:20260220T190000
DTSTAMP:20260419T190833
CREATED:20260120T101836Z
LAST-MODIFIED:20260122T092621Z
UID:35717-1771614000-1771614000@infostargard.pl
SUMMARY:10. Jubileuszowa Stargardzka Manufaktura Sztuki QUEEN TRIBUTE NIGHT
DESCRIPTION:W piątek\, 20 lutego\, na Dużej Scenie SCK odbędzie się 10. Jubileuszowa Stargardzka Manufaktura Sztuki QUEEN TRIBUTE NIGHT. Początek godz. 19. \nBilety od 49 do 59 zł\, dostępne w kasie kina lub online na stronie. \nBrytyjski zespół Queen to legenda! „We Are the Champions”\, „We Will Rock You”\, „Bohemian Rhapsody” – to nie jedyne utwory\, które po kilkudziesięciu latach nadal można usłyszeć w radiu\, na stadionach\, halach sportowych. Marka sama w sobie! \nW tym roku przypada 80. rocznica urodzin wokalisty Królowej – Freddie’go Mercurego\, ale i niestety 35. rocznica jego przedwczesnej śmierci. \nW 2016r. mieliśmy okazję usłyszeć i zobaczyć stargardzki tribute dla twórczości Queen. Dokładnie w dziesiątą rocznicę tego wydarzenia i w ramach 10. Jubileuszowej Stargardzkiej Manufaktury Sztuki wracamy na dużą scenę SCK z projektem: QUEEN TRIBUTE NIGHT! \nStargardzka Manufaktura Sztuki odbywa się pod patronatem Prezydenta Stargardu. \nInf. organizatora
URL:https://infostargard.pl/event/10-jubileuszowa-stargardzka-manufaktura-sztuki-queen-tribute-night/
LOCATION:Duża Scena SCK
END:VEVENT
END:VCALENDAR