BEGIN:VCALENDAR
VERSION:2.0
PRODID:-//Info Stargard - ECPv6.15.20//NONSGML v1.0//EN
CALSCALE:GREGORIAN
METHOD:PUBLISH
X-WR-CALNAME:Info Stargard
X-ORIGINAL-URL:https://infostargard.pl
X-WR-CALDESC:Wydarzenia dla Info Stargard
REFRESH-INTERVAL;VALUE=DURATION:PT1H
X-Robots-Tag:noindex
X-PUBLISHED-TTL:PT1H
BEGIN:VTIMEZONE
TZID:Europe/Helsinki
BEGIN:DAYLIGHT
TZOFFSETFROM:+0200
TZOFFSETTO:+0300
TZNAME:EEST
DTSTART:20250330T010000
END:DAYLIGHT
BEGIN:STANDARD
TZOFFSETFROM:+0300
TZOFFSETTO:+0200
TZNAME:EET
DTSTART:20251026T010000
END:STANDARD
BEGIN:DAYLIGHT
TZOFFSETFROM:+0200
TZOFFSETTO:+0300
TZNAME:EEST
DTSTART:20260329T010000
END:DAYLIGHT
BEGIN:STANDARD
TZOFFSETFROM:+0300
TZOFFSETTO:+0200
TZNAME:EET
DTSTART:20261025T010000
END:STANDARD
BEGIN:DAYLIGHT
TZOFFSETFROM:+0200
TZOFFSETTO:+0300
TZNAME:EEST
DTSTART:20270328T010000
END:DAYLIGHT
BEGIN:STANDARD
TZOFFSETFROM:+0300
TZOFFSETTO:+0200
TZNAME:EET
DTSTART:20271031T010000
END:STANDARD
END:VTIMEZONE
BEGIN:VEVENT
DTSTART;TZID=Europe/Helsinki:20260219T150000
DTEND;TZID=Europe/Helsinki:20260219T150000
DTSTAMP:20260419T203651
CREATED:20260129T104328Z
LAST-MODIFIED:20260129T104523Z
UID:37029-1771513200-1771513200@infostargard.pl
SUMMARY:Spotkanie dla młodych w Książnicy Stargardzkiej
DESCRIPTION:Książnica Stargardzka zaprasza młodzież i samorządy uczniowskie na spotkanie konsultacyjne dotyczące tworzenia biblioteki przyjaznej młodym ludziom.  \nWydarzenie odbędzie się w czwartek\, 19 lutego o godz. 15\, w Sali Projekcyjnej Książnicy Stargardzkiej. \n– Czy w bibliotece ma być przestrzeń do nauki? Miejsce spotkań ze znajomymi\, a może warsztaty\, wydarzenia i własne inicjatywy – pytają organizatorzy. – Przyjdź\, powiedz nam\, czego potrzebujesz i pomóż stworzyć bibliotekę\, do której naprawdę warto przychodzić!
URL:https://infostargard.pl/event/spotkanie-dla-mlodych-w-ksiaznicy-stargardzkiej/
LOCATION:Sala projekcyjna Ksiąznicy Stargardzkiej
END:VEVENT
BEGIN:VEVENT
DTSTART;TZID=Europe/Helsinki:20260219T170000
DTEND;TZID=Europe/Helsinki:20260219T170000
DTSTAMP:20260419T203651
CREATED:20260122T085449Z
LAST-MODIFIED:20260219T082953Z
UID:35913-1771520400-1771520400@infostargard.pl
SUMMARY:Sagi Nordyckie w Książnicy Stargardzkiej
DESCRIPTION:Książnica Stargardzka zaprasza na spotkanie\, podczas którego będzie można poznać kulisy i smaczki trzech sag: Sagi o Jomswikingach\, Sagi o potomkach Knuta a także Sagi o Yngvarze Podróżniku. \nWydarzenie odbędzie się w czwartek\, 19 lutego o godz. 17. Gośćmi spotkania będą dr hab. Jakub Morawiec\, prof. UŚ.\, a także dr Marta Rey-Radlińska. \n – Jeśli fascynują Cię Wikingowie\, nordyckie mity\, polityczne intrygi i opowieści\, w których bogowie\, ludzie i alkohol tworzą wybuchową mieszankę\, nie może Cię zabraknąć! – zachęcają organizatorzy. – Wstęp jest wolny.
URL:https://infostargard.pl/event/sagi-nordyckie-w-ksiaznicy-stargardzkiej/
LOCATION:Książnica Stargardzka
END:VEVENT
BEGIN:VEVENT
DTSTART;TZID=Europe/Helsinki:20260219T170000
DTEND;TZID=Europe/Helsinki:20260219T170000
DTSTAMP:20260419T203651
CREATED:20260204T173557Z
LAST-MODIFIED:20260204T173705Z
UID:37642-1771520400-1771520400@infostargard.pl
SUMMARY:Spotkanie z podologiem w Książnicy Stargardzkiej
DESCRIPTION:Książnica Stargardzka zaprasza na spotkanie edukacyjne z doświadczonymi specjalistkami podologii – Agnieszką Brzychcy i Weroniką Mazur.  \nWydarzenie odbędzie się w czwartek\, 19 lutego o godz. 17\, w Filii nr 2 na osiedlu Lotnisko. \n– To doskonała okazja\, aby zdobyć praktyczną wiedzę zadać pytania i zadbać o zdrowie swoich stóp – zachęcają organizatorzy. – Serdecznie zapraszamy! \nPodczas spotkania będzie można porozmawiać m.in. o: \n\nzakresie pracy podologa\,\nchorobach stóp i paznokci – przyczynach i skutkach\,\ninfekcjach wirusowych\, bakteryjnych i grzybiczych\,\nwrastających i zdeformowanych paznokciach\,\npielęgnacji stóp przy cukrzycy\,\npodologii dziecięcej.\n\nWstęp na to wydarzenie jest bezpłatny.
URL:https://infostargard.pl/event/spotkanie-z-podologiem-w-ksiaznicy-stargardzkiej/
LOCATION:Filia nr 2\, Książnica Stargardzka
END:VEVENT
BEGIN:VEVENT
DTSTART;TZID=Europe/Helsinki:20260219T170000
DTEND;TZID=Europe/Helsinki:20260219T170000
DTSTAMP:20260419T203651
CREATED:20260213T084218Z
LAST-MODIFIED:20260219T083352Z
UID:38345-1771520400-1771520400@infostargard.pl
SUMMARY:"Wieś\, której nie widać" - Spotkanie w przyrynkowej kamienicy
DESCRIPTION:Stargardzkie muzeum organizuje kolejne Spotkanie w przyrynkowej kamienicy. Odbędzie się ono 19 lutego o godz. 17. Wstęp jest darmowy. \nPodczas wykładu przeniesiemy się do średniowiecznego Żelewa – na cmentarzysko powiązane z dobrami cystersów w Kołbaczu. Będzie to opowieść o życiu w służebnej wsi należącej do klasztoru: o obowiązkach\, zależnościach i codziennych zmaganiach mieszkańców.  Usłyszymy również o poszukiwaniach zaginionej osady i metodach badawczych\, które łączą dane z wykopalisk\, źródeł pisanych oraz analiz krajobrazowych. Na zakończenie zajrzymy „za kulisy” badań – jak pracuje duży zespół archeologów i jak wyglądają terenowe zajęcia oraz szkolenia międzynarodowych grup studentów w Żelewie.  \nDr Katarzyna Ślusarska – archeolożka\, specjalistka w zakresie badań nad społecznościami epoki brązu oraz systemami wierzeniowo-obrzędowymi północnego Nadczarnomorza. Pracownik Katedry Archeologii US\, członkini Zespołu Badań nad Nowożytną Kulturą Funeralną w IH US. \nInf. organizatora
URL:https://infostargard.pl/event/wies-ktorej-nie-widac-spotkanie-w-przyrynkowej-kamienicy/
LOCATION:Basteja
END:VEVENT
BEGIN:VEVENT
DTSTART;TZID=Europe/Helsinki:20260219T180000
DTEND;TZID=Europe/Helsinki:20260219T180000
DTSTAMP:20260419T203651
CREATED:20260129T085854Z
LAST-MODIFIED:20260129T085908Z
UID:36997-1771524000-1771524000@infostargard.pl
SUMMARY:Wernisaż Katarzyny Starkowskiej: "Bramy czasu"
DESCRIPTION:Stargardzkie Centrum Kultury zaprasza na wernisaż Katarzyny Starkowskiej pt. „Bramy czasu”\, który odbędzie się w czwartek\, 19 lutego o godz. 18\, w Holu SCK.  \nKatarzyna Starkowska to samouk fotografujący od 4 lat z pasją do architektury\, pejzaży i detali\, nie stroniący od portretów. \nW ciągu tych lat brała udział w czterech wystawach grupowych organizowanych z uczestnikami pracowni fotograficznej SCK oraz wystawie fotograficznej „Kobieta”\, organizowanej pod patronatem ONA Kongres Świadomych Kobiet. Jej najnowsza wystawa „Bramy czasu” prezentuje drzwi z różnych epok i stylów – uchwycone podczas bliskich i dalekich podróży\, czasem przypadkiem przy okazji\, innym razem z cierpliwym wyczekiwaniem na idealne światło. \nWystawa fotograficzna „Bramy Czasu” przedstawia zdjęcia drzwi\, bo te symbolizują metaforyczne przejścia między epokami i wymiarami czasu. Każde zdjęcie drzwi działa jak portal\, za którym kryje się inna historia lub okres. Tytuł podkreśla tę koncepcję podróży temporalnej poprzez wizualne wrota. \nWstęp jest wolny. \nInf. organizatora
URL:https://infostargard.pl/event/wernisaz-katarzyny-starkowskiej-bramy-czasu/
LOCATION:SCK\, Galeria Hol
END:VEVENT
END:VCALENDAR