BEGIN:VCALENDAR
VERSION:2.0
PRODID:-//Info Stargard - ECPv6.15.20//NONSGML v1.0//EN
CALSCALE:GREGORIAN
METHOD:PUBLISH
X-WR-CALNAME:Info Stargard
X-ORIGINAL-URL:https://infostargard.pl
X-WR-CALDESC:Wydarzenia dla Info Stargard
REFRESH-INTERVAL;VALUE=DURATION:PT1H
X-Robots-Tag:noindex
X-PUBLISHED-TTL:PT1H
BEGIN:VTIMEZONE
TZID:Europe/Helsinki
BEGIN:DAYLIGHT
TZOFFSETFROM:+0200
TZOFFSETTO:+0300
TZNAME:EEST
DTSTART:20250330T010000
END:DAYLIGHT
BEGIN:STANDARD
TZOFFSETFROM:+0300
TZOFFSETTO:+0200
TZNAME:EET
DTSTART:20251026T010000
END:STANDARD
BEGIN:DAYLIGHT
TZOFFSETFROM:+0200
TZOFFSETTO:+0300
TZNAME:EEST
DTSTART:20260329T010000
END:DAYLIGHT
BEGIN:STANDARD
TZOFFSETFROM:+0300
TZOFFSETTO:+0200
TZNAME:EET
DTSTART:20261025T010000
END:STANDARD
BEGIN:DAYLIGHT
TZOFFSETFROM:+0200
TZOFFSETTO:+0300
TZNAME:EEST
DTSTART:20270328T010000
END:DAYLIGHT
BEGIN:STANDARD
TZOFFSETFROM:+0300
TZOFFSETTO:+0200
TZNAME:EET
DTSTART:20271031T010000
END:STANDARD
END:VTIMEZONE
BEGIN:VEVENT
DTSTART;TZID=Europe/Helsinki:20260214T100000
DTEND;TZID=Europe/Helsinki:20260214T100000
DTSTAMP:20260419T203651
CREATED:20260205T130102Z
LAST-MODIFIED:20260205T130102Z
UID:37725-1771063200-1771063200@infostargard.pl
SUMMARY:Ferie z UKS - Turniej piłki nożnej w Chociwlu
DESCRIPTION:
URL:https://infostargard.pl/event/ferie-z-uks-turniej-pilki-noznej-w-chociwlu/
LOCATION:Hala Widowiskowo-Sportowa w Chociwlu
END:VEVENT
BEGIN:VEVENT
DTSTART;TZID=Europe/Helsinki:20260214T120000
DTEND;TZID=Europe/Helsinki:20260214T150000
DTSTAMP:20260419T203651
CREATED:20260210T223832Z
LAST-MODIFIED:20260210T223935Z
UID:38186-1771070400-1771081200@infostargard.pl
SUMMARY:Walentynki w Galerii Handlowej Starówka
DESCRIPTION:Galeria Handlowa Starówka zaprasza mieszkańców Stargardu do wspólnego świętowania Walentynek.  \nW sobotę\, w godz. 12-15 na odwiedzających czekać będzie program\, który pozwoli spędzić ten dzień w wyjątkowej atmosferze. \nW programie wydarzenia znalazło się spotkanie z wróżką\, warsztaty tworzenia mydełek w kształcie serc\, walentynkowa budka oraz możliwość wykonania romantycznych\, kolorowych świeczek. Uczestnicy będą mogli również przygotować personalizowane bransoletki z imieniem lub inicjałami.
URL:https://infostargard.pl/event/walentynki-w-galerii-handlowej-starowka/
LOCATION:Galeria Handlowa Starówka
END:VEVENT
BEGIN:VEVENT
DTSTART;TZID=Europe/Helsinki:20260214T133000
DTEND;TZID=Europe/Helsinki:20260214T133000
DTSTAMP:20260419T203651
CREATED:20260122T101513Z
LAST-MODIFIED:20260122T102204Z
UID:35930-1771075800-1771075800@infostargard.pl
SUMMARY:4 edycja Maszewskiego Morsowania
DESCRIPTION:W sobotę\, 14 lutego Fundacja Region Powiat Gmina zaprasza wszystkich chętnych nad jezioro w Maszewie\, na 4 edycję Maszewskiego Morsowania.\n \nProgram: \n13:30 – oficjalne powitanie\n13:40 – wspólna rozgrzewka\n14:00 – pierwsze wejście do wody \nW trakcie: \n\nzbiórka środków na Schronisko dla Zwierząt w Kiczarowie – Towarzystwo Ochrony Zwierząt Oddział Kiczarowo\nciepła zupa\, kiełbaski z ogniska\ndomowe ciasta\, kawa\, herbata\njaccuzi
URL:https://infostargard.pl/event/4-edycja-maszewskiego-morsowania/
LOCATION:Jezioro w Maszewie
END:VEVENT
BEGIN:VEVENT
DTSTART;TZID=Europe/Helsinki:20260214T140000
DTEND;TZID=Europe/Helsinki:20260214T150000
DTSTAMP:20260419T203651
CREATED:20260210T203532Z
LAST-MODIFIED:20260211T084600Z
UID:38172-1771077600-1771081200@infostargard.pl
SUMMARY:Stargard dołącza do światowego protestu przeciw przemocy
DESCRIPTION:14 lutego\, w dniu kojarzonym przede wszystkim z miłością i bliskością\, w Stargardzie wybrzmi także inny\, niezwykle ważny przekaz – sprzeciw wobec przemocy wobec kobiet.  \nStowarzyszenie Edukacja-Zdrowie-Aktywność zaprasza mieszkańców do udziału w międzynarodowej akcji One Billing Rising\, która od lat jednoczy ludzi na całym świecie we wspólnym geście solidarności. Wydarzenie odbędzie się w sobotę\, 14 lutego w godz. 14-15\, przy ul. Wyszyńskiego\, w okolicach sklepu Przystanek Witkowo. Organizatorzy zachęcają uczestników\, by ubrali się na różowo – kolor symbolizujący nadzieję\, jedność i wsparcie dla osób doświadczających przemocy. \n \n 
URL:https://infostargard.pl/event/stargard-dolacza-do-swiatowego-protestu-przeciw-przemocy/
LOCATION:ul. Wyszyńskiego\, okolice sklepu Przystanek Witkowo
END:VEVENT
BEGIN:VEVENT
DTSTART;TZID=Europe/Helsinki:20260214T170000
DTEND;TZID=Europe/Helsinki:20260214T170000
DTSTAMP:20260419T203651
CREATED:20260211T085448Z
LAST-MODIFIED:20260211T085448Z
UID:38209-1771088400-1771088400@infostargard.pl
SUMMARY:Walentynkowy wieczór w Morenie - Ińsko
DESCRIPTION:
URL:https://infostargard.pl/event/walentynkowy-wieczor-w-morenie-insko/
LOCATION:kino Morena w Ińsku
END:VEVENT
BEGIN:VEVENT
DTSTART;TZID=Europe/Helsinki:20260214T180000
DTEND;TZID=Europe/Helsinki:20260214T180000
DTSTAMP:20260419T203651
CREATED:20251002T085128Z
LAST-MODIFIED:20251112T104419Z
UID:24770-1771092000-1771092000@infostargard.pl
SUMMARY:Koncert: Perfect
DESCRIPTION:W sobotę\, 14 lutego o godz. 18\, na Dużej Scenie SCK odbędzie się koncert polskiego zespołu rockowego\, Perfect.  \nBilety od 139 do 169 zł dostępne online na stronie kina. \nPerfect & Łukasz Drapała – to połączenie zespołu Perfect z nowym wokalistą – Łukaszem Drapałą. To nowa energia i nowy rozdział kultowego zespołu. Perfect to jeden z najważniejszych zespołów w historii polskiej muzyki rockowej z własną\, niepodrabialną tożsamością. Utwory takie jak „Nie płacz Ewka”\, „Chcemy być sobą” czy „Autobiografia” na stałe zapisały się w historii i sercach kilku pokoleń Polaków. \nPerfect to zespół\, który nie tylko tworzył klasyki\, ale też inspirował. Każda płyta\, każda trasa koncertowa i każda zmiana w składzie były kolejnym etapem drogi\, której sensem była muzyka – prawdziwa\, szczera\, pełna emocji. Przez dekady Perfect był synonimem rockowej energii\, tekstów z przesłaniem i ponadczasowego brzmienia\, które nie traci na aktualności. \nPo pożegnaniu z fanami w 2020 roku i oficjalnym zakończeniu działalności\, zespół nie planował powrotu. Jednak duch Perfectu – niepokorny\, emocjonalny\, pełen pasji – nie zgasł. W 2025 roku grupa powróciła\, by rozpocząć nowy rozdział pod nazwą Perfect & Łukasz Drapała. To nie reaktywacja\, ale kontynuacja – hołd dla przeszłości i krok w przyszłość zachowując szacunek do dziedzictwa Perfectu. Ten etap to spotkanie legendy z nową energią – dla tych\, którzy kochają klasykę\, ale żyją tu i teraz. \nInf. organizatora
URL:https://infostargard.pl/event/koncert-perfect/
LOCATION:Duża Scena SCK
END:VEVENT
END:VCALENDAR