BEGIN:VCALENDAR
VERSION:2.0
PRODID:-//Info Stargard - ECPv6.15.20//NONSGML v1.0//EN
CALSCALE:GREGORIAN
METHOD:PUBLISH
X-ORIGINAL-URL:https://infostargard.pl
X-WR-CALDESC:Wydarzenia dla Info Stargard
REFRESH-INTERVAL;VALUE=DURATION:PT1H
X-Robots-Tag:noindex
X-PUBLISHED-TTL:PT1H
BEGIN:VTIMEZONE
TZID:Europe/Helsinki
BEGIN:DAYLIGHT
TZOFFSETFROM:+0200
TZOFFSETTO:+0300
TZNAME:EEST
DTSTART:20250330T010000
END:DAYLIGHT
BEGIN:STANDARD
TZOFFSETFROM:+0300
TZOFFSETTO:+0200
TZNAME:EET
DTSTART:20251026T010000
END:STANDARD
BEGIN:DAYLIGHT
TZOFFSETFROM:+0200
TZOFFSETTO:+0300
TZNAME:EEST
DTSTART:20260329T010000
END:DAYLIGHT
BEGIN:STANDARD
TZOFFSETFROM:+0300
TZOFFSETTO:+0200
TZNAME:EET
DTSTART:20261025T010000
END:STANDARD
BEGIN:DAYLIGHT
TZOFFSETFROM:+0200
TZOFFSETTO:+0300
TZNAME:EEST
DTSTART:20270328T010000
END:DAYLIGHT
BEGIN:STANDARD
TZOFFSETFROM:+0300
TZOFFSETTO:+0200
TZNAME:EET
DTSTART:20271031T010000
END:STANDARD
END:VTIMEZONE
BEGIN:VEVENT
DTSTART;TZID=Europe/Helsinki:20260213T120000
DTEND;TZID=Europe/Helsinki:20260213T120000
DTSTAMP:20260419T190830
CREATED:20260210T221406Z
LAST-MODIFIED:20260210T221650Z
UID:38178-1770984000-1770984000@infostargard.pl
SUMMARY:Stowarzyszenie EZA zaprasza na słodkie świętowanie
DESCRIPTION:Stowarzyszenie Edukacja – Zdrowie – Aktywność zaprasza w piątek\, 13 lutego do swojej siedziby przy ul. Wojska Polskiego 4U/3 w Stargardzie na wyjątkowe spotkanie\, które łączy dwa święta: Walentynki i Tłusty Czwartek.  \nWydarzenie ma być okazją nie tylko do wspólnego świętowania\, ale przede wszystkim do rozmów\, uśmiechu i budowania relacji w lokalnej społeczności. Jak podkreślają członkowie stowarzyszenia będzie to czas zatrzymania się na chwilę w codziennym biegu i spędzenia go w przyjaznej atmosferze. \nNa uczestników czekać będzie aromatyczna kawa\, pachnąca kawa oraz słodkie niespodzianki.
URL:https://infostargard.pl/event/stowarzyszenie-eza-zaprasza-na-slodkie-swietowanie/
LOCATION:Siedziba Stowarzyszenia EZA\, ul. Wojska Polskiego 4U/3
END:VEVENT
BEGIN:VEVENT
DTSTART;TZID=Europe/Helsinki:20260213T160000
DTEND;TZID=Europe/Helsinki:20260213T160000
DTSTAMP:20260419T190830
CREATED:20260205T163659Z
LAST-MODIFIED:20260205T163714Z
UID:37753-1770998400-1770998400@infostargard.pl
SUMMARY:Dzień Sportowy na świetlicy w Ściennem
DESCRIPTION:Stowarzyszenie W stronę słońca zaprasza dzieci i młodzież na Dzień Sportowy\, który odbędzie się w piątek\, 13 lutego o godz. 16\, na świetlicy w Ściennem.  \nW programie mini turniej tenisa stołowego oraz dyskoteka.
URL:https://infostargard.pl/event/dzien-sportowy-na-swietlicy-w-sciennem/
LOCATION:świetlica w Ściennem
END:VEVENT
BEGIN:VEVENT
DTSTART;TZID=Europe/Helsinki:20260213T170000
DTEND;TZID=Europe/Helsinki:20260213T170000
DTSTAMP:20260419T190830
CREATED:20260211T085245Z
LAST-MODIFIED:20260211T085245Z
UID:38205-1771002000-1771002000@infostargard.pl
SUMMARY:Koncert walentynkowy w GCK w Dolicach
DESCRIPTION:
URL:https://infostargard.pl/event/koncert-walentynkowy-w-gck-w-dolicach/
LOCATION:GCK w Dolicach
END:VEVENT
BEGIN:VEVENT
DTSTART;TZID=Europe/Helsinki:20260213T180000
DTEND;TZID=Europe/Helsinki:20260213T180000
DTSTAMP:20260419T190830
CREATED:20260209T130933Z
LAST-MODIFIED:20260209T214823Z
UID:38013-1771005600-1771005600@infostargard.pl
SUMMARY:Rozmowy nie tylko o fotografii - Randka z albumem
DESCRIPTION:W Piwnicy pod Galerią przy Rynku Staromiejskim 1 w Stargardzie odbędą się „Rozmowy nie tylko o fotografii”.  \nTrzynastego wszystko zdarzyć się może! Nie martwcie się tym\, że to piątek. Przybywajcie na nasze drugie spotkanie – tym razem z myślą przewodnią „Randka z albumem” – w końcu już za chwilę Walentynki. Masz w swojej kolekcji album fotograficzny\, który zrobił na Tobie wrażenie i chcesz go pokazać lub o nim opowiedzieć – to spotkanie jest dla Ciebie. Jesteś autorem wyjątkowego albumu – to też jest spotkanie dla Ciebie. Nie masz albumu? Też nie szkodzi – możesz zainspirować się tym\, co przyniosą inni. Tak czy siak… rozmawiać będziemy nie tylko o fotografii. Wstęp wolny. Napoje i przekąski we własnym zakresie. Organizatorem wydarzenia jest stowarzyszenie fotografów RAMPa. \nInf. organizatora
URL:https://infostargard.pl/event/rozmowy-nie-tylko-o-fotografii-randka-z-albumem/
LOCATION:Piwnica Pod Galerią
END:VEVENT
END:VCALENDAR