BEGIN:VCALENDAR
VERSION:2.0
PRODID:-//Info Stargard - ECPv6.15.20//NONSGML v1.0//EN
CALSCALE:GREGORIAN
METHOD:PUBLISH
X-WR-CALNAME:Info Stargard
X-ORIGINAL-URL:https://infostargard.pl
X-WR-CALDESC:Wydarzenia dla Info Stargard
REFRESH-INTERVAL;VALUE=DURATION:PT1H
X-Robots-Tag:noindex
X-PUBLISHED-TTL:PT1H
BEGIN:VTIMEZONE
TZID:Europe/Helsinki
BEGIN:DAYLIGHT
TZOFFSETFROM:+0200
TZOFFSETTO:+0300
TZNAME:EEST
DTSTART:20250330T010000
END:DAYLIGHT
BEGIN:STANDARD
TZOFFSETFROM:+0300
TZOFFSETTO:+0200
TZNAME:EET
DTSTART:20251026T010000
END:STANDARD
BEGIN:DAYLIGHT
TZOFFSETFROM:+0200
TZOFFSETTO:+0300
TZNAME:EEST
DTSTART:20260329T010000
END:DAYLIGHT
BEGIN:STANDARD
TZOFFSETFROM:+0300
TZOFFSETTO:+0200
TZNAME:EET
DTSTART:20261025T010000
END:STANDARD
BEGIN:DAYLIGHT
TZOFFSETFROM:+0200
TZOFFSETTO:+0300
TZNAME:EEST
DTSTART:20270328T010000
END:DAYLIGHT
BEGIN:STANDARD
TZOFFSETFROM:+0300
TZOFFSETTO:+0200
TZNAME:EET
DTSTART:20271031T010000
END:STANDARD
END:VTIMEZONE
BEGIN:VEVENT
DTSTART;TZID=Europe/Helsinki:20260203T000000
DTEND;TZID=Europe/Helsinki:20260213T000000
DTSTAMP:20260419T203651
CREATED:20260115T122902Z
LAST-MODIFIED:20260115T122951Z
UID:35273-1770076800-1770940800@infostargard.pl
SUMMARY:Ferie w Książnicy
DESCRIPTION:FERIE W KSIĄŻNICY STARGARDZKIEJ 2026 \nZapraszamy dzieci (od 8. roku życia) na zimowe ferie pełne zabawy\, kreatywności i odkrywania świata! \nPrzygotowaliśmy cykl różnorodnych zajęć w Pracowni Kreatywności oraz w Filii nr 2 (os. Lotnisko). \nW programie m.in.: \n\nbajkowe podróże\,\nbajkowa robotyka\,\ntropienie „Jedenastej Skarpetki”\,\nkolory karnawału\,\ngry w bibliotece\,\nwyjątkowe spotkanie „Batman w Książnicy” – zajęcia edukacyjne z żywymi nietoperzami!\n\nTermin ferii: 3–13 lutego 2026 r. \nZajęcia odbywają się w godzinach przedpołudniowych.\nRóżne lokalizacje – szczegółowy harmonogram znajdziecie na plakacie.\nObowiązują zapisy – adresy e-mail podane na plakacie.\nLiczba miejsc ograniczona – nie zwlekajcie!\nFerie w bibliotece to świetna zabawa i nauka w jednym. \nInf. organizatora
URL:https://infostargard.pl/event/ferie-w-ksiaznicy/
LOCATION:Pracownia Kreatywności\, Filia nr 2 – osiedle Lotnisko
END:VEVENT
BEGIN:VEVENT
DTSTART;TZID=Europe/Helsinki:20260210T120000
DTEND;TZID=Europe/Helsinki:20260210T120000
DTSTAMP:20260419T203651
CREATED:20260116T134029Z
LAST-MODIFIED:20260122T093323Z
UID:35362-1770724800-1770724800@infostargard.pl
SUMMARY:Laboratorium Pana Kleksa - spektakl dla dzieci z gm. Kobylanka
DESCRIPTION:Centrum Kultury i Rekreacji w Kobylance zaprasza wszystkie dzieci z Gminy Kobylanka na fantastyczny spektakl pt. „Laboratorium Pana Kleksa”.  \nWydarzenie odbędzie się we wtorek\, 10 lutego o godz. 12. \nPan Kleks\, jak wiadomo\, przepada za wynalazkami\, technicznymi nowinkami i wszystkimi niekonwencjonalnymi sposobami ulepszania (niekoniecznie upraszczania) codzienności. Mało kto jednak wie\, że wszelkich badań i innowacji dokonuje się w tajnym Laboratorium. To będzie wycieczka po technologicznym zapleczu Akademii Pana Kleksa. Wraz z szalonym docentem i jego niewiele bardziej zrównoważoną asystentką zaprezentujemy w akcji m.in. ciekły azot\, ciekły tlen\, polimery. Będziemy mrozić\, podpalać i wybuchać\, a wszystko to na styku nauki i czarów. \nZapisy wyłącznie online: https://forms.gle/Envx1JMyXF19uFgR9
URL:https://infostargard.pl/event/laboratorium-pana-kleksa-spektakl-dla-dzieci-z-gm-kobylanka/
LOCATION:CKiR przy ul. Jeziornej w Kobylance
END:VEVENT
BEGIN:VEVENT
DTSTART;TZID=Europe/Helsinki:20260210T170000
DTEND;TZID=Europe/Helsinki:20260210T170000
DTSTAMP:20260419T203651
CREATED:20260205T163147Z
LAST-MODIFIED:20260205T163234Z
UID:37748-1770742800-1770742800@infostargard.pl
SUMMARY:Dzień Kinomaniaka w świetlicy w Ściennem
DESCRIPTION:Stowarzyszenie W stronę słońca zaprasza dzieci i młodzież na Dzień Kinomaniaka\, który odbędzie się we wtorek\, 10 lutego o godz. 17\, na świetlicy w Ściennem.  \nW ramach spotkania zostanie wyświetlony film „Trolle 3”\, a na uczestników będą czekać popcorn i napoje.
URL:https://infostargard.pl/event/dzien-kinomaniaka-w-swietlicy-w-sciennem/
LOCATION:świetlica w Ściennem
END:VEVENT
END:VCALENDAR