BEGIN:VCALENDAR
VERSION:2.0
PRODID:-//Info Stargard - ECPv6.15.20//NONSGML v1.0//EN
CALSCALE:GREGORIAN
METHOD:PUBLISH
X-ORIGINAL-URL:https://infostargard.pl
X-WR-CALDESC:Wydarzenia dla Info Stargard
REFRESH-INTERVAL;VALUE=DURATION:PT1H
X-Robots-Tag:noindex
X-PUBLISHED-TTL:PT1H
BEGIN:VTIMEZONE
TZID:Europe/Helsinki
BEGIN:DAYLIGHT
TZOFFSETFROM:+0200
TZOFFSETTO:+0300
TZNAME:EEST
DTSTART:20250330T010000
END:DAYLIGHT
BEGIN:STANDARD
TZOFFSETFROM:+0300
TZOFFSETTO:+0200
TZNAME:EET
DTSTART:20251026T010000
END:STANDARD
BEGIN:DAYLIGHT
TZOFFSETFROM:+0200
TZOFFSETTO:+0300
TZNAME:EEST
DTSTART:20260329T010000
END:DAYLIGHT
BEGIN:STANDARD
TZOFFSETFROM:+0300
TZOFFSETTO:+0200
TZNAME:EET
DTSTART:20261025T010000
END:STANDARD
BEGIN:DAYLIGHT
TZOFFSETFROM:+0200
TZOFFSETTO:+0300
TZNAME:EEST
DTSTART:20270328T010000
END:DAYLIGHT
BEGIN:STANDARD
TZOFFSETFROM:+0300
TZOFFSETTO:+0200
TZNAME:EET
DTSTART:20271031T010000
END:STANDARD
END:VTIMEZONE
BEGIN:VEVENT
DTSTART;TZID=Europe/Helsinki:20260203T000000
DTEND;TZID=Europe/Helsinki:20260213T000000
DTSTAMP:20260419T190833
CREATED:20260115T122902Z
LAST-MODIFIED:20260115T122951Z
UID:35273-1770076800-1770940800@infostargard.pl
SUMMARY:Ferie w Książnicy
DESCRIPTION:FERIE W KSIĄŻNICY STARGARDZKIEJ 2026 \nZapraszamy dzieci (od 8. roku życia) na zimowe ferie pełne zabawy\, kreatywności i odkrywania świata! \nPrzygotowaliśmy cykl różnorodnych zajęć w Pracowni Kreatywności oraz w Filii nr 2 (os. Lotnisko). \nW programie m.in.: \n\nbajkowe podróże\,\nbajkowa robotyka\,\ntropienie „Jedenastej Skarpetki”\,\nkolory karnawału\,\ngry w bibliotece\,\nwyjątkowe spotkanie „Batman w Książnicy” – zajęcia edukacyjne z żywymi nietoperzami!\n\nTermin ferii: 3–13 lutego 2026 r. \nZajęcia odbywają się w godzinach przedpołudniowych.\nRóżne lokalizacje – szczegółowy harmonogram znajdziecie na plakacie.\nObowiązują zapisy – adresy e-mail podane na plakacie.\nLiczba miejsc ograniczona – nie zwlekajcie!\nFerie w bibliotece to świetna zabawa i nauka w jednym. \nInf. organizatora
URL:https://infostargard.pl/event/ferie-w-ksiaznicy/
LOCATION:Pracownia Kreatywności\, Filia nr 2 – osiedle Lotnisko
END:VEVENT
BEGIN:VEVENT
DTSTART;TZID=Europe/Helsinki:20260207T103000
DTEND;TZID=Europe/Helsinki:20260207T103000
DTSTAMP:20260419T190833
CREATED:20260115T102620Z
LAST-MODIFIED:20260115T102642Z
UID:35215-1770460200-1770460200@infostargard.pl
SUMMARY:Spotkanie z nietoperzami w Książnicy Stargardzkiej
DESCRIPTION:Książnica Stargardzka zaprasza na wyjątkowe zajęcia edukacyjne pn. „Batman w Książnicy Stargardzkiej”. \nSpotkanie odbędzie się w sobotę\, 7 lutego w godz. 10:30 i 12\, w Pracowni Kreatywności KS. \nPodczas spotkania dzieci powyżej 8. roku życia będą miały okazje poznać fascynujący świat nietoperzy\,  zobaczyć je z bliska i dowiedzieć się\, jaką rolę pełnią w ekosystemie. To połączenie nauki\, przygody i bezpośredniego kontaktu z naturą. \nZapisy obowiązkowe: animacja@ksiaznicastargardzka.pl. Liczba miejsc ograniczona.
URL:https://infostargard.pl/event/spotkanie-z-nietoperzami-w-ksiaznicy-stargardzkiej/
LOCATION:Pracownia Kreatywności
END:VEVENT
BEGIN:VEVENT
DTSTART;TZID=Europe/Helsinki:20260207T120000
DTEND;TZID=Europe/Helsinki:20260207T160000
DTSTAMP:20260419T190833
CREATED:20260129T101207Z
LAST-MODIFIED:20260129T101822Z
UID:37019-1770465600-1770480000@infostargard.pl
SUMMARY:Warsztaty malowania na jeansie w Chociwlu
DESCRIPTION:W sobotę\, 7 lutego\, w Hali Widowiskowo-Sportowej w Chociwlu\, odbędą się warsztaty malowania na jeansie dla dzieci i młodzieży z Gminy Chociwel.  \nSpotkanie potrwa od godz. 12 do 16. Zapisy obowiązują do 2 lutego pod nr tel. 452 506 993. \n– Jeśli macie zniszczoną\, nieużywaną kurtkę i spodnie\, które nie nosicie lub zamierzacie wyrzucić\, macie szanse nadać im nowy\, jedyny i niepowtarzalny wygląd – zachęcają organizatorzy. – Pamiętacie tą tylko jedną wyjątkową\, ręcznie malowaną\, stworzoną specjalnie na licytację 34. Finał WOŚP kurtkę od Lady Jacket? Teraz pod jej profesjonalnym okiem możecie stworzyć swój indywidualny projekt.\n \nUdział jest bezpłatny.
URL:https://infostargard.pl/event/warsztaty-malowania-na-jeansie-w-chociwlu/
LOCATION:Hala Widowiskowo-Sportowa w Chociwlu
END:VEVENT
BEGIN:VEVENT
DTSTART;TZID=Europe/Helsinki:20260207T160000
DTEND;TZID=Europe/Helsinki:20260207T160000
DTSTAMP:20260419T190833
CREATED:20260205T132837Z
LAST-MODIFIED:20260205T162647Z
UID:37733-1770480000-1770480000@infostargard.pl
SUMMARY:Stowarzyszenie W stronę słońca" zaprasza na ferie - Dzień Pizzy
DESCRIPTION:Stowarzyszenie W stronę słońca zaprasza dzieci i młodzież na Dzień Pizzy\, który odbędzie się w sobotę\, 7 lutego o godz. 16\, na świetlicy w Ściennem.  \nW programie wspólne pieczenie pizzy\, przyrządzanie Bubble tea a także gry stolikowe i tenis stołowy.
URL:https://infostargard.pl/event/stowarzyszenie-w-strone-slonca-zaprasza-na-ferie-dzien-pizzy/
LOCATION:świetlica w Ściennem
END:VEVENT
BEGIN:VEVENT
DTSTART;TZID=Europe/Helsinki:20260207T160000
DTEND;TZID=Europe/Helsinki:20260207T160000
DTSTAMP:20260419T190833
CREATED:20260205T165813Z
LAST-MODIFIED:20260205T184905Z
UID:37759-1770480000-1770480000@infostargard.pl
SUMMARY:Zimowe kino w Reptowie
DESCRIPTION:Sołtys wraz z Kołem Gospodyń Wiejskich w Reptowie zapraszają na zimowe kino\, które odbędzie się w sobotę\, 7 lutego o godz. 16\, w świetlicy w Reptowie.  \nWstęp jest wolny. Po seansie zimowy pokaz ognia. \n– Zapraszamy na darmowy familijny seans filmowy\, a do tego popcorn\, cola\, pizza – wszystko za DARMO – zachęcają organizatorzy. – Zabierz znajomych\, rodzinę i dobry humor! \nWydarzenie współfinansowane z funduszy sołeckich sołectw: Reptowo\, Cisewo i Wielichówek oraz przy wsparciu sponsorów.
URL:https://infostargard.pl/event/zimowe-kino-w-reptowie/
LOCATION:świetlica w Reptowie
END:VEVENT
BEGIN:VEVENT
DTSTART;TZID=Europe/Helsinki:20260207T190000
DTEND;TZID=Europe/Helsinki:20260207T190000
DTSTAMP:20260419T190833
CREATED:20260206T104117Z
LAST-MODIFIED:20260206T104129Z
UID:37809-1770490800-1770490800@infostargard.pl
SUMMARY:Koncert Edith Piaf po polsku
DESCRIPTION:Joanna Sinkiewicz & Alex Marek na żywo w Caffe Południk Music Club! Koncert odbędzie się 7 lutego. \n\nZapraszamy Was na wyjątkowy\, pełen emocji koncert poświęcony legendzie francuskiej piosenki – Édith Piaf. Jej najsłynniejsze utwory usłyszycie w polskich wersjach językowych w niezwykłej\, kameralnej odsłonie z akompaniamentem fortepianu na żywo! Joanna Sinkiewicz – wokalistka znana z występów na scenach Opola\, Sopotu i Eurowizji (2019). Porusza się swobodnie między jazzem\, poezją\, musicalem\, operą i folkiem. Alex Marek – szczeciński pianista\, kompozytor i twórca wielu projektów muzycznych. W programie m.in.: „La Vie en Rose”\, „Milord”\, „Hymne à l’amour”\, „L’Accordéoniste” i wiele innych – oczywiście po polsku. Cena biletu 50 zł.\n\n\nInf. organizatora
URL:https://infostargard.pl/event/koncert-edith-piaf-po-polsku/
END:VEVENT
END:VCALENDAR