BEGIN:VCALENDAR
VERSION:2.0
PRODID:-//Info Stargard - ECPv6.15.20//NONSGML v1.0//EN
CALSCALE:GREGORIAN
METHOD:PUBLISH
X-ORIGINAL-URL:https://infostargard.pl
X-WR-CALDESC:Wydarzenia dla Info Stargard
REFRESH-INTERVAL;VALUE=DURATION:PT1H
X-Robots-Tag:noindex
X-PUBLISHED-TTL:PT1H
BEGIN:VTIMEZONE
TZID:Europe/Helsinki
BEGIN:DAYLIGHT
TZOFFSETFROM:+0200
TZOFFSETTO:+0300
TZNAME:EEST
DTSTART:20250330T010000
END:DAYLIGHT
BEGIN:STANDARD
TZOFFSETFROM:+0300
TZOFFSETTO:+0200
TZNAME:EET
DTSTART:20251026T010000
END:STANDARD
BEGIN:DAYLIGHT
TZOFFSETFROM:+0200
TZOFFSETTO:+0300
TZNAME:EEST
DTSTART:20260329T010000
END:DAYLIGHT
BEGIN:STANDARD
TZOFFSETFROM:+0300
TZOFFSETTO:+0200
TZNAME:EET
DTSTART:20261025T010000
END:STANDARD
BEGIN:DAYLIGHT
TZOFFSETFROM:+0200
TZOFFSETTO:+0300
TZNAME:EEST
DTSTART:20270328T010000
END:DAYLIGHT
BEGIN:STANDARD
TZOFFSETFROM:+0300
TZOFFSETTO:+0200
TZNAME:EET
DTSTART:20271031T010000
END:STANDARD
END:VTIMEZONE
BEGIN:VEVENT
DTSTART;TZID=Europe/Helsinki:20260202T100000
DTEND;TZID=Europe/Helsinki:20260206T000000
DTSTAMP:20260419T190833
CREATED:20260204T171636Z
LAST-MODIFIED:20260204T171700Z
UID:37636-1770026400-1770336000@infostargard.pl
SUMMARY:Poranki filmowe w Hali Widowiskowej w Chociwlu
DESCRIPTION:Burmistrz Chociwla Stanisław Szymczak zaprasza wszystkie chętne dzieci na poranki filmowe\, które odbędą się od 2 do 6 lutego\, od godz. 10 w Hali Widowiskowo – Sportowej w Chociwlu. 
URL:https://infostargard.pl/event/poranki-filmowe-w-hali-widowiskowej-w-chociwlu/
LOCATION:Hala Widowiskowo-Sportowa w Chociwlu
END:VEVENT
BEGIN:VEVENT
DTSTART;TZID=Europe/Helsinki:20260203T000000
DTEND;TZID=Europe/Helsinki:20260213T000000
DTSTAMP:20260419T190833
CREATED:20260115T122902Z
LAST-MODIFIED:20260115T122951Z
UID:35273-1770076800-1770940800@infostargard.pl
SUMMARY:Ferie w Książnicy
DESCRIPTION:FERIE W KSIĄŻNICY STARGARDZKIEJ 2026 \nZapraszamy dzieci (od 8. roku życia) na zimowe ferie pełne zabawy\, kreatywności i odkrywania świata! \nPrzygotowaliśmy cykl różnorodnych zajęć w Pracowni Kreatywności oraz w Filii nr 2 (os. Lotnisko). \nW programie m.in.: \n\nbajkowe podróże\,\nbajkowa robotyka\,\ntropienie „Jedenastej Skarpetki”\,\nkolory karnawału\,\ngry w bibliotece\,\nwyjątkowe spotkanie „Batman w Książnicy” – zajęcia edukacyjne z żywymi nietoperzami!\n\nTermin ferii: 3–13 lutego 2026 r. \nZajęcia odbywają się w godzinach przedpołudniowych.\nRóżne lokalizacje – szczegółowy harmonogram znajdziecie na plakacie.\nObowiązują zapisy – adresy e-mail podane na plakacie.\nLiczba miejsc ograniczona – nie zwlekajcie!\nFerie w bibliotece to świetna zabawa i nauka w jednym. \nInf. organizatora
URL:https://infostargard.pl/event/ferie-w-ksiaznicy/
LOCATION:Pracownia Kreatywności\, Filia nr 2 – osiedle Lotnisko
END:VEVENT
BEGIN:VEVENT
DTSTART;TZID=Europe/Helsinki:20260205T170000
DTEND;TZID=Europe/Helsinki:20260205T170000
DTSTAMP:20260419T190833
CREATED:20260120T120318Z
LAST-MODIFIED:20260122T091523Z
UID:35742-1770310800-1770310800@infostargard.pl
SUMMARY:Spotkanie wokół książki „Andrzej Milczanowski (1939–2024)".
DESCRIPTION:Książnica Stargardzka zaprasza na promocję książki poświęconej Andrzejowi Milczanowskiemu – jednej z ważniejszych\, a zarazem nieoczywistych postaci najnowszej historii Polski. \nSpotkanie odbędzie się w czwartek\, 5 lutego o godz. 17\, w Czytelni Głównej Książnicy Stargardzkiej. \n„Kolaż (auto)biograficzny” nie jest klasyczną biografią. To wielogłosowy portret zbudowany z rozmów\, wspomnień\, dokumentów i refleksji\, pokazujący zarówno działalność opozycyjną w PRL\, jak i odpowiedzialność za państwo w trudnym czasie transformacji lat 90. Obok polityki pojawia się też Milczanowski prywatnie – człowiek refleksyjny\, zanurzony w kulturze\, filozofii i muzyce. \nW spotkaniu udział wezmą: \n\nKinga Konieczny – dziennikarka i autorka zajmująca się najnowszą historią\, pamięcią i losami jednostek na tle wielkich przemian\,\ndr hab. Eryk Krasucki\, prof. US – historyk\, badacz dziejów XX wieku i przemian ustrojowych w Polsce.\n\nRozmowę poprowadzi dr Michał Siedziako. Wstęp jest wolny.
URL:https://infostargard.pl/event/spotkanie-wokol-ksiazki-andrzej-milczanowski-1939-2024/
LOCATION:Czytelnia Główna Książnicy Stargardzkiej
END:VEVENT
BEGIN:VEVENT
DTSTART;TZID=Europe/Helsinki:20260205T180000
DTEND;TZID=Europe/Helsinki:20260205T180000
DTSTAMP:20260419T190833
CREATED:20260107T095316Z
LAST-MODIFIED:20260107T095326Z
UID:34419-1770314400-1770314400@infostargard.pl
SUMMARY:Koncert Marka Torzewskiego
DESCRIPTION:Stargardzkie Centrum Kultury zaprasza na koncert Marka Torzewskiego\, światowej sławy śpiewaka operowego. \nWydarzenie odbędzie się w czwartek\, 5 lutego o godz. 18. na Dużej Scenie SCK. Bilety w cenie 130 zł. \nNa koncercie będzie można usłyszeć znane i lubiane przez wszystkich przeboje polskie i włoskie. Marek Torzewski był wielokrotnie nagradzany za sztukę wokalną\, rozsławianie polskiej kultury w świecie i wybitną indywidualność artystyczną. \nJako pierwszy polski artysta wykonał recital w Kwaterze Głównej NATO w Shepe oraz inaugurował Międzynarodowy Rok Chopinowski w Belgii\, gdzie od lat mieszka. Na stadionie Śląskim w Chorzowie\, jako pierwszy artysta w Polsce wykonał hymn przed meczem Polska – Ukraina. Autorska piosenka Marka Torzewskiego „Do przodu\, Polsko” została uznana za hymn reprezentacji. \nW czasie swojej kariery Marek Torzewski skutecznie burzył schematyczne wyobrażenie polskich odbiorców o śpiewaku operowym w koturnowym anturażu. Tak jak Jan Kiepura śpiewał niegdyś arie operetkowe z balkonu hotelu\, Torzewski pojawił się w programach TVP\, na estradach\, w plenerze ubrany mniej zobowiązująco\, z półdługimi włosami. \nWykształcony klasycznie\, nie ogranicza się do muzyki poważnej. Torzewski ujmuje pięknie brzmiącym\, ciepłym głosem\, swobodą i naturalnością\, wprowadzając w romantyczny nastrój. Wyjątkowy talent umożliwił mu występy na scenach całego świata: w teatrze brukselskim\, w Paryżu\, Nowym Jorku czy w mediolańskiej La Scali. Miał przyjemność współpracować z najlepszymi dyrygentami m.in. Zubinem Mehtą czy Claudio Abbado. \nInf. organizatora
URL:https://infostargard.pl/event/koncert-marka-torzewskiego/
LOCATION:Duża Scena SCK
END:VEVENT
END:VCALENDAR