BEGIN:VCALENDAR
VERSION:2.0
PRODID:-//Info Stargard - ECPv6.15.20//NONSGML v1.0//EN
CALSCALE:GREGORIAN
METHOD:PUBLISH
X-ORIGINAL-URL:https://infostargard.pl
X-WR-CALDESC:Wydarzenia dla Info Stargard
REFRESH-INTERVAL;VALUE=DURATION:PT1H
X-Robots-Tag:noindex
X-PUBLISHED-TTL:PT1H
BEGIN:VTIMEZONE
TZID:Europe/Helsinki
BEGIN:DAYLIGHT
TZOFFSETFROM:+0200
TZOFFSETTO:+0300
TZNAME:EEST
DTSTART:20250330T010000
END:DAYLIGHT
BEGIN:STANDARD
TZOFFSETFROM:+0300
TZOFFSETTO:+0200
TZNAME:EET
DTSTART:20251026T010000
END:STANDARD
BEGIN:DAYLIGHT
TZOFFSETFROM:+0200
TZOFFSETTO:+0300
TZNAME:EEST
DTSTART:20260329T010000
END:DAYLIGHT
BEGIN:STANDARD
TZOFFSETFROM:+0300
TZOFFSETTO:+0200
TZNAME:EET
DTSTART:20261025T010000
END:STANDARD
BEGIN:DAYLIGHT
TZOFFSETFROM:+0200
TZOFFSETTO:+0300
TZNAME:EEST
DTSTART:20270328T010000
END:DAYLIGHT
BEGIN:STANDARD
TZOFFSETFROM:+0300
TZOFFSETTO:+0200
TZNAME:EET
DTSTART:20271031T010000
END:STANDARD
END:VTIMEZONE
BEGIN:VEVENT
DTSTART;TZID=Europe/Helsinki:20260202T100000
DTEND;TZID=Europe/Helsinki:20260206T000000
DTSTAMP:20260419T190835
CREATED:20260204T171636Z
LAST-MODIFIED:20260204T171700Z
UID:37636-1770026400-1770336000@infostargard.pl
SUMMARY:Poranki filmowe w Hali Widowiskowej w Chociwlu
DESCRIPTION:Burmistrz Chociwla Stanisław Szymczak zaprasza wszystkie chętne dzieci na poranki filmowe\, które odbędą się od 2 do 6 lutego\, od godz. 10 w Hali Widowiskowo – Sportowej w Chociwlu. 
URL:https://infostargard.pl/event/poranki-filmowe-w-hali-widowiskowej-w-chociwlu/
LOCATION:Hala Widowiskowo-Sportowa w Chociwlu
END:VEVENT
BEGIN:VEVENT
DTSTART;TZID=Europe/Helsinki:20260202T110000
DTEND;TZID=Europe/Helsinki:20260202T110000
DTSTAMP:20260419T190835
CREATED:20260129T095101Z
LAST-MODIFIED:20260129T095144Z
UID:37015-1770030000-1770030000@infostargard.pl
SUMMARY:Ferie zimowe w Gminnym Centrum Kultury w Dolicach
DESCRIPTION:Wójt Gminy Dolice Paweł Nowakowski oraz Gminne Centrum Kultury w Dolicach zapraszają na ferie zimowe.  \nZajęcia będą się odbywały w godzinach 11-14. Udział jest bezpłatny. \nFeryjne zajęcia potrwają do piątku\, 13 lutego.
URL:https://infostargard.pl/event/ferie-zimowe-w-gminnym-centrum-kultury-w-dolicach/
LOCATION:Gminne Centrum Kultury w Dolicach
END:VEVENT
BEGIN:VEVENT
DTSTART;TZID=Europe/Helsinki:20260202T180000
DTEND;TZID=Europe/Helsinki:20260202T180000
DTSTAMP:20260419T190835
CREATED:20260107T093643Z
LAST-MODIFIED:20260107T094008Z
UID:34415-1770055200-1770055200@infostargard.pl
SUMMARY:Spektakl: Nienasyceni
DESCRIPTION:Stargardzkie Centrum Kultury zaprasza na spektakl pt. „Nienasyceni”\, który odbędzie się w poniedziałek\, 2 lutego w godz. 18 i 20:30\, na Dużej Scenie SCK. \nBilety od 100 do 170 zł dostępne w kasie kina lub online. \nNienasyceni to pełen emocji\, prowokujący do myślenia komediodramat\, który żadnego widza nie pozostawi obojętnym. To inne spojrzenie na miłość\, wierność\, pożądanie\, relacje i komunikację w związku. To spektakl o sztuce bycia razem\, o tym\, czego potrzebuje związek\, aby po latach nie tylko przetrwać\, ale też rozkwitać. \nTo miał być wieczór pełen relaksu i dobrej zabawy\, bo jak śpiewa klasyk „gdy nie ma w domu dzieci\, to jesteśmy niegrzeczni”. Tymczasem\, gdy alkohol płynie strumieniami\, problemy i tajemnice wychodzą na jaw\, wzajemne zaufanie zostaje wystawione na próbę\, a granice przekroczone. Niewinna impreza zamienia się w spotkanie pełne nieoczekiwanych zwrotów akcji\, które na zawsze zmieni życie trzech par przyjaciół. Jaki będzie finał tego wieczoru? Sami jesteśmy ciekawi. \nObsada: \nKelly – Vanessa Aleksander\nLisy – Olga Bołądź / Paulina Chruściel\nJoan – Magdalena Lamparska\nGreg – Maciej Zakościelny\nPhil – Piotr Witkowski / Robert Gulaczyk\nCarl – Jakub Sasak \nReżyseria: Anita Sokołowska\nAutor „It’s just sex”: Jeff Gould \nTłumaczenie: Lesław Żurek\nAutor muzyki: Krzysztof Kaliski\nScenografia: Marcin Chlanda\nPlastyka ruchu: Magdalena Jędra\nProdukcja: Teatr Garnizon Sztuki \nInf. organizatora
URL:https://infostargard.pl/event/spektakl-nienasyceni/
LOCATION:Duża Scena SCK
END:VEVENT
END:VCALENDAR