BEGIN:VCALENDAR
VERSION:2.0
PRODID:-//Info Stargard - ECPv6.15.20//NONSGML v1.0//EN
CALSCALE:GREGORIAN
METHOD:PUBLISH
X-WR-CALNAME:Info Stargard
X-ORIGINAL-URL:https://infostargard.pl
X-WR-CALDESC:Wydarzenia dla Info Stargard
REFRESH-INTERVAL;VALUE=DURATION:PT1H
X-Robots-Tag:noindex
X-PUBLISHED-TTL:PT1H
BEGIN:VTIMEZONE
TZID:Europe/Helsinki
BEGIN:DAYLIGHT
TZOFFSETFROM:+0200
TZOFFSETTO:+0300
TZNAME:EEST
DTSTART:20250330T010000
END:DAYLIGHT
BEGIN:STANDARD
TZOFFSETFROM:+0300
TZOFFSETTO:+0200
TZNAME:EET
DTSTART:20251026T010000
END:STANDARD
BEGIN:DAYLIGHT
TZOFFSETFROM:+0200
TZOFFSETTO:+0300
TZNAME:EEST
DTSTART:20260329T010000
END:DAYLIGHT
BEGIN:STANDARD
TZOFFSETFROM:+0300
TZOFFSETTO:+0200
TZNAME:EET
DTSTART:20261025T010000
END:STANDARD
BEGIN:DAYLIGHT
TZOFFSETFROM:+0200
TZOFFSETTO:+0300
TZNAME:EEST
DTSTART:20270328T010000
END:DAYLIGHT
BEGIN:STANDARD
TZOFFSETFROM:+0300
TZOFFSETTO:+0200
TZNAME:EET
DTSTART:20271031T010000
END:STANDARD
END:VTIMEZONE
BEGIN:VEVENT
DTSTART;TZID=Europe/Helsinki:20260130T120000
DTEND;TZID=Europe/Helsinki:20260130T120000
DTSTAMP:20260419T215847
CREATED:20260122T121041Z
LAST-MODIFIED:20260122T121129Z
UID:35982-1769774400-1769774400@infostargard.pl
SUMMARY:Spotkanie edukacyjne ze Stowarzyszeniem Edukacja-Zdrowie-Aktywność
DESCRIPTION:Stowarzyszenie Edukacja-Zdrowie-Aktywność zaprasza wszystkich chętnych na spotkanie pn. „Jak radzić sobie ze stresem”?. \nWydarzenie odbędzie się w piątek\, 30 stycznia o godz. 12\, w siedzibie Stowarzyszenia EZA\, ul. Wojska Polskiego 4U/3. \nPodczas spotkania będzie można porozmawiać między innymi o: \n\nźródłach stresu w codziennym życiu\,\njego wpływie na zdrowie psychiczne i fizyczne\,\npraktycznych sposobach radzenia sobie ze stresem\,\nbudowaniu wewnętrznej równowagi i odporności psychicznej.\n\n– Stres towarzyszy nam na co dzień. Warto wiedzieć\, jak go rozpoznawać i jak skutecznie sobie z nim radzić\, aby nie przejmował kontroli nad naszym samopoczuciem i zdrowiem – zachęcają organizatorzy. – Dołącz do nas i zadaj o siebie!
URL:https://infostargard.pl/event/spotkanie-edukacyjne-ze-stowarzyszeniem-edukacja-zdrowie-aktywnosc/
LOCATION:Siedziba Stowarzyszenia EZA\, ul. Wojska Polskiego 4U/3
END:VEVENT
BEGIN:VEVENT
DTSTART;TZID=Europe/Helsinki:20260130T180000
DTEND;TZID=Europe/Helsinki:20260130T180000
DTSTAMP:20260419T215847
CREATED:20260106T115758Z
LAST-MODIFIED:20260107T092450Z
UID:34310-1769796000-1769796000@infostargard.pl
SUMMARY:Stargardzka Gala Przedsiębiorczości
DESCRIPTION:Stargardzka Gala Przedsiębiorczości 2026 odbędzie się 30.01. (piątek) o 18:00 w sali kinowej Stargardzkiego Centrum Kultury przy ul. Piłsudskiego 105 (wejście od trony placu Wolności). \n– Podczas wydarzenia dowiemy się m.in. jaki jest nowy Stargardzki Produkt Lokalny i kto otrzyma nagrodę im. Prezydenta Sławomira Pajora dla Stargardzkiego Przedsiębiorcy Roku – informuje Urząd Miejski w Stargardzie. – Jak zawsze swoje wyróżnienia lokalnym firmom przyzna również Stargardzka Izba Gospodarcza. Zaplanowano także interesujący koncert „Playlista Pokolenia Zet. Głosy Młodego Pokolenia”.
URL:https://infostargard.pl/event/stargardzka-gala-przedsiebiorczosci/
LOCATION:Duża Scena SCK
END:VEVENT
BEGIN:VEVENT
DTSTART;TZID=Europe/Helsinki:20260130T180000
DTEND;TZID=Europe/Helsinki:20260130T200000
DTSTAMP:20260419T215847
CREATED:20260129T115622Z
LAST-MODIFIED:20260129T115640Z
UID:37055-1769796000-1769803200@infostargard.pl
SUMMARY:Mapping na MDK w Stargardzie
DESCRIPTION:W piątek\, 30 stycznia\, od godz. 18 do 20\, Młodzieżowy Dom Kultury zaprasza na recytacje sonetów gen. Mariusza Zaruskiego w wykonaniu uczestników koła teatralnego.  \nCałość będzie wyświetlana w zapętleniu na ścianie budynku MDK przez dwie godziny.
URL:https://infostargard.pl/event/mapping-na-mdk-w-stargardzie/
LOCATION:ściana budynku MDK
END:VEVENT
END:VCALENDAR