BEGIN:VCALENDAR
VERSION:2.0
PRODID:-//Info Stargard - ECPv6.15.20//NONSGML v1.0//EN
CALSCALE:GREGORIAN
METHOD:PUBLISH
X-ORIGINAL-URL:https://infostargard.pl
X-WR-CALDESC:Wydarzenia dla Info Stargard
REFRESH-INTERVAL;VALUE=DURATION:PT1H
X-Robots-Tag:noindex
X-PUBLISHED-TTL:PT1H
BEGIN:VTIMEZONE
TZID:Europe/Helsinki
BEGIN:DAYLIGHT
TZOFFSETFROM:+0200
TZOFFSETTO:+0300
TZNAME:EEST
DTSTART:20250330T010000
END:DAYLIGHT
BEGIN:STANDARD
TZOFFSETFROM:+0300
TZOFFSETTO:+0200
TZNAME:EET
DTSTART:20251026T010000
END:STANDARD
BEGIN:DAYLIGHT
TZOFFSETFROM:+0200
TZOFFSETTO:+0300
TZNAME:EEST
DTSTART:20260329T010000
END:DAYLIGHT
BEGIN:STANDARD
TZOFFSETFROM:+0300
TZOFFSETTO:+0200
TZNAME:EET
DTSTART:20261025T010000
END:STANDARD
BEGIN:DAYLIGHT
TZOFFSETFROM:+0200
TZOFFSETTO:+0300
TZNAME:EEST
DTSTART:20270328T010000
END:DAYLIGHT
BEGIN:STANDARD
TZOFFSETFROM:+0300
TZOFFSETTO:+0200
TZNAME:EET
DTSTART:20271031T010000
END:STANDARD
END:VTIMEZONE
BEGIN:VEVENT
DTSTART;TZID=Europe/Helsinki:20260128T080000
DTEND;TZID=Europe/Helsinki:20260128T080000
DTSTAMP:20260419T190833
CREATED:20260113T094045Z
LAST-MODIFIED:20260115T093754Z
UID:34997-1769587200-1769587200@infostargard.pl
SUMMARY:"Zwyczajne wakacje" - pokaz filmu w SCK - Seans dla szkół
DESCRIPTION:Po raz kolejny\, przez 2 dni\, w Stargardzie będzie można obejrzeć krótkometrażowy film pt. „Zwyczajne wakacje” – wyjątkową produkcję stworzoną przez młodych\, ambitnych stargardzian z grupy Młodzi Mogą Więcej.  \nPokaz odbędzie się w środę\, 28 stycznia o godz. 8. \nTo historia\, która pokazuje\, że pasja nie ma wieku\, a odwaga w realizowaniu marzeń może prowadzić do naprawdę dużych projektów. Twórcy filmu chcą inspirować swoich rówieśników i udowadniają\, że warto działać\, próbować i rozwijać swoje zainteresowania. Po seansie zapraszamy na spotkanie z twórcami filmu. Będzie okazja porozmawiać o kulisach produkcji\, zrealizowanych już pomysłach oraz planach na przyszłość. Warto dodać\, że nad filmem pracowało 20 osób przez około 400 godzin\, a w jego realizacji wykorzystano m.in. zagadnienia powstałe we współpracy z Zachodniopomorskim Instytutem Psychoterapii. \nWięcej o filmie „Zwyczajne wakacje” już pisaliśmy. Artykuł znajdziesz  tutaj  \nInf. SCK
URL:https://infostargard.pl/event/zwyczajne-wakacje-pokaz-filmu-w-sck/
LOCATION:Kino SCK
END:VEVENT
BEGIN:VEVENT
DTSTART;TZID=Europe/Helsinki:20260128T083000
DTEND;TZID=Europe/Helsinki:20260128T083000
DTSTAMP:20260419T190833
CREATED:20260116T133836Z
LAST-MODIFIED:20260122T090742Z
UID:35358-1769589000-1769589000@infostargard.pl
SUMMARY:Hanza - komiks o bohaterach rzeki Iny - rozstrzygnięcie XIX Powiatowego Konkursu na Komiks
DESCRIPTION:W środę\, 28 stycznia o godz. 8:30 w holu Starostwa Powiatowego w Stargardzie odbędzie się otwarcie pokonkursowej wystawy oraz podsumowanie XIX Powiatowego Konkursu na Komiks pt. „Hanza – komiks o bohaterach rzeki Iny”.  \nOrganizatorami tego wydarzenia są Powiatowy Ośrodek Doskonalenia Nauczycieli w Stargardzie i Książnica Stargardzka. \n– To doskonała okazja\, by zobaczyć\, jak młodzi twórcy opowiadają historię regionu językiem obrazu i narracji graficznej – zachęcają organizatorzy. – Będzie inspirująco\, lokalnie i bardzo twórczo. \nHonorowy patronat: Starosta Stargardzki – Pani Iwona Wiśniewska
URL:https://infostargard.pl/event/hanza-komiks-o-bohaterach-rzeki-iny-rozstrzygniecie-xix-powiatowego-konkursu-na-komiks/
LOCATION:hol Starostwa Powiatowego w Stargardzie
END:VEVENT
BEGIN:VEVENT
DTSTART;TZID=Europe/Helsinki:20260128T180000
DTEND;TZID=Europe/Helsinki:20260128T180000
DTSTAMP:20260419T190833
CREATED:20260107T092127Z
LAST-MODIFIED:20260107T092137Z
UID:34405-1769623200-1769623200@infostargard.pl
SUMMARY:Alibababki: Dreams
DESCRIPTION:Stargardzkie Centrum Kultury zaprasza na film pt. „Dreams” w ramach comiesięcznych spotkań Alibabki.  \nSeans odbędzie się w środę\, 28 stycznia o godz. 18\, na Dużej Scenie SCK. \nBilety w cenie 40 zł. \nFernando (świetnie debiutujący Isaac Hernández) to młody\, utalentowany tancerz baletowy z Meksyku\, który marzy o wielkiej karierze i życiu w Stanach Zjednoczonych. Wierzy\, że jego ukochana – charyzmatyczna Jennifer (Jessica Chastain)\, wpływowa filantropka i bywalczyni elitarnych salonów – otworzy mu drzwi do nowego życia. Ryzykując własne bezpieczeństwo\, porzuca wszystko\, by do niej dołączyć. \nJednak jego nagłe pojawienie się w życiu Jennifer burzy jej misternie zbudowany świat. Kobieta staje przed trudnym wyborem. Jak daleko będzie w stanie się posunąć\, by chronić nie tylko uczucie\, które połączyło ją z Fernando mimo różnic\, ale i reputację\, którą budowała przez lata? \n„Dreams” Michela Franco to naładowana zmysłowym napięciem opowieść o namiętności\, zderzeniu kultur\, ambicjach i cenie\, jaką płacimy za marzenia. Czy miłość dwóch tak różnych światów ma szansę przetrwać? \nInf. organizatora.
URL:https://infostargard.pl/event/alibababki-dreams/
LOCATION:Duża Scena SCK
END:VEVENT
END:VCALENDAR