BEGIN:VCALENDAR
VERSION:2.0
PRODID:-//Info Stargard - ECPv6.15.20//NONSGML v1.0//EN
CALSCALE:GREGORIAN
METHOD:PUBLISH
X-WR-CALNAME:Info Stargard
X-ORIGINAL-URL:https://infostargard.pl
X-WR-CALDESC:Wydarzenia dla Info Stargard
REFRESH-INTERVAL;VALUE=DURATION:PT1H
X-Robots-Tag:noindex
X-PUBLISHED-TTL:PT1H
BEGIN:VTIMEZONE
TZID:Europe/Helsinki
BEGIN:DAYLIGHT
TZOFFSETFROM:+0200
TZOFFSETTO:+0300
TZNAME:EEST
DTSTART:20250330T010000
END:DAYLIGHT
BEGIN:STANDARD
TZOFFSETFROM:+0300
TZOFFSETTO:+0200
TZNAME:EET
DTSTART:20251026T010000
END:STANDARD
BEGIN:DAYLIGHT
TZOFFSETFROM:+0200
TZOFFSETTO:+0300
TZNAME:EEST
DTSTART:20260329T010000
END:DAYLIGHT
BEGIN:STANDARD
TZOFFSETFROM:+0300
TZOFFSETTO:+0200
TZNAME:EET
DTSTART:20261025T010000
END:STANDARD
BEGIN:DAYLIGHT
TZOFFSETFROM:+0200
TZOFFSETTO:+0300
TZNAME:EEST
DTSTART:20270328T010000
END:DAYLIGHT
BEGIN:STANDARD
TZOFFSETFROM:+0300
TZOFFSETTO:+0200
TZNAME:EET
DTSTART:20271031T010000
END:STANDARD
END:VTIMEZONE
BEGIN:VEVENT
DTSTART;TZID=Europe/Helsinki:20260119T000000
DTEND;TZID=Europe/Helsinki:20260125T000000
DTSTAMP:20260419T232652
CREATED:20260118T161136Z
LAST-MODIFIED:20260118T161136Z
UID:35505-1768780800-1769299200@infostargard.pl
SUMMARY:Tydzień z Dziadkami w Filarach
DESCRIPTION:Na Tydzień z Dziadkami zaprasza SCN Filary.\n\nPrzed nami Tydzień z Dziadkami 2026\, inspirowany tym\, co tak świetnie zagrało w 2025 roku. Potrwa od 19 do 25 stycznia. Co w planie? 19–25.01 – wspólne zwiedzanie FILARÓW w tygodniu od godziny 13.00 do 16:00 w tygodniu\, sobota i niedziela od 10.00 do 18.00 (bilety zgodnie z cennikiem zwiedzania – warto wziąć dokumenty upoważniające do zniżki)+ klasy\, kapsle\, szachy + quizy (spokojnie – dziadkowie zwykle wygrywają )+ aktywności niespodzianki – dajcie się zaskoczyć\n 24.01 sobota – FLR | Filarowe Laboratorium Rodzinne 11.00\, 13.00\, 15.00 – kreatywne warsztaty z dziadkami. Powstaną na nich  piękne pamiątki i prezenty – własnoręcznie stworzone (bilety 35 zł/os – kupując te bilety możecie grać na FILA[G]RACH do woli i zwiedzać FILARY aż do zamknięcia – cały dzień do dyspozycji – warto to rozważyć)\n 24.01 sobota – FILA[G]RY z dziadkami gracie do woli w godz. 12:00–18:00 (bilety 5 zł/os)\nTo będzie tydzień rozmów\, śmiechu\, wspólnej zabawy i czasu\, który naprawdę ma znaczenie Inf. Filary
URL:https://infostargard.pl/event/tydzien-z-dziadkami-w-filarach/
LOCATION:SCN Filary
END:VEVENT
BEGIN:VEVENT
DTSTART;TZID=Europe/Helsinki:20260123T160000
DTEND;TZID=Europe/Helsinki:20260123T160000
DTSTAMP:20260419T232652
CREATED:20260114T081911Z
LAST-MODIFIED:20260114T081933Z
UID:35069-1769184000-1769184000@infostargard.pl
SUMMARY:Kolęda w tradycji polskiej - GCK w Dolicach
DESCRIPTION:
URL:https://infostargard.pl/event/koleda-w-tradycji-polskiej-gck-w-dolicach/
LOCATION:GCK w Dolicach
END:VEVENT
BEGIN:VEVENT
DTSTART;TZID=Europe/Helsinki:20260123T180000
DTEND;TZID=Europe/Helsinki:20260123T180000
DTSTAMP:20260419T232652
CREATED:20260106T113034Z
LAST-MODIFIED:20260107T103226Z
UID:34304-1769191200-1769191200@infostargard.pl
SUMMARY:Rajd Nocny z PTTK
DESCRIPTION:Polskie Towarzystwo Turystyczno-Krajoznawcze zaprasza wszystkich chętnych na nocny rajd\, który odbędzie się w piątek\, 23 stycznia.  \nZgłoszenia uczestników należy dokonać do 21 stycznia w siedzibie Oddziału PTTK w Stargardzie\, ul. Łokietka 3a. \nRajd odbędzie się bez względu na pogodę. Zbiórka pod Bramą Wałową o godz. 18. Trasa to ok. 10 km. Więcej szczegółów na plakacie poniżej.
URL:https://infostargard.pl/event/rajd-nocny-z-pttk/
LOCATION:Zbiórka pod Bramą Wałową
END:VEVENT
BEGIN:VEVENT
DTSTART;TZID=Europe/Helsinki:20260123T180000
DTEND;TZID=Europe/Helsinki:20260123T180000
DTSTAMP:20260419T232652
CREATED:20260113T101942Z
LAST-MODIFIED:20260115T091853Z
UID:35000-1769191200-1769191200@infostargard.pl
SUMMARY:Stargardzka Gala Zapaśniczo-Gimnastyczna
DESCRIPTION:Stargardzka Gala Zapaśniczo-Gimnastyczna odbędzie się w piątek\, 23 stycznia o godz. 18\, w loftcie amfiteatru w Stargardzie. 
URL:https://infostargard.pl/event/stargardzka-gala-zapasniczo-gimnastyczna/
LOCATION:Loft Amfiteatru
END:VEVENT
BEGIN:VEVENT
DTSTART;TZID=Europe/Helsinki:20260123T190000
DTEND;TZID=Europe/Helsinki:20260123T190000
DTSTAMP:20260419T232652
CREATED:20251030T120808Z
LAST-MODIFIED:20251030T120834Z
UID:27745-1769194800-1769194800@infostargard.pl
SUMMARY:Koncert Michała Bajora
DESCRIPTION:Stargardzkie Centrum Kultury zaprasza na koncert Michała Bajora\, polskiego aktora i piosenkarza.  \nWydarzenie odbędzie się w piątek\, 23 stycznia o godz. 19\, na Dużej Scenie SCK. \nBilety od 149 do 229 zł dostępne online na stronie kina. \nInformacja SCK: \nKolejny recital Michała Bajora nosi tytuł „Piosenki\, które lubię”. W ciągu ostatnich tras koncertowych\, z piosenkami z albumu „No\, a ja?”\, usłyszeli Państwo utwory wybrane z dawniejszego repertuaru Artysty\, przeplatane nowymi kompozycjami i tekstami Michała. \n\nW trakcie przeszło dwóch sezonów padało wiele pytań i muzycznych sugestii na temat tytułów piosenek\, które chcieliby Państwo usłyszeć. A zatem Michał Bajor\, z kilkuset napisanych dla niego utworów\, wybrał kolejnych kilkanaście\, które lubi szczególnie\, a na których usłyszenie Państwo czekają. Od „Chciałbym”\, przez „La Boheme”\, po „Moją miłość największą”. \nBędzie też kilka nowych\, nieznanych Państwu muzyczno-literackich niespodzianek w wykonaniu Artysty
URL:https://infostargard.pl/event/koncert-michala-bajora/
LOCATION:Duża Scena SCK
END:VEVENT
END:VCALENDAR