BEGIN:VCALENDAR
VERSION:2.0
PRODID:-//Info Stargard - ECPv6.15.20//NONSGML v1.0//EN
CALSCALE:GREGORIAN
METHOD:PUBLISH
X-ORIGINAL-URL:https://infostargard.pl
X-WR-CALDESC:Wydarzenia dla Info Stargard
REFRESH-INTERVAL;VALUE=DURATION:PT1H
X-Robots-Tag:noindex
X-PUBLISHED-TTL:PT1H
BEGIN:VTIMEZONE
TZID:Europe/Helsinki
BEGIN:DAYLIGHT
TZOFFSETFROM:+0200
TZOFFSETTO:+0300
TZNAME:EEST
DTSTART:20250330T010000
END:DAYLIGHT
BEGIN:STANDARD
TZOFFSETFROM:+0300
TZOFFSETTO:+0200
TZNAME:EET
DTSTART:20251026T010000
END:STANDARD
BEGIN:DAYLIGHT
TZOFFSETFROM:+0200
TZOFFSETTO:+0300
TZNAME:EEST
DTSTART:20260329T010000
END:DAYLIGHT
BEGIN:STANDARD
TZOFFSETFROM:+0300
TZOFFSETTO:+0200
TZNAME:EET
DTSTART:20261025T010000
END:STANDARD
BEGIN:DAYLIGHT
TZOFFSETFROM:+0200
TZOFFSETTO:+0300
TZNAME:EEST
DTSTART:20270328T010000
END:DAYLIGHT
BEGIN:STANDARD
TZOFFSETFROM:+0300
TZOFFSETTO:+0200
TZNAME:EET
DTSTART:20271031T010000
END:STANDARD
END:VTIMEZONE
BEGIN:VEVENT
DTSTART;TZID=Europe/Helsinki:20260119T000000
DTEND;TZID=Europe/Helsinki:20260125T000000
DTSTAMP:20260419T232643
CREATED:20260118T161136Z
LAST-MODIFIED:20260118T161136Z
UID:35505-1768780800-1769299200@infostargard.pl
SUMMARY:Tydzień z Dziadkami w Filarach
DESCRIPTION:Na Tydzień z Dziadkami zaprasza SCN Filary.\n\nPrzed nami Tydzień z Dziadkami 2026\, inspirowany tym\, co tak świetnie zagrało w 2025 roku. Potrwa od 19 do 25 stycznia. Co w planie? 19–25.01 – wspólne zwiedzanie FILARÓW w tygodniu od godziny 13.00 do 16:00 w tygodniu\, sobota i niedziela od 10.00 do 18.00 (bilety zgodnie z cennikiem zwiedzania – warto wziąć dokumenty upoważniające do zniżki)+ klasy\, kapsle\, szachy + quizy (spokojnie – dziadkowie zwykle wygrywają )+ aktywności niespodzianki – dajcie się zaskoczyć\n 24.01 sobota – FLR | Filarowe Laboratorium Rodzinne 11.00\, 13.00\, 15.00 – kreatywne warsztaty z dziadkami. Powstaną na nich  piękne pamiątki i prezenty – własnoręcznie stworzone (bilety 35 zł/os – kupując te bilety możecie grać na FILA[G]RACH do woli i zwiedzać FILARY aż do zamknięcia – cały dzień do dyspozycji – warto to rozważyć)\n 24.01 sobota – FILA[G]RY z dziadkami gracie do woli w godz. 12:00–18:00 (bilety 5 zł/os)\nTo będzie tydzień rozmów\, śmiechu\, wspólnej zabawy i czasu\, który naprawdę ma znaczenie Inf. Filary
URL:https://infostargard.pl/event/tydzien-z-dziadkami-w-filarach/
LOCATION:SCN Filary
END:VEVENT
BEGIN:VEVENT
DTSTART;TZID=Europe/Helsinki:20260122T170000
DTEND;TZID=Europe/Helsinki:20260122T170000
DTSTAMP:20260419T232643
CREATED:20260115T103528Z
LAST-MODIFIED:20260115T103616Z
UID:35222-1769101200-1769101200@infostargard.pl
SUMMARY:CSKF: Wielka Warszawska
DESCRIPTION:W ramach Czwartkowych Spotkań Klubu Filmowego\, Stargardzkie Centrum Kultury zaprasza na seans filmu pt. „Wielka Warszawska”.  \nGościem CSKF będzie znany i lubiany aktor Tomasz Sapryk. Rozmowę po seansie przeprowadzi dziennikarz filmowy Krzysztof Spór. Bilet z kartą członkowską kosztuje 12 zł\, a normalny 17 zł. \nOpowieść o młodym dżokeju marzącym o sportowej karierze. Zwieńczeniem tych marzeń jest udział w najważniejszej gonitwie w Polsce – Wielkiej Warszawskiej. Główny bohater – Krzysiek wkracza w środowisko wyścigów konnych z naiwnością nowicjusza i entuzjasty. Dopiero po pewnym czasie orientuje się\, że gonitwy to siatka zależności\, potężnych interesów i manipulowanie wynikami. Chłopak wierzy\, że może to zmienić\, szczególnie że kraj stoi na krawędzi wielkich przemian. Upadek komuny daje nadzieję\, że przyszłość będzie już tylko lepsza\, a zasady jaśniejsze. Jednak w świecie korupcji i nieczystych zagrywek ciężko jest pozostać bez skazy. Czy Krzyśkowi uda się oprzeć wielkim pieniądzom i szybkiej karierze? Jak wiele jest w stanie poświęcić\, by rozsadzić panujący układ? \n„Wielka Warszawska” to porywająca historia o sporcie\, mafii i walce o marzenia tocząca się w burzliwych początkach lat 90. Sensacyjne\, zrealizowane z rozmachem widowisko osadzone w świecie wyścigów konnych. Film jest zwieńczeniem trylogii autorstwa Jana Purzyckiego\, na którą poza „Wielką Warszawską” składają się kultowe już produkcje „Wielki Szu” oraz „Piłkarski poker”. \nInf.organizatora
URL:https://infostargard.pl/event/cskf-wielka-warszawska/
LOCATION:Duża Scena SCK
END:VEVENT
BEGIN:VEVENT
DTSTART;TZID=Europe/Helsinki:20260122T170000
DTEND;TZID=Europe/Helsinki:20260122T170000
DTSTAMP:20260419T232643
CREATED:20260116T133522Z
LAST-MODIFIED:20260122T082506Z
UID:35355-1769101200-1769101200@infostargard.pl
SUMMARY:Ile kosztuje panna młoda? - spotkanie z cyklu Głosy Ziemi
DESCRIPTION:Książnica Stargardzka zaprasza na pierwsze w tym roku spotkanie z cyklu „Głosy Ziemi”.  \nWydarzenie odbędzie się w czwartek\, 22 stycznia o godz. 17\, w Czytelni Głównej Książnicy Stargardzkiej. Tematem spotkania będzie intrygujące pytanie: „Ile kosztuje panna młoda?”. \nPodczas spotkania dowiemy się również\, kiedy mężczyznę naprawdę stać na żonę i dlaczego w niektórych kulturach obowiązuje zasada „nie dla psa kiełbasa” – czyli kto\, z kim i na jakich warunkach może stworzyć małżeństwo. Sylwia Wyszomirska opowie także\, co składa się na wartość panny młodej i pana młodego\, kto ustala materialne warunki przyszłego życia małżonków oraz jak wygląda zabezpieczenie kobiety na wypadek niepowodzenia małżeństwa. \nNie zabraknie również wątku wiana\, symboliki złota oraz zaskakujących historii związanych z rolą bieliźnianych sklepów w przygotowaniach do ślubu. \n– To spotkanie pozwoli zajrzeć za kulisy obyczajów\, które dla wielu z nas wciąż pozostaje nieznane\, a często błędnie oceniane przez prymat zachodnich stereotypów – zachęcają organizatorzy. – Zapraszamy wszystkich\, którzy chcą lepiej zrozumieć świat\, w którym małżeństwo to nie tylko uczucie\, ale także umowa społeczna\, tradycja i system wartości.
URL:https://infostargard.pl/event/ile-kosztuje-panna-mloda-spotkanie-z-cyklu-glosy-ziemi/
LOCATION:Czytelnia Główna Książnicy Stargardzkiej
END:VEVENT
BEGIN:VEVENT
DTSTART;TZID=Europe/Helsinki:20260122T170000
DTEND;TZID=Europe/Helsinki:20260122T170000
DTSTAMP:20260419T232644
CREATED:20260122T055912Z
LAST-MODIFIED:20260122T082934Z
UID:35882-1769101200-1769101200@infostargard.pl
SUMMARY:Koncert Noworoczny w SP 5 dla Adasia
DESCRIPTION:22 stycznia w sali gimnastycznej Szkoły Podstawowej nr 5 w Stargardzie odbędzie się Koncert Noworoczny. \nPoczątek koncertu\, który ma cel charytatywny\, o godz. 17. \n– Serdecznie zapraszamy rodziców i dziadków! – zaprasza „piątka”. – Z radością zapraszamy Was na noworoczny koncert\, który odbędzie się 22 stycznia. To będzie wyjątkowy wieczór pełen muzyki\, wzruszeń i wspólnego dobra . Koncert ma charakter charytatywny. Chcemy wesprzeć leczenie Adasia Orlika\, dzielnego chłopca chorującego na DMD (dystrofię mięśniową Duchenne’a). Każda obecność\, każdy dźwięk i każdy gest solidarności mają ogromne znaczenie. Przyjdźcie\, by wspólnie rozpocząć nowy rok z nadzieją\, empatią i piękną muzyką. Razem możemy więcej! \nWięcej: https://www.facebook.com/reel/869247789166473 \nInf. organizatorzy
URL:https://infostargard.pl/event/koncert-noworoczny-w-sp-5/
LOCATION:Szkoła Podstawowa nr 5 w Stargardzie
END:VEVENT
BEGIN:VEVENT
DTSTART;TZID=Europe/Helsinki:20260122T190000
DTEND;TZID=Europe/Helsinki:20260122T190000
DTSTAMP:20260419T232644
CREATED:20260102T115424Z
LAST-MODIFIED:20260107T101301Z
UID:34040-1769108400-1769108400@infostargard.pl
SUMMARY:"Bujający w obłokach" – koncert Zespołu Ponad Chmurami
DESCRIPTION:22 stycznia w Stargardzkim Centrum Kultury odbędzie się koncert pt. „Bujający w obłokach”. Początek godz. 19. Na scenie wystąpi Zespół Ponad Chmurami.  \nZespół Ponad Chmurami od prawie 12 lat buduje swoje miejsce na scenie muzycznej\, wykonując poezję śpiewaną z niepowtarzalną wrażliwością. Twórczość grupy to niezwykła fuzja lirycznych tekstów wybitnych poetek i poetów z subtelnymi\, a jednocześnie bogatymi aranżacjami muzycznymi. W utworach zespołu odnajdujemy refleksje nad codziennością\, głębokie przemyślenia oraz nastrój pełen nostalgii\, który przenosi słuchaczy w sferę marzeń i zadumy.\nKoncert zatytułowany „Bujający w obłokach” to podróż po różnych etapach twórczości zespołu – od kameralnych utworów\, które powstawały na początku istnienia grupy\, po nowe kompozycje\, dotąd nieznane szerokiej publiczności. \nNieodłącznym elementem koncertu będzie urozmaicona oprawa instrumentalna\, gdzie delikatne dźwięki gitary akustycznej\, subtelne akordy ukulele oraz głęboki ton wiolonczeli współgrają z gitarą basową\, tworząc pełne emocji kompozycje. Istotnym elementem wyróżniającym grupę Ponad Chmurami jest ciepły\, kojący głos wokalistki zespołu\, który zaprowadzi słuchaczy do podniebnej krainy łagodności\, pełnej delikatnych emocji i subtelnej narracji. Wspólnie stworzą nastrój idealny dla tych\, którzy cenią poezję\, melancholijne melodie i chwilę na refleksję. \nZarówno w poetyckich tekstach\, melodyjnym brzmieniu piosenek\, jak i dzięki wspaniałemu prowadzeniu\, artyści zadbają\, by publiczność poczuła bogactwo emocji. Radość muzyki będzie płynąć nie tylko z dźwięków\, ale i z serdecznej atmosfery\, tworząc pełne wzruszeń i uśmiechów doświadczenie\, które na długo pozostanie w sercach słuchaczy. „Bujający w obłokach” to wydarzenie\, które skupia marzycieli\, osoby z głową w chmurach i miłośników poetyckiej muzyki. Wszyscy\, którzy poszukują w muzyce ucieczki od codzienności\, chwil zadumy oraz magii subtelnego słowa\, odnajdą tu coś dla siebie. \nInf. organizatora
URL:https://infostargard.pl/event/bujajacy-w-oblokach-koncert-zespolu-ponad-chmurami/
LOCATION:Duża Scena SCK
END:VEVENT
BEGIN:VEVENT
DTSTART;TZID=Europe/Helsinki:20260122T190000
DTEND;TZID=Europe/Helsinki:20260122T190000
DTSTAMP:20260419T232644
CREATED:20260112T112211Z
LAST-MODIFIED:20260115T091458Z
UID:34904-1769108400-1769108400@infostargard.pl
SUMMARY:Koncert kolęd w wykonaniu Krystyny i Wojtka Cugowskich
DESCRIPTION:Stargardzka parafia pw. Miłosierdzia Bożego przy ul. Ułanów Jazłowieckich 3\, zaprasza na koncert kolęd i pastorałek w wykonaniu Krystyny i Wojtka Cugowskich. \nKoncert odbędzie się 22 stycznia. Początek godz. 19.
URL:https://infostargard.pl/event/koncert-koled-w-wykonaniu-krystyny-i-wojtka-cugowskich/
LOCATION:kościół Miłosierdzia Bożego w Stargardzie
END:VEVENT
END:VCALENDAR