BEGIN:VCALENDAR
VERSION:2.0
PRODID:-//Info Stargard - ECPv6.15.20//NONSGML v1.0//EN
CALSCALE:GREGORIAN
METHOD:PUBLISH
X-WR-CALNAME:Info Stargard
X-ORIGINAL-URL:https://infostargard.pl
X-WR-CALDESC:Wydarzenia dla Info Stargard
REFRESH-INTERVAL;VALUE=DURATION:PT1H
X-Robots-Tag:noindex
X-PUBLISHED-TTL:PT1H
BEGIN:VTIMEZONE
TZID:Europe/Helsinki
BEGIN:DAYLIGHT
TZOFFSETFROM:+0200
TZOFFSETTO:+0300
TZNAME:EEST
DTSTART:20250330T010000
END:DAYLIGHT
BEGIN:STANDARD
TZOFFSETFROM:+0300
TZOFFSETTO:+0200
TZNAME:EET
DTSTART:20251026T010000
END:STANDARD
BEGIN:DAYLIGHT
TZOFFSETFROM:+0200
TZOFFSETTO:+0300
TZNAME:EEST
DTSTART:20260329T010000
END:DAYLIGHT
BEGIN:STANDARD
TZOFFSETFROM:+0300
TZOFFSETTO:+0200
TZNAME:EET
DTSTART:20261025T010000
END:STANDARD
BEGIN:DAYLIGHT
TZOFFSETFROM:+0200
TZOFFSETTO:+0300
TZNAME:EEST
DTSTART:20270328T010000
END:DAYLIGHT
BEGIN:STANDARD
TZOFFSETFROM:+0300
TZOFFSETTO:+0200
TZNAME:EET
DTSTART:20271031T010000
END:STANDARD
END:VTIMEZONE
BEGIN:VEVENT
DTSTART;TZID=Europe/Helsinki:20260119T000000
DTEND;TZID=Europe/Helsinki:20260125T000000
DTSTAMP:20260419T232652
CREATED:20260118T161136Z
LAST-MODIFIED:20260118T161136Z
UID:35505-1768780800-1769299200@infostargard.pl
SUMMARY:Tydzień z Dziadkami w Filarach
DESCRIPTION:Na Tydzień z Dziadkami zaprasza SCN Filary.\n\nPrzed nami Tydzień z Dziadkami 2026\, inspirowany tym\, co tak świetnie zagrało w 2025 roku. Potrwa od 19 do 25 stycznia. Co w planie? 19–25.01 – wspólne zwiedzanie FILARÓW w tygodniu od godziny 13.00 do 16:00 w tygodniu\, sobota i niedziela od 10.00 do 18.00 (bilety zgodnie z cennikiem zwiedzania – warto wziąć dokumenty upoważniające do zniżki)+ klasy\, kapsle\, szachy + quizy (spokojnie – dziadkowie zwykle wygrywają )+ aktywności niespodzianki – dajcie się zaskoczyć\n 24.01 sobota – FLR | Filarowe Laboratorium Rodzinne 11.00\, 13.00\, 15.00 – kreatywne warsztaty z dziadkami. Powstaną na nich  piękne pamiątki i prezenty – własnoręcznie stworzone (bilety 35 zł/os – kupując te bilety możecie grać na FILA[G]RACH do woli i zwiedzać FILARY aż do zamknięcia – cały dzień do dyspozycji – warto to rozważyć)\n 24.01 sobota – FILA[G]RY z dziadkami gracie do woli w godz. 12:00–18:00 (bilety 5 zł/os)\nTo będzie tydzień rozmów\, śmiechu\, wspólnej zabawy i czasu\, który naprawdę ma znaczenie Inf. Filary
URL:https://infostargard.pl/event/tydzien-z-dziadkami-w-filarach/
LOCATION:SCN Filary
END:VEVENT
BEGIN:VEVENT
DTSTART;TZID=Europe/Helsinki:20260119T163000
DTEND;TZID=Europe/Helsinki:20260119T170000
DTSTAMP:20260419T232652
CREATED:20260115T104156Z
LAST-MODIFIED:20260115T104250Z
UID:35228-1768840200-1768842000@infostargard.pl
SUMMARY:Spotkanie autorskie z Rafałem Gliną
DESCRIPTION:Burmistrz Dobrzan wraz z Gminną Biblioteką Publiczną w Dobrzanach zapraszają na spotkanie autorskie z Rafałem Gliną\, które odbędzie się w poniedziałek\, 19 stycznia o godz. 16:30 w bibliotece. 
URL:https://infostargard.pl/event/spotkanie-autorskie-z-rafalem-glina/
LOCATION:Gminna Biblioteka Publiczna w Dobrzanach
END:VEVENT
BEGIN:VEVENT
DTSTART;TZID=Europe/Helsinki:20260119T180000
DTEND;TZID=Europe/Helsinki:20260119T180000
DTSTAMP:20260419T232652
CREATED:20260111T104149Z
LAST-MODIFIED:20260115T091201Z
UID:34820-1768845600-1768845600@infostargard.pl
SUMMARY:"Śmiertelna wyliczanka"- spektakl Krzywej Sceny
DESCRIPTION:Stargardzkie Centrum Kultury zaprasza na spektakl Krzywej Sceny pt. „Śmiertelna Wyliczanka”.  \nPrzedstawienie odbędzie się w poniedziałek\, 19 stycznia o godz. 18\, na Małej Scenie SCK. \n– Przed nami kryminał\, który nie pozwoli Ci złapać oddechu – zaprasza Teatr Krzywa Scena pod kierunkiem Tatiany Malinowskiej Tyszkiewicz – Zamknij oczy i wyobraź sobie: jesteś na pięknej\, luksusowej wyspie. Nagle orientujesz się\, że ktoś zaplanował Twoją śmierć. Wszyscy mają mroczne sekrety. Wszyscy mogą być winni. Albo… kolejną ofiarą. Agatha Christie stworzyła najdoskonalszy kryminał w historii\, a Teatr Krzywa Scena przenosi go na scenę. Strach\, podejrzliwość i narastające napięcie towarzyszą widzom\, gdy kolejne osoby znikają. \nW rolach głównych: Emilia Chanczewska\, Henryk Donorowicz\, Krzysztof Hałajda\, Paweł Krzewicki\, Daniela Nelska\, Helena Pakulak\, Krystian Piechowski\, Weronika Rybińska\, Jagoda Zając i Krzysztof Żyto.
URL:https://infostargard.pl/event/smiertelna-wyliczanka-spektakl-krzywej-sceny/
LOCATION:Mała Scena SCK
END:VEVENT
END:VCALENDAR