BEGIN:VCALENDAR
VERSION:2.0
PRODID:-//Info Stargard - ECPv6.15.20//NONSGML v1.0//EN
CALSCALE:GREGORIAN
METHOD:PUBLISH
X-WR-CALNAME:Info Stargard
X-ORIGINAL-URL:https://infostargard.pl
X-WR-CALDESC:Wydarzenia dla Info Stargard
REFRESH-INTERVAL;VALUE=DURATION:PT1H
X-Robots-Tag:noindex
X-PUBLISHED-TTL:PT1H
BEGIN:VTIMEZONE
TZID:Europe/Helsinki
BEGIN:DAYLIGHT
TZOFFSETFROM:+0200
TZOFFSETTO:+0300
TZNAME:EEST
DTSTART:20250330T010000
END:DAYLIGHT
BEGIN:STANDARD
TZOFFSETFROM:+0300
TZOFFSETTO:+0200
TZNAME:EET
DTSTART:20251026T010000
END:STANDARD
BEGIN:DAYLIGHT
TZOFFSETFROM:+0200
TZOFFSETTO:+0300
TZNAME:EEST
DTSTART:20260329T010000
END:DAYLIGHT
BEGIN:STANDARD
TZOFFSETFROM:+0300
TZOFFSETTO:+0200
TZNAME:EET
DTSTART:20261025T010000
END:STANDARD
BEGIN:DAYLIGHT
TZOFFSETFROM:+0200
TZOFFSETTO:+0300
TZNAME:EEST
DTSTART:20270328T010000
END:DAYLIGHT
BEGIN:STANDARD
TZOFFSETFROM:+0300
TZOFFSETTO:+0200
TZNAME:EET
DTSTART:20271031T010000
END:STANDARD
END:VTIMEZONE
BEGIN:VEVENT
DTSTART;TZID=Europe/Helsinki:20260118T070000
DTEND;TZID=Europe/Helsinki:20260118T070000
DTSTAMP:20260419T232652
CREATED:20260111T100845Z
LAST-MODIFIED:20260116T112731Z
UID:34802-1768719600-1768719600@infostargard.pl
SUMMARY:Zawody w wędkarskie w Chociwlu - odwołane
DESCRIPTION:Koło PZW INA nr 46 Stargard zaprasza wszystkich miłośników wędkarstwa i zimowych emocji na Otwarte / Towarzyskie Zawody Podlodowe.  \nKonkurs odbędzie się w niedzielę\, 18 stycznia na jeziorze Starzyc w Chociwlu. Zbiórka o godz. 7 na ul. Szkolnej (od strony kościoła). \n– Czeka na Was wyjątkowa atmosfera\, sportowa rywalizacja\, mnóstwo adrenaliny i niezapomniane chwile na lodzie! – zachęcają organizatorzy. – Nieważne\, czy jesteś doświadczonym zawodnikiem\, czy dopiero zaczynasz – liczy się pasja i dobra zabawa! \nZapisy od poniedziałku do czwartku. \nMiejsce zapisów: siedziba Koła\, ul. Mickiewicza 35 – sklep wędkarski. \nOpłata startowa – 40 zł.
URL:https://infostargard.pl/event/zawody-w-wedkarskie-w-chociwlu/
LOCATION:j. Starzyc w Chociwlu
END:VEVENT
BEGIN:VEVENT
DTSTART;TZID=Europe/Helsinki:20260118T100000
DTEND;TZID=Europe/Helsinki:20260118T180000
DTSTAMP:20260419T232652
CREATED:20260114T073920Z
LAST-MODIFIED:20260115T090543Z
UID:35057-1768730400-1768759200@infostargard.pl
SUMMARY:Kolędowanie z Chórem Echo Arioso
DESCRIPTION:Chór Echo-Arioso zaprasza mieszkańców na dwa koncerty kolęd. Oba odbędą się w niedzielę\, 18 stycznia.  \nW najbliższą niedzielę chór zaśpiewa w dwóch stargardzkich świątyniach. O godz. 10 będzie uczestniczyć w mszy w kościele parafii pw. Najświętszego Serca Pana Jezusa na os. Lotnisko\, a o godz. 18 w kościele pw. Miłosierdzia Bożego na osiedlu Zachód. \n– Zaśpiewamy kolędy\, a w wykonaniu niektórych będzie nam towarzyszył ksiądz proboszcz\, grając na trąbce – zaprasza Chór Echo Arioso. 
URL:https://infostargard.pl/event/koledowanie-z-chorem-echo-arioso/
LOCATION:kościoły os. Lotnisko i os. Zachód
END:VEVENT
BEGIN:VEVENT
DTSTART;TZID=Europe/Helsinki:20260118T130000
DTEND;TZID=Europe/Helsinki:20260118T130000
DTSTAMP:20260419T232652
CREATED:20260115T114726Z
LAST-MODIFIED:20260115T115148Z
UID:35258-1768741200-1768741200@infostargard.pl
SUMMARY:Dzień Babci i Dziadka w Agrodolince
DESCRIPTION:W niedzielę\, 18 stycznia o godz. 13 w Agrodolince w Gogolewie odbędzie się Dzień Babci i Dziadka. Wstęp jest wolny.  \nW programie zagrody z wiejskimi zwierzętami\, kawiarenka\, wata cukrowa a także darmowe przejażdżki bonanzą lub kulig i ognisko. Zapisy na zajęcia pod nr tel. 452 862 638 lub email: agrodolinka@gmail.com.
URL:https://infostargard.pl/event/dzien-babci-i-dziadka-w-agrodolince/
LOCATION:Agrodolinka w Gogolewie
END:VEVENT
END:VCALENDAR