BEGIN:VCALENDAR
VERSION:2.0
PRODID:-//Info Stargard - ECPv6.15.20//NONSGML v1.0//EN
CALSCALE:GREGORIAN
METHOD:PUBLISH
X-WR-CALNAME:Info Stargard
X-ORIGINAL-URL:https://infostargard.pl
X-WR-CALDESC:Wydarzenia dla Info Stargard
REFRESH-INTERVAL;VALUE=DURATION:PT1H
X-Robots-Tag:noindex
X-PUBLISHED-TTL:PT1H
BEGIN:VTIMEZONE
TZID:Europe/Helsinki
BEGIN:DAYLIGHT
TZOFFSETFROM:+0200
TZOFFSETTO:+0300
TZNAME:EEST
DTSTART:20250330T010000
END:DAYLIGHT
BEGIN:STANDARD
TZOFFSETFROM:+0300
TZOFFSETTO:+0200
TZNAME:EET
DTSTART:20251026T010000
END:STANDARD
BEGIN:DAYLIGHT
TZOFFSETFROM:+0200
TZOFFSETTO:+0300
TZNAME:EEST
DTSTART:20260329T010000
END:DAYLIGHT
BEGIN:STANDARD
TZOFFSETFROM:+0300
TZOFFSETTO:+0200
TZNAME:EET
DTSTART:20261025T010000
END:STANDARD
BEGIN:DAYLIGHT
TZOFFSETFROM:+0200
TZOFFSETTO:+0300
TZNAME:EEST
DTSTART:20270328T010000
END:DAYLIGHT
BEGIN:STANDARD
TZOFFSETFROM:+0300
TZOFFSETTO:+0200
TZNAME:EET
DTSTART:20271031T010000
END:STANDARD
END:VTIMEZONE
BEGIN:VEVENT
DTSTART;TZID=Europe/Helsinki:20260116T110000
DTEND;TZID=Europe/Helsinki:20260116T110000
DTSTAMP:20260419T232652
CREATED:20260106T121841Z
LAST-MODIFIED:20260107T091337Z
UID:34319-1768561200-1768561200@infostargard.pl
SUMMARY:Akademia Opiekuna - warsztaty
DESCRIPTION:16 stycznia w Stargardzie odbędą się warsztaty pn. AKADEMIA OPIEKUNA.  \nWarsztaty odbywają się w godzinach 11:00 i 15:30. \n– W trakcie spotkań wykwalifikowani specjaliści będą udzielali profesjonalnej pomocy w zakresie wdrażania prawidłowych metod wychowawczych oraz działań mających na celu eliminacje niewłaściwych postaw i zachowań – zaprasza Powiatowe Centrum Pomocy Rodzinie w Stargardzie. \nOsoby chętne\, mogą kontaktować się telefonicznie pod nr: 91 578 45 79 lub osobiście w siedzibie PCPR przy ul. Andersa 14.
URL:https://infostargard.pl/event/akademia-opiekuna-warsztaty/
LOCATION:Powiatowe Centrum Pomocy Rodzinie w Stargardzie
END:VEVENT
BEGIN:VEVENT
DTSTART;TZID=Europe/Helsinki:20260116T163000
DTEND;TZID=Europe/Helsinki:20260116T163000
DTSTAMP:20260419T232652
CREATED:20260114T071213Z
LAST-MODIFIED:20260115T192924Z
UID:35047-1768581000-1768581000@infostargard.pl
SUMMARY:Wspólne Kolędowanie w Chociwlu
DESCRIPTION:Zespół Placówek Oświatowych i gmina Chociwel zapraszają mieszkańców na koncert pt. „Wspólne kolędowanie”.  \nKoncert kolęd połączony ze Szkolnym Konkursem Piosenki Świątecznej odbędzie się 16 stycznia. Początek godz. 16.30. Wstęp jest darmowy.
URL:https://infostargard.pl/event/wspolne-koledowanie-w-chociwlu/
LOCATION:Sala kinowa\, Hala Widowiskowo-Sportowa
END:VEVENT
BEGIN:VEVENT
DTSTART;TZID=Europe/Helsinki:20260116T190000
DTEND;TZID=Europe/Helsinki:20260116T190000
DTSTAMP:20260419T232652
CREATED:20260109T074103Z
LAST-MODIFIED:20260115T084248Z
UID:34637-1768590000-1768590000@infostargard.pl
SUMMARY:Blues Koncert dla Liama w Piwnicy TPS
DESCRIPTION:16 stycznia o godzinie 19 w Piwnicy TPS na Rynku Staromiejskim 1 odbędzie się charytatywny koncert bluesowy zespołu NoNameBluesBand (NNBB). \nKoncert charytatywny zespołu NoNameBluesBand  jest okazją\, by posłuchać dobrej muzyki i wesprzeć szczytny cel. \n– Serdecznie zapraszamy do wsłuchania się w muzykę oraz wsparcia Liama\, który walczy o swój wzrok – zaprasza gmina Stargard.
URL:https://infostargard.pl/event/blues-koncert-dla-liama/
LOCATION:Piwnica TPS
END:VEVENT
END:VCALENDAR