BEGIN:VCALENDAR
VERSION:2.0
PRODID:-//Info Stargard - ECPv6.15.20//NONSGML v1.0//EN
CALSCALE:GREGORIAN
METHOD:PUBLISH
X-WR-CALNAME:Info Stargard
X-ORIGINAL-URL:https://infostargard.pl
X-WR-CALDESC:Wydarzenia dla Info Stargard
REFRESH-INTERVAL;VALUE=DURATION:PT1H
X-Robots-Tag:noindex
X-PUBLISHED-TTL:PT1H
BEGIN:VTIMEZONE
TZID:Europe/Helsinki
BEGIN:DAYLIGHT
TZOFFSETFROM:+0200
TZOFFSETTO:+0300
TZNAME:EEST
DTSTART:20250330T010000
END:DAYLIGHT
BEGIN:STANDARD
TZOFFSETFROM:+0300
TZOFFSETTO:+0200
TZNAME:EET
DTSTART:20251026T010000
END:STANDARD
BEGIN:DAYLIGHT
TZOFFSETFROM:+0200
TZOFFSETTO:+0300
TZNAME:EEST
DTSTART:20260329T010000
END:DAYLIGHT
BEGIN:STANDARD
TZOFFSETFROM:+0300
TZOFFSETTO:+0200
TZNAME:EET
DTSTART:20261025T010000
END:STANDARD
BEGIN:DAYLIGHT
TZOFFSETFROM:+0200
TZOFFSETTO:+0300
TZNAME:EEST
DTSTART:20270328T010000
END:DAYLIGHT
BEGIN:STANDARD
TZOFFSETFROM:+0300
TZOFFSETTO:+0200
TZNAME:EET
DTSTART:20271031T010000
END:STANDARD
END:VTIMEZONE
BEGIN:VEVENT
DTSTART;TZID=Europe/Helsinki:20260115T140000
DTEND;TZID=Europe/Helsinki:20260115T140000
DTSTAMP:20260419T232651
CREATED:20260110T072430Z
LAST-MODIFIED:20260115T083649Z
UID:34691-1768485600-1768485600@infostargard.pl
SUMMARY:Wernisaż wystawy "Kobiety i kwiaty" Danuty Szudzichowskiej
DESCRIPTION:„Kobiety i kwiaty” to tytuł wystawy Danuty Szudzichowskiej. Wernisaż odbędzie się 15 stycznia o godz. 14. \nDanuta Szudzichowska malarstwem zajmuje się kilkanaście lat. Artystka w swojej twórczości posługuje się wieloma technikami\, takimi jak: akryl\, tusz\, farby olejne\, pastele i akwarele. Uwielbia malować kwiaty i kobiety\, uważając\, że to połączenie jest najpiękniejsze. Prace Danuty Szudzichowskiej będą eksponowane na II piętrze Urzędu Gminy do 𝟏𝟐 𝐥𝐮𝐭𝐞𝐠𝐨. \n– Serdecznie zapraszamy do udziału w wernisażu i odwiedzenia wystawy\, aby zagłębić się w piękno sztuki! – zaprasza gmina Stargard.
URL:https://infostargard.pl/event/wernisaz-wystawy-kobiety-i-kwiaty-danuty-szudzichowskiej/
LOCATION:Urząd Gminy Stargard
END:VEVENT
BEGIN:VEVENT
DTSTART;TZID=Europe/Helsinki:20260115T190000
DTEND;TZID=Europe/Helsinki:20260115T190000
DTSTAMP:20260419T232651
CREATED:20251112T101920Z
LAST-MODIFIED:20251112T101934Z
UID:29038-1768503600-1768503600@infostargard.pl
SUMMARY:Stand-up Rafał Rutkowski w programie „Żarty dla mas”
DESCRIPTION:Stargardzkie Centrum Kultury zaprasza na stand-up Rafała Rutkowskiego w programie „Żarty dla mas”. \nWystęp odbędzie się w czwartek\, 15 stycznia o godz. 19\, na Dużej Scenie SCK. \nBilety dostępne na stronie kupbilecik.pl. \n„Żarty dla mas” to czwarty solowy program Rafała Rutkowskiego. Komik w najnowszym programie opowiada o dwudziestu latach małżeństwa ze swoją „szwedzką żoną”. Żartuje ze starości i bycia mężczyzną po pięćdziesiątce. Z programu dowiecie się także dlaczego Rutek czasami chciałby być kobietą oraz dlaczego tak trudno jest mu przytyć. Komik dzieli się spostrzeżeniami rodzica którego dzieci wchodzą w dorosłość oraz zdradza jak poderwać dziewczynę metodą „na samolot”. Opowiada też o lękach przed własną zmywarką\, jak smakują szwedzkie śledzie oraz dlaczego najgorszego sylwestra spędził w Chicago.
URL:https://infostargard.pl/event/stand-up-rafal-rutkowski-w-programie-zarty-dla-mas/
LOCATION:Duża Scena SCK
END:VEVENT
END:VCALENDAR