BEGIN:VCALENDAR
VERSION:2.0
PRODID:-//Info Stargard - ECPv6.15.20//NONSGML v1.0//EN
CALSCALE:GREGORIAN
METHOD:PUBLISH
X-ORIGINAL-URL:https://infostargard.pl
X-WR-CALDESC:Wydarzenia dla Info Stargard
REFRESH-INTERVAL;VALUE=DURATION:PT1H
X-Robots-Tag:noindex
X-PUBLISHED-TTL:PT1H
BEGIN:VTIMEZONE
TZID:Europe/Helsinki
BEGIN:DAYLIGHT
TZOFFSETFROM:+0200
TZOFFSETTO:+0300
TZNAME:EEST
DTSTART:20250330T010000
END:DAYLIGHT
BEGIN:STANDARD
TZOFFSETFROM:+0300
TZOFFSETTO:+0200
TZNAME:EET
DTSTART:20251026T010000
END:STANDARD
BEGIN:DAYLIGHT
TZOFFSETFROM:+0200
TZOFFSETTO:+0300
TZNAME:EEST
DTSTART:20260329T010000
END:DAYLIGHT
BEGIN:STANDARD
TZOFFSETFROM:+0300
TZOFFSETTO:+0200
TZNAME:EET
DTSTART:20261025T010000
END:STANDARD
BEGIN:DAYLIGHT
TZOFFSETFROM:+0200
TZOFFSETTO:+0300
TZNAME:EEST
DTSTART:20270328T010000
END:DAYLIGHT
BEGIN:STANDARD
TZOFFSETFROM:+0300
TZOFFSETTO:+0200
TZNAME:EET
DTSTART:20271031T010000
END:STANDARD
END:VTIMEZONE
BEGIN:VEVENT
DTSTART;TZID=Europe/Helsinki:20260110T120000
DTEND;TZID=Europe/Helsinki:20260110T150000
DTSTAMP:20260419T232645
CREATED:20260108T105710Z
LAST-MODIFIED:20260108T105710Z
UID:34590-1768046400-1768057200@infostargard.pl
SUMMARY:Magic Party w Starówce
DESCRIPTION:
URL:https://infostargard.pl/event/magic-party-w-starowce/
LOCATION:Galeria Handlowa Starówka
END:VEVENT
BEGIN:VEVENT
DTSTART;TZID=Europe/Helsinki:20260110T153000
DTEND;TZID=Europe/Helsinki:20260110T153000
DTSTAMP:20260419T232645
CREATED:20251112T095623Z
LAST-MODIFIED:20251112T095931Z
UID:29025-1768059000-1768059000@infostargard.pl
SUMMARY:Spektakl MAYDAY 3 – BIGAMISTKA
DESCRIPTION:Stargardzkie Centrum Kultury zaprasza na polską komedie teatralną\, trzecią część najpopularniejszej farsy na świecie. \nSpektakl odbędzie się w sobotę\, 10 stycznia w godz. 15:30 i 19\, na Dużej Scenie SCK. \nBilety od 100 do 140 zł dostępne online na stronie kina SCK. \nMayday Bigamistka to najbardziej zwariowana teatralna huśtawka\, cudowna podróż w klimatyczne lata 70-te. Analogowe telefony\, płyty winylowe\, kolorowe wnętrza\, które tworzą doskonałe tło do przedstawienia tej szalonej historii. \nJackie Smith jest mieszkanką Londynu\, taksówkarką\, a także… Bigamistką. Ma dwa domy\, dwóch nie mających pojęcia o swoim istnieniu mężów oraz bardzo precyzyjny rozkład dziennych\, a szczególnie nocnych zajęć. Niefortunny zbieg okoliczności – wypadek\, sprawia\, że do akcji wkracza policja. Sytuacja staje się dramatyczna\, grafik Jackie zaczyna się sypać. Zdesperowana taksówkarka stara się ukryć swoje podwójne życie. Czy uda się jej zachować wszystkie sekrety w tajemnicy? \nNiesamowicie zabawne sytuacje zaprowadzą nas do rozwiązania tej zagadki. Mayday Bigamistka to znakomita\, dynamiczna komedia Raya Cooneya w kongenialnej adaptacji Michaela Barfoota\, w tłumaczeniu Elżbiety Woźniak i w reżyserii Macieja Kowalewskiego\, znanego widzom z reżyserii kultowych spektakli: The Strings czy Kolejny wieczór kawalerski. \nInf. organizatora
URL:https://infostargard.pl/event/spektakl-mayday-3-bigamistka/
LOCATION:Duża Scena SCK
END:VEVENT
BEGIN:VEVENT
DTSTART;TZID=Europe/Helsinki:20260110T160000
DTEND;TZID=Europe/Helsinki:20260110T160000
DTSTAMP:20260419T232645
CREATED:20251228T150434Z
LAST-MODIFIED:20260107T084704Z
UID:33715-1768060800-1768060800@infostargard.pl
SUMMARY:Stargardzka Pastorałka
DESCRIPTION:Parafia pw. św. Józefa w Stargardzie wraz z MDK zapraszają na „Stargardzką Pastorałkę pod Szczęśliwą Gwiazdą u Chrystusowców” w wykonaniu stargardzkich młodych artystów. \nKoncert odbędzie się w sobotę\, 10 stycznia o godzinie 16\, w Kościele św. Jana. Wstęp jest wolny. \nInf. UM w Stargardzie:  \nPiękna tradycja\, która w naszym mieście ma już ponad 80 lat. Każdego roku w styczniu młodzi wokaliści spotykają się w kościele pw. św. Jana\, żeby wraz ze Stargardzianami kolędować i cieszyć się wspólnie spędzonym czasem. To pamiątka pierwszej polskiej pastorałki\, która rozbrzmiała u nas po II wojnie światowej – już w 1945 roku. Tym razem wydarzenie zaplanowano na sobotę (10.01) o 16:00. Wstęp jak zawsze wolny. \nPodczas koncertu usłyszymy zespół Rupaki z Młodzieżowego Domu Kultury. Gościnne wystąpią również: Nailah Vitha\, Zuzanna Susz\, Patrycja Kucharzyk\, Paulina Pryciak\, Łukasz Brodowski\, Mateusz Tarkowski oraz grupa Dzikie Wino w składzie: Kornelia Sadowska\, Eryk Kucharski i Miłosz Krysiak. Nad całością czuwa Ewa Krysian z MDK. \n \n 
URL:https://infostargard.pl/event/pastoralka-u-chrystusowcow/
LOCATION:kościół św. Jana w Stargardzie
END:VEVENT
END:VCALENDAR