BEGIN:VCALENDAR
VERSION:2.0
PRODID:-//Info Stargard - ECPv6.15.20//NONSGML v1.0//EN
CALSCALE:GREGORIAN
METHOD:PUBLISH
X-WR-CALNAME:Info Stargard
X-ORIGINAL-URL:https://infostargard.pl
X-WR-CALDESC:Wydarzenia dla Info Stargard
REFRESH-INTERVAL;VALUE=DURATION:PT1H
X-Robots-Tag:noindex
X-PUBLISHED-TTL:PT1H
BEGIN:VTIMEZONE
TZID:Europe/Helsinki
BEGIN:DAYLIGHT
TZOFFSETFROM:+0200
TZOFFSETTO:+0300
TZNAME:EEST
DTSTART:20240331T010000
END:DAYLIGHT
BEGIN:STANDARD
TZOFFSETFROM:+0300
TZOFFSETTO:+0200
TZNAME:EET
DTSTART:20241027T010000
END:STANDARD
BEGIN:DAYLIGHT
TZOFFSETFROM:+0200
TZOFFSETTO:+0300
TZNAME:EEST
DTSTART:20250330T010000
END:DAYLIGHT
BEGIN:STANDARD
TZOFFSETFROM:+0300
TZOFFSETTO:+0200
TZNAME:EET
DTSTART:20251026T010000
END:STANDARD
BEGIN:DAYLIGHT
TZOFFSETFROM:+0200
TZOFFSETTO:+0300
TZNAME:EEST
DTSTART:20260329T010000
END:DAYLIGHT
BEGIN:STANDARD
TZOFFSETFROM:+0300
TZOFFSETTO:+0200
TZNAME:EET
DTSTART:20261025T010000
END:STANDARD
BEGIN:DAYLIGHT
TZOFFSETFROM:+0200
TZOFFSETTO:+0300
TZNAME:EEST
DTSTART:20270328T010000
END:DAYLIGHT
BEGIN:STANDARD
TZOFFSETFROM:+0300
TZOFFSETTO:+0200
TZNAME:EET
DTSTART:20271031T010000
END:STANDARD
END:VTIMEZONE
BEGIN:VEVENT
DTSTART;TZID=Europe/Helsinki:20251224T080000
DTEND;TZID=Europe/Helsinki:20260107T170000
DTSTAMP:20260419T232653
CREATED:20251230T111228Z
LAST-MODIFIED:20251230T111228Z
UID:33821-1766563200-1767805200@infostargard.pl
SUMMARY:Bożonarodzeniowa wystawa ikon
DESCRIPTION:
URL:https://infostargard.pl/event/bozonarodzeniowa-wystawa-ikon/
LOCATION:kościół Miłosierdzia Bożego na os. Zachód
END:VEVENT
BEGIN:VEVENT
DTSTART;TZID=Europe/Helsinki:20260106T100000
DTEND;TZID=Europe/Helsinki:20260106T100000
DTSTAMP:20260419T232653
CREATED:20260104T111058Z
LAST-MODIFIED:20260104T111215Z
UID:34140-1767693600-1767693600@infostargard.pl
SUMMARY:Koncert kolęd - Echo Arioso
DESCRIPTION:Trwa sezon kolędowy. Stargardzki Chór Echo – Arioso serdecznie zaprasza mieszkańców Stargardu i okolicy na koncerty kolęd.\n\nNajbliższy koncert odbędzie się 6 stycznia w kolegiacie NMP Królowej Świata o godz.10.\n\n– O kolejnych koncertach będziemy informować – zapowiada Chór Echo Arioso. – Zapraszamy serdecznie na nasze koncerty oraz do wspólnego śpiewania kolęd.
URL:https://infostargard.pl/event/koncert-koled-echo-arioso/
LOCATION:Kolegiata NMP Królowej Świata
END:VEVENT
BEGIN:VEVENT
DTSTART;TZID=Europe/Helsinki:20260106T130000
DTEND;TZID=Europe/Helsinki:20260106T130000
DTSTAMP:20260419T232653
CREATED:20251215T113058Z
LAST-MODIFIED:20251215T113058Z
UID:32584-1767704400-1767704400@infostargard.pl
SUMMARY:Noworoczne Morsowanie w gm. Dolice
DESCRIPTION:
URL:https://infostargard.pl/event/noworoczne-morsowanie-w-gm-dolice/
LOCATION:J. gardzko\, Mogilica – Ziemomyśl B
END:VEVENT
BEGIN:VEVENT
DTSTART;TZID=Europe/Helsinki:20260106T150000
DTEND;TZID=Europe/Helsinki:20260106T150000
DTSTAMP:20260419T232653
CREATED:20260104T112616Z
LAST-MODIFIED:20260104T112712Z
UID:34146-1767711600-1767711600@infostargard.pl
SUMMARY:Orszak Trzech Króli w Ińsku
DESCRIPTION:
URL:https://infostargard.pl/event/orszak-trzech-kroli-w-insku/
LOCATION:kosciół w Ińsku\, Ińskie Centrum Kultury
END:VEVENT
BEGIN:VEVENT
DTSTART;TZID=Europe/Helsinki:20260106T160000
DTEND;TZID=Europe/Helsinki:20260106T160000
DTSTAMP:20260419T232653
CREATED:20251229T084504Z
LAST-MODIFIED:20251229T084504Z
UID:33759-1767715200-1767715200@infostargard.pl
SUMMARY:Koncert kolęd - Boże Światełka
DESCRIPTION:
URL:https://infostargard.pl/event/koncert-koled-boze-swiatelka/
LOCATION:Kościół pw. Chrystusa Króla Wszechświata w Stargardzie
END:VEVENT
END:VCALENDAR