BEGIN:VCALENDAR
VERSION:2.0
PRODID:-//Info Stargard - ECPv6.15.20//NONSGML v1.0//EN
CALSCALE:GREGORIAN
METHOD:PUBLISH
X-ORIGINAL-URL:https://infostargard.pl
X-WR-CALDESC:Wydarzenia dla Info Stargard
REFRESH-INTERVAL;VALUE=DURATION:PT1H
X-Robots-Tag:noindex
X-PUBLISHED-TTL:PT1H
BEGIN:VTIMEZONE
TZID:Europe/Helsinki
BEGIN:DAYLIGHT
TZOFFSETFROM:+0200
TZOFFSETTO:+0300
TZNAME:EEST
DTSTART:20240331T010000
END:DAYLIGHT
BEGIN:STANDARD
TZOFFSETFROM:+0300
TZOFFSETTO:+0200
TZNAME:EET
DTSTART:20241027T010000
END:STANDARD
BEGIN:DAYLIGHT
TZOFFSETFROM:+0200
TZOFFSETTO:+0300
TZNAME:EEST
DTSTART:20250330T010000
END:DAYLIGHT
BEGIN:STANDARD
TZOFFSETFROM:+0300
TZOFFSETTO:+0200
TZNAME:EET
DTSTART:20251026T010000
END:STANDARD
BEGIN:DAYLIGHT
TZOFFSETFROM:+0200
TZOFFSETTO:+0300
TZNAME:EEST
DTSTART:20260329T010000
END:DAYLIGHT
BEGIN:STANDARD
TZOFFSETFROM:+0300
TZOFFSETTO:+0200
TZNAME:EET
DTSTART:20261025T010000
END:STANDARD
BEGIN:DAYLIGHT
TZOFFSETFROM:+0200
TZOFFSETTO:+0300
TZNAME:EEST
DTSTART:20270328T010000
END:DAYLIGHT
BEGIN:STANDARD
TZOFFSETFROM:+0300
TZOFFSETTO:+0200
TZNAME:EET
DTSTART:20271031T010000
END:STANDARD
END:VTIMEZONE
BEGIN:VEVENT
DTSTART;TZID=Europe/Helsinki:20251224T080000
DTEND;TZID=Europe/Helsinki:20260107T170000
DTSTAMP:20260419T232646
CREATED:20251230T111228Z
LAST-MODIFIED:20251230T111228Z
UID:33821-1766563200-1767805200@infostargard.pl
SUMMARY:Bożonarodzeniowa wystawa ikon
DESCRIPTION:
URL:https://infostargard.pl/event/bozonarodzeniowa-wystawa-ikon/
LOCATION:kościół Miłosierdzia Bożego na os. Zachód
END:VEVENT
BEGIN:VEVENT
DTSTART;TZID=Europe/Helsinki:20260104T150000
DTEND;TZID=Europe/Helsinki:20260104T170000
DTSTAMP:20260419T232646
CREATED:20260101T113556Z
LAST-MODIFIED:20260101T113556Z
UID:33952-1767538800-1767546000@infostargard.pl
SUMMARY:Mecz PGE Spójnia Stargard - WKK Active Hotel Wrocław
DESCRIPTION:W dniu 04. stycznia 2026 r. (niedziela)\, w Hali OSiR przy ul. Pierwszej Brygady 1 w Stargardzie\, odbędzie się mecz w ramach 17. kolejki I ligi koszykówki\, pomiędzy PGE Spójnia Stargard\, a WKK Active Hotel Wrocław.
URL:https://infostargard.pl/event/mecz-pge-spojnia-stargard-wkk-active-hotel-wroclaw/
LOCATION:Hala OSiR\, ul. Pierwszej Brygady 1
END:VEVENT
BEGIN:VEVENT
DTSTART;TZID=Europe/Helsinki:20260104T153000
DTEND;TZID=Europe/Helsinki:20260104T153000
DTSTAMP:20260419T232646
CREATED:20251230T111023Z
LAST-MODIFIED:20251230T111023Z
UID:33811-1767540600-1767540600@infostargard.pl
SUMMARY:Noworoczny koncert kolęd w Storkówku
DESCRIPTION:Koncert kolęd odbędzie się  4 stycznia w w Storkówku\, gm. Stara Dąbrowa.\n\n– Serdecznie zapraszam mieszkańców na koncert kolęd\, który odbędzie się 4 stycznia o godzinie 15:30 w Storkówku – zaprasza Tomasz Ogonowski\, wójt gminy. – Podczas koncertu wystąpi Kapela Szadzko oraz lokalna artystka Gabriela Kąkolewska. Po koncercie zapraszam wszystkich na kawę i poczęstunek.
URL:https://infostargard.pl/event/noworoczny-koncert-koled-w-storkowku/
LOCATION:kościół w Storkówku
END:VEVENT
BEGIN:VEVENT
DTSTART;TZID=Europe/Helsinki:20260104T180000
DTEND;TZID=Europe/Helsinki:20260104T180000
DTSTAMP:20260419T232646
CREATED:20251230T130059Z
LAST-MODIFIED:20251231T112714Z
UID:33858-1767549600-1767549600@infostargard.pl
SUMMARY:Koncert zespołu "Szczecinianie" w Kobylance
DESCRIPTION:Koncert Kolędowy odbędzie się 4 stycznia w kościele w Kobylance. \n\n\n\nZespół Pieśni i Tańca Szczecinianie wystąpi po mszy świętej o godz. 18 w Sanktuarium w Kobylance.\n\n–Przyjdź i wspólnie z nami przeżyj piękno kolęd w wyjątkowej atmosferze! – zaprasza parafia pw. Św. Antoniego z Padwy w Kobylance.\n\n\nZespół Pieśni i Tańca Szczecinianie działa od ponad 21 lat.\n\n– Rok do roku staramy się wprowadzać do naszego repertuaru nowe regiony\, nowe tańce – informują artyści. – Naszym minimum jest jedna premiera nowego regionu w ciągu roku. W tej chwili posiadamy kilkanaście opracowanych tańców i regionów.
URL:https://infostargard.pl/event/koncert-zespolu-szczecinianie-w-kobylance/
LOCATION:Sanktuarium w Kobylance
END:VEVENT
END:VCALENDAR