BEGIN:VCALENDAR
VERSION:2.0
PRODID:-//Info Stargard - ECPv6.15.20//NONSGML v1.0//EN
CALSCALE:GREGORIAN
METHOD:PUBLISH
X-WR-CALNAME:Info Stargard
X-ORIGINAL-URL:https://infostargard.pl
X-WR-CALDESC:Wydarzenia dla Info Stargard
REFRESH-INTERVAL;VALUE=DURATION:PT1H
X-Robots-Tag:noindex
X-PUBLISHED-TTL:PT1H
BEGIN:VTIMEZONE
TZID:Europe/Helsinki
BEGIN:DAYLIGHT
TZOFFSETFROM:+0200
TZOFFSETTO:+0300
TZNAME:EEST
DTSTART:20240331T010000
END:DAYLIGHT
BEGIN:STANDARD
TZOFFSETFROM:+0300
TZOFFSETTO:+0200
TZNAME:EET
DTSTART:20241027T010000
END:STANDARD
BEGIN:DAYLIGHT
TZOFFSETFROM:+0200
TZOFFSETTO:+0300
TZNAME:EEST
DTSTART:20250330T010000
END:DAYLIGHT
BEGIN:STANDARD
TZOFFSETFROM:+0300
TZOFFSETTO:+0200
TZNAME:EET
DTSTART:20251026T010000
END:STANDARD
BEGIN:DAYLIGHT
TZOFFSETFROM:+0200
TZOFFSETTO:+0300
TZNAME:EEST
DTSTART:20260329T010000
END:DAYLIGHT
BEGIN:STANDARD
TZOFFSETFROM:+0300
TZOFFSETTO:+0200
TZNAME:EET
DTSTART:20261025T010000
END:STANDARD
BEGIN:DAYLIGHT
TZOFFSETFROM:+0200
TZOFFSETTO:+0300
TZNAME:EEST
DTSTART:20270328T010000
END:DAYLIGHT
BEGIN:STANDARD
TZOFFSETFROM:+0300
TZOFFSETTO:+0200
TZNAME:EET
DTSTART:20271031T010000
END:STANDARD
END:VTIMEZONE
BEGIN:VEVENT
DTSTART;TZID=Europe/Helsinki:20251224T080000
DTEND;TZID=Europe/Helsinki:20260107T170000
DTSTAMP:20260419T232653
CREATED:20251230T111228Z
LAST-MODIFIED:20251230T111228Z
UID:33821-1766563200-1767805200@infostargard.pl
SUMMARY:Bożonarodzeniowa wystawa ikon
DESCRIPTION:
URL:https://infostargard.pl/event/bozonarodzeniowa-wystawa-ikon/
LOCATION:kościół Miłosierdzia Bożego na os. Zachód
END:VEVENT
BEGIN:VEVENT
DTSTART;TZID=Europe/Helsinki:20260101T120000
DTEND;TZID=Europe/Helsinki:20260101T120000
DTSTAMP:20260419T232653
CREATED:20251229T113706Z
LAST-MODIFIED:20251230T111533Z
UID:33786-1767268800-1767268800@infostargard.pl
SUMMARY:Noworoczny mecz w Chociwlu
DESCRIPTION:Noworoczny mecz kawalerowie vs żonaci odbędzie się  1 stycznia o godz. 12 na Stadionie Miejskim w Chociwlu.\n\n\n\n-Serdecznie zapraszamy wszystkich mieszkańców Chociwla oraz sympatyków piłki nożnej na wyjątkowe sportowe wydarzenie\, które od ponad pół wieku nieprzerwanie wpisuje się w noworoczną tradycję naszego klubu – informuje i zaprasza LKS Piast Chociwel. – 1 stycznia o godzinie 12 spotkają się na murawie kawalerowie i żonaci\, by wspólnie rozpocząć Nowy Rok w duchu sportowej rywalizacji\, uśmiechu i dobrej zabawy. To mecz\, który łączy pokolenia\, przywołuje wspomnienia i co roku dostarcza niezapomnianych emocji – zarówno zawodnikom jak i kibicom. W tym spotkaniu wynik schodzi na dalszy plan. Najważniejsze są atmosfera\, wspólne świętowanie i radość z bycia razem. Przyjdźcie kibicować\, spotkać się ze znajomymi i razem pielęgnować tę piękną\, piłkarską tradycję.
URL:https://infostargard.pl/event/noworoczny-mecz-w-chociwlu/
END:VEVENT
BEGIN:VEVENT
DTSTART;TZID=Europe/Helsinki:20260101T130000
DTEND;TZID=Europe/Helsinki:20260101T130000
DTSTAMP:20260419T232653
CREATED:20251230T112013Z
LAST-MODIFIED:20251230T112013Z
UID:33828-1767272400-1767272400@infostargard.pl
SUMMARY:Noworoczna kąpiel klubu morsów Miedwianie
DESCRIPTION:Jak co roku\, Nowy Rok powitamy wspólnie nad Miedwiem – zgodnie z morsową tradycją\, w zimnej wodzie i w świetnym towarzystwie  – informuje Klub Morsów Miedwianie. \n\n\n\n Czwartek\, 1 stycznia\n Zbiórka: 12:30\n Wejście do wody: 13:00.\n\n\n\n Przed nami noworoczna kąpiel\, tradycyjny toast w wodzie oraz poczęstunek w siedzibie klubu w amfiteatrze – na rozgrzewkę\, rozmowy i dobre rozpoczęcie roku. \n\n\nDla osób\, które pojawią się po raz pierwszy\, wejdą z nami do wody i wzniosą noworoczny toast\, przygotowaliśmy noworoczny prezent – gadżet-niespodziankę . Nowy Rok witamy tak jak lubimy najbardziej – razem\, z uśmiechem i… najbardziej mokro\, jak się da!\n\n\n\n\nInf. i grafika organizator
URL:https://infostargard.pl/event/noworoczna-kapiel-klubu-morsow-miedwianie/
LOCATION:Morzyczyn nad Miedwiem
END:VEVENT
END:VCALENDAR