BEGIN:VCALENDAR
VERSION:2.0
PRODID:-//Info Stargard - ECPv6.15.20//NONSGML v1.0//EN
CALSCALE:GREGORIAN
METHOD:PUBLISH
X-ORIGINAL-URL:https://infostargard.pl
X-WR-CALDESC:Wydarzenia dla Info Stargard
REFRESH-INTERVAL;VALUE=DURATION:PT1H
X-Robots-Tag:noindex
X-PUBLISHED-TTL:PT1H
BEGIN:VTIMEZONE
TZID:Europe/Helsinki
BEGIN:DAYLIGHT
TZOFFSETFROM:+0200
TZOFFSETTO:+0300
TZNAME:EEST
DTSTART:20240331T010000
END:DAYLIGHT
BEGIN:STANDARD
TZOFFSETFROM:+0300
TZOFFSETTO:+0200
TZNAME:EET
DTSTART:20241027T010000
END:STANDARD
BEGIN:DAYLIGHT
TZOFFSETFROM:+0200
TZOFFSETTO:+0300
TZNAME:EEST
DTSTART:20250330T010000
END:DAYLIGHT
BEGIN:STANDARD
TZOFFSETFROM:+0300
TZOFFSETTO:+0200
TZNAME:EET
DTSTART:20251026T010000
END:STANDARD
BEGIN:DAYLIGHT
TZOFFSETFROM:+0200
TZOFFSETTO:+0300
TZNAME:EEST
DTSTART:20260329T010000
END:DAYLIGHT
BEGIN:STANDARD
TZOFFSETFROM:+0300
TZOFFSETTO:+0200
TZNAME:EET
DTSTART:20261025T010000
END:STANDARD
BEGIN:DAYLIGHT
TZOFFSETFROM:+0200
TZOFFSETTO:+0300
TZNAME:EEST
DTSTART:20270328T010000
END:DAYLIGHT
BEGIN:STANDARD
TZOFFSETFROM:+0300
TZOFFSETTO:+0200
TZNAME:EET
DTSTART:20271031T010000
END:STANDARD
END:VTIMEZONE
BEGIN:VEVENT
DTSTART;TZID=Europe/Helsinki:20251224T080000
DTEND;TZID=Europe/Helsinki:20260107T170000
DTSTAMP:20260420T004901
CREATED:20251230T111228Z
LAST-MODIFIED:20251230T111228Z
UID:33821-1766563200-1767805200@infostargard.pl
SUMMARY:Bożonarodzeniowa wystawa ikon
DESCRIPTION:
URL:https://infostargard.pl/event/bozonarodzeniowa-wystawa-ikon/
LOCATION:kościół Miłosierdzia Bożego na os. Zachód
END:VEVENT
BEGIN:VEVENT
DTSTART;TZID=Europe/Helsinki:20251228T120000
DTEND;TZID=Europe/Helsinki:20251228T120000
DTSTAMP:20260420T004901
CREATED:20251219T125629Z
LAST-MODIFIED:20251219T125629Z
UID:33228-1766923200-1766923200@infostargard.pl
SUMMARY:Renifer Niko i zaginione sanie Mikołaja
DESCRIPTION:Stargardzkie Dzieciaki Kinomaniaki – kolejna edycja już 28 grudnia o godz. 12 w kinie SCK. To specjalny seans dla dzieci z biletami dla każdego za 1 zł. Bilety są do kupienia wyłącznie w kasie Kina SCK dwie godziny przed seansem. \nKto tym razem uratuje Święta\, jeżeli nie najdzielniejszy renifer na całym świecie? Czas na największą świąteczną przygodę tego roku\, która przejdzie najśmielsze oczekiwania i przekroczy nawet zorzę polarną. \nNareszcie spełnia się największe marzenie renifera Niko! Wspólnie ze swoim tatą będzie mógł latać w elitarnej Powietrznej Eskadrze Świętego Mikołaja. Wkrótce okazuje się jednak\, że jest jeszcze jeden kandydat na jego miejsce – to Stella\, zawadiacka reniferka\, która również chętnie przyczyni się do rozdawania prezentów na Boże Narodzenie. Pomimo rywalizacji\, oboje lubią się nawzajem\, a Niko zachęcony przez swoją konkurentkę pokazuje jej gdzie ukryte są słynne sanie Świętego Mikołaja. W noc poprzedzającą Wigilię wychodzi na jaw\, że Stella bez pytania zabrała bezcenny pojazd i uciekła z nim w kierunku mroźnej Północy. Niko wspólnie ze swoimi najlepszymi przyjaciółmi – wiewiórką Juliuszem i łasicą Wilmą\, ruszają śladem uciekinierki. Od ich misji zależą święta Bożego Narodzenia\, które są już tuż\, tuż! Jeżeli wszystko ma się udać\, młody renifer będzie musiał nauczyć się jak być sobą i dokonać wielu nieoczywistych wyborów. (Kino Świat). \nInf. organizatora
URL:https://infostargard.pl/event/renifer-niko-i-zaginione-sanie-mikolaja/
LOCATION:Kino SCK
END:VEVENT
END:VCALENDAR