BEGIN:VCALENDAR
VERSION:2.0
PRODID:-//Info Stargard - ECPv6.15.20//NONSGML v1.0//EN
CALSCALE:GREGORIAN
METHOD:PUBLISH
X-ORIGINAL-URL:https://infostargard.pl
X-WR-CALDESC:Wydarzenia dla Info Stargard
REFRESH-INTERVAL;VALUE=DURATION:PT1H
X-Robots-Tag:noindex
X-PUBLISHED-TTL:PT1H
BEGIN:VTIMEZONE
TZID:Europe/Helsinki
BEGIN:DAYLIGHT
TZOFFSETFROM:+0200
TZOFFSETTO:+0300
TZNAME:EEST
DTSTART:20240331T010000
END:DAYLIGHT
BEGIN:STANDARD
TZOFFSETFROM:+0300
TZOFFSETTO:+0200
TZNAME:EET
DTSTART:20241027T010000
END:STANDARD
BEGIN:DAYLIGHT
TZOFFSETFROM:+0200
TZOFFSETTO:+0300
TZNAME:EEST
DTSTART:20250330T010000
END:DAYLIGHT
BEGIN:STANDARD
TZOFFSETFROM:+0300
TZOFFSETTO:+0200
TZNAME:EET
DTSTART:20251026T010000
END:STANDARD
BEGIN:DAYLIGHT
TZOFFSETFROM:+0200
TZOFFSETTO:+0300
TZNAME:EEST
DTSTART:20260329T010000
END:DAYLIGHT
BEGIN:STANDARD
TZOFFSETFROM:+0300
TZOFFSETTO:+0200
TZNAME:EET
DTSTART:20261025T010000
END:STANDARD
END:VTIMEZONE
BEGIN:VEVENT
DTSTART;TZID=Europe/Helsinki:20251221T110000
DTEND;TZID=Europe/Helsinki:20251223T150000
DTSTAMP:20260420T035436
CREATED:20251201T075341Z
LAST-MODIFIED:20251202T084308Z
UID:30881-1766314800-1766502000@infostargard.pl
SUMMARY:Warsztaty kreatywne z pracownią Kawałek Serca w SCN Filary
DESCRIPTION:Filarowe Laboratorium Rodzinne – świąteczne warsztaty kreatywne\, które poprowadzą instruktorki z Pracowni Kawałek Serca odbędą się w SCN Filary.  \nW święta Bożego Narodzenia zwiedzanie Stargardzkiego Centrum Nauki FILARY nie będzie możliwe. Jeśli jednak Wasi goście przyjeżdżają wcześniej lub dzieci podczas przerwy świątecznej roznosi energia\, FILARY zapraszają:  \n\n21 grudnia\, w godzinach 10:00 – 18:00\,\nw poniedziałek i wtorek przedświąteczny 22 – 23 grudnia\, w godzinach 9:00 – 16:00\,\n27 – 28 grudnia\, w godzinach 12:00 – 18:00\,\n29 – 30 grudnia\, w godzinach 12:00 – 18:00.
URL:https://infostargard.pl/event/warsztaty-kreatywne-z-pracownia-kawalek-serca-w-scn-filary/
LOCATION:SCN Filary
END:VEVENT
BEGIN:VEVENT
DTSTART;TZID=Europe/Helsinki:20251221T150000
DTEND;TZID=Europe/Helsinki:20251221T170000
DTSTAMP:20260420T035436
CREATED:20251218T092527Z
LAST-MODIFIED:20251221T092802Z
UID:33108-1766329200-1766336400@infostargard.pl
SUMMARY:Mecz PGE Spójnia Stargard - KKS Polonia Warszawa
DESCRIPTION:W dniu 21. grudnia 2025 r. (niedziela)\, w Hali OSiR przy ul. Pierwszej Brygady 1 w Stargardzie\, odbędzie się mecz w ramach 15. kolejki I ligi koszykówki\, pomiędzy PGE Spójnia Stargard\, a KKS Polonia Warszawa
URL:https://infostargard.pl/event/mecz-pge-spojnia-stargard-kks-polonia-warszawa/
LOCATION:Hala OSiR\, ul. Pierwszej Brygady 1
END:VEVENT
BEGIN:VEVENT
DTSTART;TZID=Europe/Helsinki:20251221T170000
DTEND;TZID=Europe/Helsinki:20251221T170000
DTSTAMP:20260420T035436
CREATED:20251210T073655Z
LAST-MODIFIED:20251210T073655Z
UID:31895-1766336400-1766336400@infostargard.pl
SUMMARY:Koncert Świąteczny z Cameratą
DESCRIPTION:21 grudnia w SCK odbędzie się Świąteczny Koncert z Cameratą. \n\nTradycyjny\, grudniowy koncert Orkiestry Camerata Stargard ma dwa zadania: dać wytchnienie w gorącym\, pracowitym\, przedświątecznym czasie i wprowadzić w nastrój świąt Bożego Narodzenia. Tradycyjnie więc stargardzcy (i nie tylko) melomani usłyszą polskie i zagraniczne utwory przedświąteczne\, a także najpiękniejsze kolędy. Większość repertuaru jest na tyle znana i popularna\, że nadaje się do nucenia pod nosem\, a dyrygent Kuba Wnuk z pewnością będzie liczył na aktywny wokalny udział publiczności przy wykonaniu kolęd. Wykonawcy: Orkiestra Camerata Stargard\, Kuba Wnuk – dyrygent.
URL:https://infostargard.pl/event/koncert-swiateczny-z-camerata/
LOCATION:Stargardzkie Centrum Kultury
END:VEVENT
END:VCALENDAR