BEGIN:VCALENDAR
VERSION:2.0
PRODID:-//Info Stargard - ECPv6.15.20//NONSGML v1.0//EN
CALSCALE:GREGORIAN
METHOD:PUBLISH
X-ORIGINAL-URL:https://infostargard.pl
X-WR-CALDESC:Wydarzenia dla Info Stargard
REFRESH-INTERVAL;VALUE=DURATION:PT1H
X-Robots-Tag:noindex
X-PUBLISHED-TTL:PT1H
BEGIN:VTIMEZONE
TZID:Europe/Helsinki
BEGIN:DAYLIGHT
TZOFFSETFROM:+0200
TZOFFSETTO:+0300
TZNAME:EEST
DTSTART:20240331T010000
END:DAYLIGHT
BEGIN:STANDARD
TZOFFSETFROM:+0300
TZOFFSETTO:+0200
TZNAME:EET
DTSTART:20241027T010000
END:STANDARD
BEGIN:DAYLIGHT
TZOFFSETFROM:+0200
TZOFFSETTO:+0300
TZNAME:EEST
DTSTART:20250330T010000
END:DAYLIGHT
BEGIN:STANDARD
TZOFFSETFROM:+0300
TZOFFSETTO:+0200
TZNAME:EET
DTSTART:20251026T010000
END:STANDARD
BEGIN:DAYLIGHT
TZOFFSETFROM:+0200
TZOFFSETTO:+0300
TZNAME:EEST
DTSTART:20260329T010000
END:DAYLIGHT
BEGIN:STANDARD
TZOFFSETFROM:+0300
TZOFFSETTO:+0200
TZNAME:EET
DTSTART:20261025T010000
END:STANDARD
END:VTIMEZONE
BEGIN:VEVENT
DTSTART;TZID=Europe/Helsinki:20251220T120000
DTEND;TZID=Europe/Helsinki:20251220T150000
DTSTAMP:20260420T035435
CREATED:20251215T113232Z
LAST-MODIFIED:20251215T113232Z
UID:32588-1766232000-1766242800@infostargard.pl
SUMMARY:Bajkowe Mikołajki
DESCRIPTION:
URL:https://infostargard.pl/event/bajkowe-mikolajki/
LOCATION:GH Starówka
END:VEVENT
BEGIN:VEVENT
DTSTART;TZID=Europe/Helsinki:20251220T143000
DTEND;TZID=Europe/Helsinki:20251220T143000
DTSTAMP:20260420T035435
CREATED:20251216T111419Z
LAST-MODIFIED:20251216T111419Z
UID:32730-1766241000-1766241000@infostargard.pl
SUMMARY:Terenowa GRAbowska
DESCRIPTION:
URL:https://infostargard.pl/event/terenowa-grabowska/
LOCATION:teren przy świetlicy w Grabowie
END:VEVENT
BEGIN:VEVENT
DTSTART;TZID=Europe/Helsinki:20251220T180000
DTEND;TZID=Europe/Helsinki:20251220T203000
DTSTAMP:20260420T035435
CREATED:20251220T113220Z
LAST-MODIFIED:20251220T113220Z
UID:33251-1766253600-1766262600@infostargard.pl
SUMMARY:Minuta Dźwięku
DESCRIPTION:W tym roku tradycyjnie na parkingu przy byłym hipermarkecie „Tesco” odbędzie się wydarzenie „Minuta dźwięku\, dla kierowców którzy nie wrócili do domów ”.\n\n-20 grudnia przy ulicy Szczecińskiej 81 spotkają się wszyscy\, którzy zechcą uczcić pamięć kierowców\, którzy zginęli podczas swojej pracy i nie wrócili do swoich bliskich – zaprasza grupa Stoją Stargard. – Punktem kulminacyjnym spotkania będzie uruchomienie świateł awaryjnych i dźwięk klaksonów samochodowych wszystkich zebranych aut. Ten moment nastąpi dokładnie o 20.14. W tym roku\, chcemy zacząć około 18 pokazem lokalnych firm\, zarazem poczęstunkiem. Jak I możliwości zobaczenia pojazdów ciężarowych od środka…„Jesteśmy kierowcami\, tak samo\, jak ci\, którzy zginęli na drogach. W ten dzień chcemy uczcić pamięć naszych nieżyjących kolegów. Będziemy ich wspominać przy gorącej kawie i herbacie. Ważne\, żeby dopisała frekwencja” – mówi Michał Łozowski.
URL:https://infostargard.pl/event/minuta-dzwieku/
LOCATION:parking dawnego Tesco
END:VEVENT
END:VCALENDAR