BEGIN:VCALENDAR
VERSION:2.0
PRODID:-//Info Stargard - ECPv6.15.20//NONSGML v1.0//EN
CALSCALE:GREGORIAN
METHOD:PUBLISH
X-ORIGINAL-URL:https://infostargard.pl
X-WR-CALDESC:Wydarzenia dla Info Stargard
REFRESH-INTERVAL;VALUE=DURATION:PT1H
X-Robots-Tag:noindex
X-PUBLISHED-TTL:PT1H
BEGIN:VTIMEZONE
TZID:Europe/Helsinki
BEGIN:DAYLIGHT
TZOFFSETFROM:+0200
TZOFFSETTO:+0300
TZNAME:EEST
DTSTART:20240331T010000
END:DAYLIGHT
BEGIN:STANDARD
TZOFFSETFROM:+0300
TZOFFSETTO:+0200
TZNAME:EET
DTSTART:20241027T010000
END:STANDARD
BEGIN:DAYLIGHT
TZOFFSETFROM:+0200
TZOFFSETTO:+0300
TZNAME:EEST
DTSTART:20250330T010000
END:DAYLIGHT
BEGIN:STANDARD
TZOFFSETFROM:+0300
TZOFFSETTO:+0200
TZNAME:EET
DTSTART:20251026T010000
END:STANDARD
BEGIN:DAYLIGHT
TZOFFSETFROM:+0200
TZOFFSETTO:+0300
TZNAME:EEST
DTSTART:20260329T010000
END:DAYLIGHT
BEGIN:STANDARD
TZOFFSETFROM:+0300
TZOFFSETTO:+0200
TZNAME:EET
DTSTART:20261025T010000
END:STANDARD
END:VTIMEZONE
BEGIN:VEVENT
DTSTART;TZID=Europe/Helsinki:20251218T170000
DTEND;TZID=Europe/Helsinki:20251218T170000
DTSTAMP:20260420T013035
CREATED:20251202T105649Z
LAST-MODIFIED:20251202T105740Z
UID:31153-1766077200-1766077200@infostargard.pl
SUMMARY:CSKF: Szkoda\, że nareszcie
DESCRIPTION:W ramach Czwartkowych Spotkań Klubu Filmowego\, Stargardzkie Centrum Kultury zaprasza na seans filmu pt. „Szkoda\, że nareszcie”. \nGościem CSKF będzie reżyser Sebastian Juszczyk. Rozmowę po seansie przeprowadzi dziennikarz filmowy Krzysztof Spór. \nBilety w cenie normalny – 17 zł\, z kartą członkowską – 12 zł. \nJacek „Budyń” Szymkiewicz to wyjątkowa postać dla polskiej muzyki – wszechstronny i szalenie zdolny założyciel między innymi Pogodno czy Babu Król. W filmie Sebastiana Juszczyka jego przyjaciele – Katarzyna Nosowska\, Krzysztof Zalewski\, Stanisław Soyka i wielu innych – przybliżają nam jego pełną paradoksów postać. To opowieść o niepokornym artyście\, o jego trudnych relacjach\, zdrowiu psychicznym\, uzależnieniach oraz kreatywnym buncie na tle społecznego przełomu lat 90. Muzyka stała się jego sposobem na życie\, formą terapii i autokreacji\, ale jaka była tego cena? Unikalne wywiady i materiały archiwalne w filmie łączą się z animacjami i kolażami\, które przenoszą nas w złożony świat Budynia i zachwyciły publiczność na tegorocznym festiwalu Millennium Docs (Against Gravity). \nInf. organizatora
URL:https://infostargard.pl/event/cskf-szkoda-ze-nareszcie/
LOCATION:Sala nr 2 – Piwnica Artystyczna
END:VEVENT
BEGIN:VEVENT
DTSTART;TZID=Europe/Helsinki:20251218T170000
DTEND;TZID=Europe/Helsinki:20251218T170000
DTSTAMP:20260420T013035
CREATED:20251215T112819Z
LAST-MODIFIED:20251215T112819Z
UID:32580-1766077200-1766077200@infostargard.pl
SUMMARY:Koncert Świąteczny w szkole muzycznej
DESCRIPTION:W Sali koncertowej Państwowej szkoły Muzycznej I i II stopnia w Stargardzie odbędzie się Koncert Świąteczny.   \n-Mamy zaszczyt zaprosić wszystkich melomanów na koncert czwartkowy – zaprasza organizator. – Usłyszą Państwo kolędy i utwory świąteczne\, tym razem w wykonaniu naszych największych zespołów – dużej orkiestry\, chóru\, zespołu muzyki rozrywkowej oraz zespołu muzyki dawnej. Będzie bardzo uroczyście i warto przybyć\, aby pomiędzy gotowaniem i sprzątaniem zanurzyć się w świątecznej atmosferze.  \nPSM I i II st. im. W. Lutosławskiego w Stargardzie\, Sala koncertowa im. prof. M. Jasińskiego\, czwartek 18.12.2025 godz. 17.00
URL:https://infostargard.pl/event/koncert-swiateczny-w-szkole-muzycznej/
LOCATION:PSM I I II st. w Stargardzie
END:VEVENT
END:VCALENDAR