BEGIN:VCALENDAR
VERSION:2.0
PRODID:-//Info Stargard - ECPv6.15.20//NONSGML v1.0//EN
CALSCALE:GREGORIAN
METHOD:PUBLISH
X-ORIGINAL-URL:https://infostargard.pl
X-WR-CALDESC:Wydarzenia dla Info Stargard
REFRESH-INTERVAL;VALUE=DURATION:PT1H
X-Robots-Tag:noindex
X-PUBLISHED-TTL:PT1H
BEGIN:VTIMEZONE
TZID:Europe/Helsinki
BEGIN:DAYLIGHT
TZOFFSETFROM:+0200
TZOFFSETTO:+0300
TZNAME:EEST
DTSTART:20240331T010000
END:DAYLIGHT
BEGIN:STANDARD
TZOFFSETFROM:+0300
TZOFFSETTO:+0200
TZNAME:EET
DTSTART:20241027T010000
END:STANDARD
BEGIN:DAYLIGHT
TZOFFSETFROM:+0200
TZOFFSETTO:+0300
TZNAME:EEST
DTSTART:20250330T010000
END:DAYLIGHT
BEGIN:STANDARD
TZOFFSETFROM:+0300
TZOFFSETTO:+0200
TZNAME:EET
DTSTART:20251026T010000
END:STANDARD
BEGIN:DAYLIGHT
TZOFFSETFROM:+0200
TZOFFSETTO:+0300
TZNAME:EEST
DTSTART:20260329T010000
END:DAYLIGHT
BEGIN:STANDARD
TZOFFSETFROM:+0300
TZOFFSETTO:+0200
TZNAME:EET
DTSTART:20261025T010000
END:STANDARD
END:VTIMEZONE
BEGIN:VEVENT
DTSTART;TZID=Europe/Helsinki:20251110T000000
DTEND;TZID=Europe/Helsinki:20251215T000000
DTSTAMP:20260420T035448
CREATED:20251203T100945Z
LAST-MODIFIED:20260225T072016Z
UID:31297-1762732800-1765756800@infostargard.pl
SUMMARY:Zbiórka świąteczna "Pomagamy Sercem"
DESCRIPTION:
URL:https://infostargard.pl/event/zbiorka-swiateczna-pomagamy-sercem/
END:VEVENT
BEGIN:VEVENT
DTSTART;TZID=Europe/Helsinki:20251127T000000
DTEND;TZID=Europe/Helsinki:20251216T000000
DTSTAMP:20260420T035448
CREATED:20251210T131157Z
LAST-MODIFIED:20251210T131157Z
UID:32020-1764201600-1765843200@infostargard.pl
SUMMARY:Konsultacje społeczne w gm. Ińsko
DESCRIPTION:
URL:https://infostargard.pl/event/konsultacje-spoleczne-w-gm-insko/
END:VEVENT
BEGIN:VEVENT
DTSTART;TZID=Europe/Helsinki:20251211T110000
DTEND;TZID=Europe/Helsinki:20251214T160000
DTSTAMP:20260420T035448
CREATED:20251127T111535Z
LAST-MODIFIED:20251202T084110Z
UID:30581-1765450800-1765728000@infostargard.pl
SUMMARY:Warsztaty "Na świąteczną nutę"
DESCRIPTION:– To wyjątkowa okazja\, by poczuć magię świąt\, zaśpiewać w wspaniałej atmosferze i przygotować się do wielkiego koncertu finałowego „Na świąteczną nutę” w Kolegiacie NMP Królowej Świata podczas Jarmarku Świątecznego pod Szczęśliwą Gwiazdą – zapraszają do udziału organizatorzy. \nUdział w warsztatach jest całkowicie bezpłatny. \n– Zapraszamy wszystkich – informuje organizator. – Osoby indywidualne\, chórzystów i wokalistów\, muzyków oraz każdego\, kto ma ochotę śpiewać i poczuć świąteczny klimat. Nie ma przesłuchań – wystarczy przyjść! Pracujemy bez nut – uczymy się „na ucho”\, w cudownej\, inspirującej atmosferze. \nHarmonogram warsztatów: \nCzwartek\, 11.12.2025 \n17:00-20:00 – sala baletowa\, SCK \nPiątek\, 12.12.2025 \n17:00-20:00 – sala baletowa\, SCK \nSobota\, 13.12.2025 \n09:00-13:00 – mała scena\, SCK \n15:00-20:00 – mała scena\, SCK \nNiedziela\, 14.12.2025 \n09:00-12:00 – mała scena\, SCK \n14:30 – próba generalna \n16:00 – koncert finałowy w Kolegiata NMP Królowej Świata \nProwadzący: \nAnna-Maria Mbayo & Maria Pyra \nMuzycy towarzyszący podczas warsztatów i koncertu: \nInstrumenty klawiszowe: Marek Adamowski \nGitara elektryczna: Grzegorz Kaczmar \nPerkusja: Marcin Rakowski \nBas: Krzysztof Borkowski.
URL:https://infostargard.pl/event/warsztaty-na-swiateczna-nute/
LOCATION:SCK\, kolegiata NMP KŚ
END:VEVENT
BEGIN:VEVENT
DTSTART;TZID=Europe/Helsinki:20251213T093000
DTEND;TZID=Europe/Helsinki:20251213T093000
DTSTAMP:20260420T035448
CREATED:20251105T130631Z
LAST-MODIFIED:20251119T095609Z
UID:28379-1765618200-1765618200@infostargard.pl
SUMMARY:II Bieg Mikołajkowy
DESCRIPTION:II Bieg Mikołajkowy odbędzie się 13 grudnia w Stargardzie. Zapisy już ruszyły. \n– 13 grudnia: biegniemy na dystansie 5 km\, maszerujemy na dystansie 3\,5 km\, dzieci biegają na dystansach 100 ÷ 1000mb – informuje Stargardzki Klub Lekkoatletyczny. – W programie ponadto: mikołajkowy quiz z nagrodami\, poczęstunek\, nagrody i statuetki w kategoriach Open oraz wiekowych\, klasyfikacja drużynowa oraz… wisienka na torcie! FINAŁ – wyróżnienie Top dla uczestników. \nLokalizacja:\nTeatr Letni\, Park Chrobrego \nBiuro zawodów: 8:00-10:00\,\nII Liceum Ogólnokształcące\nStargard\, ul. Mieszka I \nStart biegu głównego: godz. 11:00\nStart Marszu NW: godz. 11:03 \nStart biegu dzieci: godz. 9:30 \nDekoracje Biegu Mikołajkowego\noraz Ceremonia zakończenia i podsumowania cyklu GP 2025 r.\nII Liceum Ogólnokształcące Stargard\, ul. Mieszka I\, ok. godz. 12.30/ 13.00 \nDekoracje dzieci w Teatrze Letnim bezpośrednio po biegach dzieci. Wydarzenie odbędzie się w ramach XV GP STARGARDU CZTERY PORY ROKU.
URL:https://infostargard.pl/event/ii-bieg-mikolajkowy/
LOCATION:Teatr Letni
END:VEVENT
BEGIN:VEVENT
DTSTART;TZID=Europe/Helsinki:20251213T111500
DTEND;TZID=Europe/Helsinki:20251213T111500
DTSTAMP:20260420T035448
CREATED:20251105T125653Z
LAST-MODIFIED:20251119T100503Z
UID:28374-1765624500-1765624500@infostargard.pl
SUMMARY:Mikołajki w świetlicy w Motańcu
DESCRIPTION:Koło Gospodyń Wiejskich w Motańcu zaprasza dzieci z Motańca na zabawę mikołajkową\, która odbędzie się w sobotę\, 13 grudnia od godz. 11:15 w świetlicy wiejskiej. \nW programie m.in. wspólne śpiewy i tańce\, spotkanie ze Świętym Mikołajem oraz słodki poczęstunek i mnóstwo śmiechu. Koszt paczki mikołajkowej wynosi 50 zł. \n– Niech każdy zabierze ze sobą dobry humor i świątecznego ducha – zachęcają organizatorzy. – Z mikołajkowymi pozdrowieniami Wasze Elfy! \nLiczba miejsc jest ograniczona – zapisy pod numerem telefonu 506 816 423 do dnia 21.11.2015 r.
URL:https://infostargard.pl/event/mikolajki-w-swietlicy-w-motancu/
LOCATION:świetlica w Motańcu
END:VEVENT
BEGIN:VEVENT
DTSTART;TZID=Europe/Helsinki:20251213T120000
DTEND;TZID=Europe/Helsinki:20251213T120000
DTSTAMP:20260420T035448
CREATED:20251211T081802Z
LAST-MODIFIED:20251211T081802Z
UID:32083-1765627200-1765627200@infostargard.pl
SUMMARY:Koncert "Kto tak pięknie gra?" - Galeria Handlowa Starówka
DESCRIPTION:Już w tę sobotę\, 13 grudnia\, w Galerii Handlowej Starówka odbędzie się koncert z cyklu „Kto Tak Pięknie Gra?”. \n\n\n\n-Wprowadzimy Was w świąteczny klimat i umilimy przedświąteczne zakupy prezentów – zapraszają organizatorzy.\n\n\nKoncert rozpocznie się o godz. 12. Zagrają uczniowie Ogólnokształcącej Szkoły Muzycznej I stopnia oraz Państwowej szkoły Muzycznej I i II stopnia w Stargardzie.
URL:https://infostargard.pl/event/koncert-kto-tak-pieknie-gra-galeria-handlowa-starowka/
LOCATION:Galeria Handlowa Starówka
END:VEVENT
BEGIN:VEVENT
DTSTART;TZID=Europe/Helsinki:20251213T120000
DTEND;TZID=Europe/Helsinki:20251213T180000
DTSTAMP:20260420T035448
CREATED:20251201T074913Z
LAST-MODIFIED:20251201T074913Z
UID:30877-1765627200-1765648800@infostargard.pl
SUMMARY:FILA[G]RY – świąteczne gry w planszówki
DESCRIPTION:13 grudnia w SCN Filary odbędzie się kolejne wydarzenie w ramach cyklu: FILA[G]RY – świąteczne spotkanie planszówkowe. Spotkanie\, jak zwykle w godzinach 12:00 – 18:00. \nW dniu wydarzenia w sklepiku FILARÓW gry można kupić z rabatem. Może to właśnie tutaj Mikołaj ukrył jakieś upominki. Planszówkowe popołudnia można spędzić tak\, jak lubicie najbardziej: \n– przyjść rodzinnie lub ekipą znajomych i zagrać w swoim gronie\, \n– przyjść samemu i na wydarzeniu poszukać rywala do zmagań na planszy\, \n– rozgrywać partie swojej ulubionej gry\, \n– dzięki pomocy edukatorów i wolontariuszy poznać nowe gry z biblioteczki FILARÓW\, \n– przynieść swoje gry i wciągnąć do wspólnej zabawy innych uczestników wydarzenia. \nSpotkania planszówkowe to doskonała okazja do integracji\, nauki i świetnej zabawy dla uczestników w każdym wieku. W FILAROWEJ biblioteczce jest już ponad 100 gier!
URL:https://infostargard.pl/event/filagry-swiateczne-gry-w-planszowki/
LOCATION:SCN Filary
END:VEVENT
BEGIN:VEVENT
DTSTART;TZID=Europe/Helsinki:20251213T120000
DTEND;TZID=Europe/Helsinki:20251214T200000
DTSTAMP:20260420T035448
CREATED:20251028T174642Z
LAST-MODIFIED:20251203T105436Z
UID:27511-1765627200-1765742400@infostargard.pl
SUMMARY:Jarmark Świąteczny pod Szczęśliwą Gwiazdą
DESCRIPTION:Jarmark Świąteczny pod Szczęśliwą Gwiazdą odbędzie się 13 i 14 grudnia w Stargardzie.  \nWydarzenie odbędzie się na Rynku Staromiejskim w godzinach: \n\nSobota 12:00 – 20:00\nNiedziela 12:00 – 18:00\n\n– Przyjdź i poczuj magiczny klimat Świąt Bożego Narodzenia w samym sercu Stargardu! – zachęcają organizatorzy. – Przez dwa dnu nasz Rynek rozbłyśnie blaskiem świateł\, zapachnie piernikami\, grzanym winem i ciepłymi sercami ludzi\, którzy spotkają się\, by razem celebrować ten wyjątkowy czas.  \nW programie: \n\nSpotkanie ze Świętym Mikołajem\,\nŚwiąteczna karuzela i żywa szopka bożonarodzeniowa ze zwierzętami\,\nAromatyczne wino grzane\, gorąca czekolada i pyszne świąteczne przysmaki\,\nStoiska z prezentami i rękodziełem\,\nRegionalne specjały\, które mogą zagościć na wigilijnym stole\n\nPonadto\, we wnętrzach stargardzkiej Kolegiaty przez dwa dni zabrzmią koncerty świąteczne\, które napełnią serca spokojem\, radością i nadziejom. \n– Niech te dni będą czasem wspólnego świętowania\, spotkań\, uśmiechów i serdeczności – informują organizatorzy. – Przyjdźcie z rodziną\, przyjaciółmi\, sąsiadami – nie może Was zabraknąć! \nInformacja UM w Stargardzie:  \nTo będzie weekend pełny cudów. 13 i 14.12 (sobota-niedziela) Rynek Staromiejski zamieni się w miejsce\, w którym spełniają się świąteczne marzenia. Na Jarmarku pod Szczęśliwą Gwiazdą znajdziemy mnóstwo pomysłów na prezenty\, smakołyki\, rękodzieło\, karuzelę wenecką\, szopkę ze zwierzętami i muzykę na żywo. To obowiązkowy punkt dla wszystkich kochających Boże Narodzenie. \nDodatkowo w kolegiacie odbędą się bezpłatne koncerty. W sobotę (13.12) wystąpią: Chór Cantore Vox ze Szkoły Podstawowej nr 11 (13:30)\, Boże Światełka (15:00) i Julita Kożuszek (16:30). W niedzielę (14.12) o 16:00 posłuchamy koncertu finałowego warsztatów gospel „Na świąteczną nutę” w wykonaniu Chóru Cantore Gospel oraz Anny Marii Mbayo. Wstęp jest wolny.
URL:https://infostargard.pl/event/jarmark-swiateczny-pod-szczesliwa-gwiazda-2/
LOCATION:Rynek Staromiejski
END:VEVENT
BEGIN:VEVENT
DTSTART;TZID=Europe/Helsinki:20251213T130000
DTEND;TZID=Europe/Helsinki:20251213T130000
DTSTAMP:20260420T035448
CREATED:20251202T114612Z
LAST-MODIFIED:20251202T114713Z
UID:31195-1765630800-1765630800@infostargard.pl
SUMMARY:Jarmark Bożonarodzeniowy w Dolicach
DESCRIPTION:Wójt Gminy Dolice oraz Dyrektor Gminnego Centrum Kultury w Dolicach zapraszają na jarmark bożonarodzeniowy.  \nWydarzenie odbędzie się w sobotę\, 13 grudnia od godz. 13\, na placu przed GCK oraz na rynku. \nWięcej informacji na plakacie poniżej.
URL:https://infostargard.pl/event/jarmark-bozonarodzeniowy-w-dolicach/
LOCATION:Plac przy Gminnym Centrum Kultury\, Rynek
END:VEVENT
BEGIN:VEVENT
DTSTART;TZID=Europe/Helsinki:20251213T130000
DTEND;TZID=Europe/Helsinki:20251213T130000
DTSTAMP:20260420T035448
CREATED:20251211T124332Z
LAST-MODIFIED:20251211T124332Z
UID:32122-1765630800-1765630800@infostargard.pl
SUMMARY:Jarmark Bożonarodzeniowy w Dolicach
DESCRIPTION:
URL:https://infostargard.pl/event/jarmark-bozonarodzeniowy-w-dolicach-2/
LOCATION:Plac przed GCK w Dolicach
END:VEVENT
BEGIN:VEVENT
DTSTART;TZID=Europe/Helsinki:20251213T150000
DTEND;TZID=Europe/Helsinki:20251213T180000
DTSTAMP:20260420T035448
CREATED:20251126T113010Z
LAST-MODIFIED:20251126T113017Z
UID:30516-1765638000-1765648800@infostargard.pl
SUMMARY:Piernikowe Warsztaty w Grzędzicach
DESCRIPTION:
URL:https://infostargard.pl/event/piernikowe-warsztaty-w-grzedzicach/
LOCATION:Świetlica Wiejska w Grzędzicach
END:VEVENT
BEGIN:VEVENT
DTSTART;TZID=Europe/Helsinki:20251213T160000
DTEND;TZID=Europe/Helsinki:20251213T160000
DTSTAMP:20260420T035448
CREATED:20251210T075726Z
LAST-MODIFIED:20251210T075726Z
UID:31903-1765641600-1765641600@infostargard.pl
SUMMARY:Kiermasz bożonarodzeniowy w Ińsku
DESCRIPTION:
URL:https://infostargard.pl/event/kiermasz-bozonarodzeniowy-w-insku/
LOCATION:Targowisko Miejskie w Ińsku
END:VEVENT
BEGIN:VEVENT
DTSTART;TZID=Europe/Helsinki:20251213T170000
DTEND;TZID=Europe/Helsinki:20251213T170000
DTSTAMP:20260420T035448
CREATED:20251210T075426Z
LAST-MODIFIED:20251210T075426Z
UID:31899-1765645200-1765645200@infostargard.pl
SUMMARY:Wystawa "Znamy się z podwórka"
DESCRIPTION:13 grudnia o godzinie 17 w przejściu kamienicy nr 74-76 mieszczącej się przy ulicy Wojska Polskiego w Stargardzie\, odbędzie się wernisaż wystawy fotograficznej. \n\nEkspozycja prezentowana będzie tylko przez 2 godziny.\n\n–Na wystawie plenerowej pokażemy efekty prac warsztatowych dzieci i młodzieży ze świetlicy Towarzystwa Przyjaciół Stargardu – informuje organizator. – Działa ona w budynku przy ul. Wojska Polskiego i Marii Konopnickiej. Prace powstały we współpracy z artystką Aleksandrą Matys. Co na Was czeka? Współczesne interpretacje i fotograficzne wariacje ulicy Wojska Polskiego w Stargardzie (widzianej oczami ich mieszkańców) ukazujące zabawy ze światłem\, ruchem i kompozycją.\n\n\n\nDziałania społeczno-edukacyjne są kontynuacją wyróżnionego w Zachodniopomorskim Wydarzeniu Muzealnym Roku projektu „Znamy się z podwórka”.\n\n 
URL:https://infostargard.pl/event/wystawa-znamy-sie-z-podworka/
LOCATION:Przejście kamienicy nr 74-76 przy ulicy Wojska Polskiego
END:VEVENT
BEGIN:VEVENT
DTSTART;TZID=Europe/Helsinki:20251213T174500
DTEND;TZID=Europe/Helsinki:20251213T174500
DTSTAMP:20260420T035448
CREATED:20251119T115719Z
LAST-MODIFIED:20251119T120011Z
UID:29839-1765647900-1765647900@infostargard.pl
SUMMARY:Koncert André Rieu - Wesołych Świąt
DESCRIPTION:Stargardzkie Centrum Kultury zaprasza na nowy\, bożonarodzeniowo-noworoczny koncert André Rieu i jego Orkiestry Johanna Straussa pt. „Wesołych Świąt”.  \nKoncert odbędzie się w sobotę\, 13 grudnia o godz. 17:45\, na Dużej Scenie SCK. Bilety w cenie 50 zł/normalny\, 45 zł/ulgowy. Czas trwania: około 2 godzin 50 minut\, w tym jedna przerwa. \nInformacja SCK: \nUsłyszycie najpiękniejsze kolędy\, cudowne walce i polki oraz bożonarodzeniowe hity. A Emma Kok zaśpiewa dla Was „Mam tę moc” z filmu „Kraina lodu”. To wszystko i inne muzyczne niespodzianki rozgrzeją Wasze serca i wprowadzą Was w atmosferę Bożego Narodzenia oraz Nowego Roku. \nBoże Narodzenie i Nowy Rok od zawsze były ulubionym czasem André. Nic więc dziwnego\, że z ogromną radością dzieli się on co roku swoim wyjątkowym świątecznym show\, nie tylko z publicznością\, która na żywo podziwia jego grudniowe występy w Maastricht\, ale także z widzami zgromadzonymi w kinach całego świata. To sprawia\, że jego świąteczne koncerty ogląda milionowa publiczność. \nMaestro wraz ze swoją fenomenalną Orkiestrą Johanna Straussa jak zawsze przygotował widowisko pełne ciepła\, śmiechu i emocji. Wśród zaproszonych gości znalazła się fenomenalna Emma Kok\, która już podbiła serca publiczności na całym świecie. Na estradę zaś wkroczy 400-osobowa orkiestra dęta\, która wykona tradycyjną pieśń „Go Tell It on the Mountain”. Muzycy ci także wesprą swym majestatycznym brzmieniem Annę Reker\, która zaśpiewa kolędę „Dzwoneczków dźwięk”. \nTo coś więcej niż zwykły świąteczny koncert. To pełne muzycznych prezentów i przesycone magiczną atmosferą Bożego Narodzenia kinowe wydarzenie\, które na długo pozostanie w pamięci Twojej i Twoich najbliższych.
URL:https://infostargard.pl/event/koncert-andre-rieu-wesolych-swiat/
LOCATION:Duża Scena SCK
END:VEVENT
END:VCALENDAR