BEGIN:VCALENDAR
VERSION:2.0
PRODID:-//Info Stargard - ECPv6.15.20//NONSGML v1.0//EN
CALSCALE:GREGORIAN
METHOD:PUBLISH
X-WR-CALNAME:Info Stargard
X-ORIGINAL-URL:https://infostargard.pl
X-WR-CALDESC:Wydarzenia dla Info Stargard
REFRESH-INTERVAL;VALUE=DURATION:PT1H
X-Robots-Tag:noindex
X-PUBLISHED-TTL:PT1H
BEGIN:VTIMEZONE
TZID:Europe/Helsinki
BEGIN:DAYLIGHT
TZOFFSETFROM:+0200
TZOFFSETTO:+0300
TZNAME:EEST
DTSTART:20240331T010000
END:DAYLIGHT
BEGIN:STANDARD
TZOFFSETFROM:+0300
TZOFFSETTO:+0200
TZNAME:EET
DTSTART:20241027T010000
END:STANDARD
BEGIN:DAYLIGHT
TZOFFSETFROM:+0200
TZOFFSETTO:+0300
TZNAME:EEST
DTSTART:20250330T010000
END:DAYLIGHT
BEGIN:STANDARD
TZOFFSETFROM:+0300
TZOFFSETTO:+0200
TZNAME:EET
DTSTART:20251026T010000
END:STANDARD
BEGIN:DAYLIGHT
TZOFFSETFROM:+0200
TZOFFSETTO:+0300
TZNAME:EEST
DTSTART:20260329T010000
END:DAYLIGHT
BEGIN:STANDARD
TZOFFSETFROM:+0300
TZOFFSETTO:+0200
TZNAME:EET
DTSTART:20261025T010000
END:STANDARD
END:VTIMEZONE
BEGIN:VEVENT
DTSTART;TZID=Europe/Helsinki:20251110T000000
DTEND;TZID=Europe/Helsinki:20251215T000000
DTSTAMP:20260420T012918
CREATED:20251203T100945Z
LAST-MODIFIED:20260225T072016Z
UID:31297-1762732800-1765756800@infostargard.pl
SUMMARY:Zbiórka świąteczna "Pomagamy Sercem"
DESCRIPTION:
URL:https://infostargard.pl/event/zbiorka-swiateczna-pomagamy-sercem/
END:VEVENT
BEGIN:VEVENT
DTSTART;TZID=Europe/Helsinki:20251127T000000
DTEND;TZID=Europe/Helsinki:20251216T000000
DTSTAMP:20260420T012918
CREATED:20251210T131157Z
LAST-MODIFIED:20251210T131157Z
UID:32020-1764201600-1765843200@infostargard.pl
SUMMARY:Konsultacje społeczne w gm. Ińsko
DESCRIPTION:
URL:https://infostargard.pl/event/konsultacje-spoleczne-w-gm-insko/
END:VEVENT
BEGIN:VEVENT
DTSTART;TZID=Europe/Helsinki:20251204T093000
DTEND;TZID=Europe/Helsinki:20251204T123000
DTSTAMP:20260420T012918
CREATED:20251202T110749Z
LAST-MODIFIED:20251202T110807Z
UID:31156-1764840600-1764851400@infostargard.pl
SUMMARY:Kiermasz Bożonarodzeniowy w Urzędzie Gminy Marianowo
DESCRIPTION:
URL:https://infostargard.pl/event/kiermasz-bozonarodzeniowy-w-urzedzie-gminy-marianowo/
LOCATION:Urząd Gminy Marianowo
END:VEVENT
BEGIN:VEVENT
DTSTART;TZID=Europe/Helsinki:20251204T100000
DTEND;TZID=Europe/Helsinki:20251204T100000
DTSTAMP:20260420T012918
CREATED:20251126T093837Z
LAST-MODIFIED:20251126T093844Z
UID:30461-1764842400-1764842400@infostargard.pl
SUMMARY:Konferencja diabetologiczna "Twarze cukrzycy" w Starostwie
DESCRIPTION:Stowarzyszenie Edukacja-Zdrowie-Aktywność wraz z Powiatem Stargardzkim zapraszają na Konferencję Diabetologiczną pt. „Twarze cukrzycy”.  \nSpotkanie odbędzie się w czwartek\, 4 grudnia o godz. 10\, w sali konferencyjnej Starostwa Powiatowego w Stargardzie\, ul. Skarbowa 1. \nW programie m.in.: \n\n„Waga to liczb\, zdrowie to wybór”\n„Wybieraj zdrowo\, żyj słodko”\n„Zdrowy krok w diabetologii – warsztaty dla aktywnych”\nZdrowe przekąski\nRozmaite niespodzianki\n\n– To idealna okazja\, by zdobyć praktyczną wiedzę\, porozmawiać ze specjalistami i dowiedzieć się\, jak codziennymi wyborami wspierać swoje zdrowie – zachęcają organizatorzy. – Serdecznie zapraszamy! \nWstęp na to wydarzenie jest wolny.
URL:https://infostargard.pl/event/konferencja-diabetologiczna-twarze-cukrzycy-w-starostwie/
LOCATION:Sala konferencyjna 103 Starostwa Powiatowego w Stargardzie\, ul. Skarbowa 1
END:VEVENT
BEGIN:VEVENT
DTSTART;TZID=Europe/Helsinki:20251204T170000
DTEND;TZID=Europe/Helsinki:20251204T170000
DTSTAMP:20260420T012918
CREATED:20251130T094852Z
LAST-MODIFIED:20251202T082742Z
UID:30837-1764867600-1764867600@infostargard.pl
SUMMARY:Być Kobietą – Babskie Pogaduchy w Książnicy Stargardzkiej
DESCRIPTION:W czwartek\, 4 grudnia o godz. 17 w Pracowni Kreatywności odbędzie się kolejne spotkanie z cyklu „Być Kobietą” – Babskie Pogaduchy w Książnicy Stargardzkiej.  \nTym razem zanurzymy się w temat niezwykle ważny dla każdej z nas – asertywność. Porozmawiamy o tym\, jak mówić „tak” i „nie” w zgodzie ze sobą\, jak stawiać granice bez poczucia winy i jak dbać o swoje potrzeby w relacjach w pracy\, w domu i w codziennych sytuacjach. \nSpotkanie poprowadzi Ewa Bodnar – pedagożka i terapeutka z Poradni Psychologiczno-Pedagogicznej w Stargardzie\, która w sposób profesjonalny i przystępny pokaże\, że asertywność nie jest twardą postawą\, lecz umiejętnością budowania szacunku zarówno do siebie\, jak i do innych. To będzie popołudnie pełne kobiecych rozmów\, praktycznych wskazówek i inspiracji do pozytywnych zmian. \nInf. organizatora
URL:https://infostargard.pl/event/byc-kobieta-babskie-pogaduchy-w-ksiaznicy-stargardzkiej-2/
LOCATION:Książnica Stargardzka – Pracownia Kreatywności (wejście od ul. Pocztowej)
END:VEVENT
BEGIN:VEVENT
DTSTART;TZID=Europe/Helsinki:20251204T180000
DTEND;TZID=Europe/Helsinki:20251204T180000
DTSTAMP:20260420T012918
CREATED:20251126T095026Z
LAST-MODIFIED:20251126T095130Z
UID:30466-1764871200-1764871200@infostargard.pl
SUMMARY:Wernisaż wystawy poplenerowej w Galerii 108
DESCRIPTION:Stargardzkie Centrum Kultury zaprasza na otwarcie wystawy poplenerowej pt. „Tychowo 2025”.  \nWernisaż odbędzie się w czwartek\, 4 grudnia o godz. 18\, w Galerii 108 SCK. Wstęp jest wolny. \nW dniach 22-27.09. 2025 w świetlicy wiejskiej w Tychowie obył się plener malarski połączony z warsztatami dedykowany głównie  mieszkańcom Gminy Stargard. Organizatorem przedsięwzięcia była Gmina Stargard a współorganizatorem Stargardzkie Centrum Kultury. \nW zajęciach uczestniczyło 26 osób w tym dorośli i młodzież szkolna ze szkół podstawowych Strachocina i Stargardu (SP.3 i SP.11). Zajęcia które prowadził komisarz pleneru Piotr Kosmal odbywały się w godzinach 10:00–18:00\, . Organizacja pleneru była niemałym przedsięwzięciem\, w którym nieocenioną pomoc okazała Anna Wilk\, zastępca komisarza pleneru. \nGłównym przewijającym się tematem prac była okoliczna przyroda\, pejzaże\, kwiaty a także martwa natura i architektura. Powstało wiele ciekawych i warto-ściowych obrazów\, prezentowanych po zakończeniu warsztatów na wystawie poplenerowej w sali świetlicowej. Licznie przybyli na wernisaż goście mogli je podziwiać oraz dzielić się swoimi uwagami i spostrzeżeniami z twórcami.  Otwierające wystawę panie: Patrycja Gross wójt Gminy Stargard i Joanna Tomczak dyrektor Star-gardzkiego Centrum Kultury zgodnie przyznały\, że tego typu spotkania mają bardzo pozytywny wpływ na rozwój artystyczny uczestników a co za tym idzie na promocję kultury plastycznej w lokalnym środowisku. Dodały również\, że warto kontynuować takie przedsięwzięcia w przyszłości. \nO to aby duch twórczy mógł swobodnie się kreować na płótnach malarskich zadbały panie z Koła Gospodyń  przyrządzając smaczne obiady i przekąski. Na\, które z niecierpliwością wszyscy czekali. Oprawę muzyczną wernisażu przygotował lokalny zespół bluesowy  o roboczej nazwie No Name Blues Band. 30. września wystawa prezentowana była również w Galerii Gminy Stargard. \nUCZESTNICY PLENERU \nPiotr Paweł Kosmal – komisarz pleneru \nAnna Wilk – z-ca komisarza pleneru \nAnna Bielańska \nJadwiga Czubara \nAgata Drapała \nAnna Elster-Myszka \nMirosława Jarmakowska \nHonorata Matyga \nElżbieta Pędkowska \nHalina Pilarczyk \nMałgorzata Pomarańska \nIwona Skoczylas \nBożena Socik \nIzabela Strzelczyk Kosmal \nDanuta Szudzichowska \nBeata Szarmach \nKatarzyna Traczyk \nMaria Ardowska – Sp. 3 w Stargardzie \nKatarzyna Komisarczyk – Sp. 3 w Stargardzie \nIvanna Kovalenko – Sp. 3 w Stargardzie \nZuzanna Stasińska – Sp. 3 w Stargardzie \nLilianna Stefanicka – Sp. 3 w Stargardzie \nLaura Węglarek – Sp. 3 w Stargardzie \nOpiekun Grupy Z Sp. 3 w Stargardzie – Małgorzata Kuligowska \nLidia Krüger – Sp. 11 w Stargardzie \nOliwer Juszczak – Sp. w Strachocinie \nJulia Wojciechowska – Sp. w Strachocinie
URL:https://infostargard.pl/event/wernisaz-wystawy-poplenerowej-w-galerii-108/
LOCATION:Galeria 108 Hol
END:VEVENT
BEGIN:VEVENT
DTSTART;TZID=Europe/Helsinki:20251204T180000
DTEND;TZID=Europe/Helsinki:20251204T180000
DTSTAMP:20260420T012918
CREATED:20251202T101119Z
LAST-MODIFIED:20251202T101210Z
UID:31115-1764871200-1764871200@infostargard.pl
SUMMARY:Koncert Jesienny w Dolicach
DESCRIPTION:Gminne Centrum Kultury w Dolicach zaprasza wszystkich chętnych na koncert jesienny „Muzyka barwami jesieni malowana”.  \nWystęp odbędzie się w czwartek\, 4 grudnia o godz. 18\, w Gminnym Centrum Kultury w Dolicach. Wstęp jest wolny. \nNa scenie wystąpią uczestnicy zajęć wokalnych pod kierownictwem Bartka Michalczyka.
URL:https://infostargard.pl/event/koncert-jesienny-w-dolicach/
LOCATION:Gminne Centrum Kultury w Dolicach
END:VEVENT
BEGIN:VEVENT
DTSTART;TZID=Europe/Helsinki:20251204T190000
DTEND;TZID=Europe/Helsinki:20251204T190000
DTSTAMP:20260420T012918
CREATED:20251021T091919Z
LAST-MODIFIED:20251022T073613Z
UID:26764-1764874800-1764874800@infostargard.pl
SUMMARY:Kabaret K2 Program - "Jedziemy na luzie"
DESCRIPTION:W czwartek\, 4 grudnia o godz. 19\, na Dużej Scenie SCK wystąpi Kabaret K2 ze swoim programem „Jedziemy na luzie”.  \nBilety w cenie: parter 100 zł/ balkon 90 zł. \nInformacja SCK: \nK2 wrzuca na luz i zaprasza na swój kolejny program. Jedziemy na luzie: bez spiny i zbędnego nadęcia… po prostu dobra zabawa. Spodziewajcie się improwizacji i dawno niewidzianych postaci: Baśki Polak\, Darusia i Dziadka Alfonsa. Jak zwykle będzie śmiesznie i absolutnie bez cenzury! Wrzuć na luz i daj się wciągnąć!
URL:https://infostargard.pl/event/kabaret-k2-program-jedziemy-na-luzie-2/
LOCATION:Duża Scena SCK
END:VEVENT
END:VCALENDAR