BEGIN:VCALENDAR
VERSION:2.0
PRODID:-//Info Stargard - ECPv6.15.20//NONSGML v1.0//EN
CALSCALE:GREGORIAN
METHOD:PUBLISH
X-ORIGINAL-URL:https://infostargard.pl
X-WR-CALDESC:Wydarzenia dla Info Stargard
REFRESH-INTERVAL;VALUE=DURATION:PT1H
X-Robots-Tag:noindex
X-PUBLISHED-TTL:PT1H
BEGIN:VTIMEZONE
TZID:Europe/Helsinki
BEGIN:DAYLIGHT
TZOFFSETFROM:+0200
TZOFFSETTO:+0300
TZNAME:EEST
DTSTART:20240331T010000
END:DAYLIGHT
BEGIN:STANDARD
TZOFFSETFROM:+0300
TZOFFSETTO:+0200
TZNAME:EET
DTSTART:20241027T010000
END:STANDARD
BEGIN:DAYLIGHT
TZOFFSETFROM:+0200
TZOFFSETTO:+0300
TZNAME:EEST
DTSTART:20250330T010000
END:DAYLIGHT
BEGIN:STANDARD
TZOFFSETFROM:+0300
TZOFFSETTO:+0200
TZNAME:EET
DTSTART:20251026T010000
END:STANDARD
BEGIN:DAYLIGHT
TZOFFSETFROM:+0200
TZOFFSETTO:+0300
TZNAME:EEST
DTSTART:20260329T010000
END:DAYLIGHT
BEGIN:STANDARD
TZOFFSETFROM:+0300
TZOFFSETTO:+0200
TZNAME:EET
DTSTART:20261025T010000
END:STANDARD
END:VTIMEZONE
BEGIN:VEVENT
DTSTART;TZID=Europe/Helsinki:20251110T000000
DTEND;TZID=Europe/Helsinki:20251215T000000
DTSTAMP:20260420T055620
CREATED:20251203T100945Z
LAST-MODIFIED:20260225T072016Z
UID:31297-1762732800-1765756800@infostargard.pl
SUMMARY:Zbiórka świąteczna "Pomagamy Sercem"
DESCRIPTION:
URL:https://infostargard.pl/event/zbiorka-swiateczna-pomagamy-sercem/
END:VEVENT
BEGIN:VEVENT
DTSTART;TZID=Europe/Helsinki:20251127T000000
DTEND;TZID=Europe/Helsinki:20251216T000000
DTSTAMP:20260420T055620
CREATED:20251210T131157Z
LAST-MODIFIED:20251210T131157Z
UID:32020-1764201600-1765843200@infostargard.pl
SUMMARY:Konsultacje społeczne w gm. Ińsko
DESCRIPTION:
URL:https://infostargard.pl/event/konsultacje-spoleczne-w-gm-insko/
END:VEVENT
BEGIN:VEVENT
DTSTART;TZID=Europe/Helsinki:20251129T083000
DTEND;TZID=Europe/Helsinki:20251129T173000
DTSTAMP:20260420T055620
CREATED:20250925T104043Z
LAST-MODIFIED:20251108T161208Z
UID:24110-1764405000-1764437400@infostargard.pl
SUMMARY:Warsztaty dla tatusiów - BLIŻEJ - Pełna Łączność
DESCRIPTION:W sobotę\, 29 listopada w Stargardzie odbędą się warsztaty „BLIŻEJ – Pełna Łączność”. Miejsce – Dom Kultury Kolejarza\, ul. Szczecińska 17. \nTo cały dzień inspiracji\, rozmów i praktycznych wskazówek\, jak budować silniejszą więź z dziećmi i rodziną. \nStart: 8:30/Zakończenie: 17:30 \nDowiesz się\, jak być bardziej obecnym tatą \nOtrzymasz konkretne narzędzia do codziennego życia rodzinnego \nSpotkasz innych ojców\, którzy – tak jak Ty – chcą odkrywać piękno ojcostwa \nZapisz się i poznaj szczegóły: warsztaty.tato.net \nKontakt lokalny: Dariusz Rutkowski\, tel. 784 662 106 \nNie czekaj – zrób krok bliżej i daj sobie szansę na prawdziwą pełną łączność z tymi\, którzy są dla Ciebie najważniejsi. \nInf. organizatora
URL:https://infostargard.pl/event/warsztaty-dla-tatusiow-blizej-pelna-lacznosc/
LOCATION:Dom Kultury Kolejarza w Stargardzie
END:VEVENT
BEGIN:VEVENT
DTSTART;TZID=Europe/Helsinki:20251129T100000
DTEND;TZID=Europe/Helsinki:20251129T130000
DTSTAMP:20260420T055620
CREATED:20251119T121157Z
LAST-MODIFIED:20251119T121254Z
UID:29860-1764410400-1764421200@infostargard.pl
SUMMARY:Warsztaty rękodzielnicze w CKiR w Kobylance
DESCRIPTION:
URL:https://infostargard.pl/event/warsztaty-rekodzielnicze-w-ckir-w-kobylance/
LOCATION:CKiR w Kobylance
END:VEVENT
BEGIN:VEVENT
DTSTART;TZID=Europe/Helsinki:20251129T100000
DTEND;TZID=Europe/Helsinki:20251129T180000
DTSTAMP:20260420T055620
CREATED:20251112T103448Z
LAST-MODIFIED:20251126T084640Z
UID:29041-1764410400-1764439200@infostargard.pl
SUMMARY:Męskie badania bez skierowania
DESCRIPTION:W sobotę\, 29 listopada od godz. 10 do 18\, w AquaStar przy ul. Szczecińskiej\, będzie prowadzona bezpłatna profilaktyka dla mężczyzn. „Męskie Zdrowie” odbędzie się w Stargardzie już czwarty raz.  \nUSG jąder mogą zrobić panowie między 18 a 45 rokiem życia. Testy PSA przygotowano z kolei dla mężczyzn powyżej 45 lat. \n– Rok temu w ramach akcji wykonano blisko 300 badań – informuje Urząd Miejski w Stargardzie. – Wyniki trzech były niepokojące.  \nLiczba badań jest ograniczona. Prowadzić je będą specjaliści ze stowarzyszeń Fizjoport i Edukacja-Zdrowie-Aktywność.
URL:https://infostargard.pl/event/meskie-badania-bez-skierowania/
LOCATION:AquaStar\, ul. Szczecińska 35
END:VEVENT
BEGIN:VEVENT
DTSTART;TZID=Europe/Helsinki:20251129T110000
DTEND;TZID=Europe/Helsinki:20251129T150000
DTSTAMP:20260420T055620
CREATED:20251027T120655Z
LAST-MODIFIED:20251030T104614Z
UID:27307-1764414000-1764428400@infostargard.pl
SUMMARY:Warsztaty Odkrywców w Filarach
DESCRIPTION:FILAROWE LABORATORIUM RODZINNE – wydarzenie rodzinne dla uczestników 10+. \nW ramach realizowanego projektu: „Śladami polskich naukowców”\, Zespół SCN FILARY przygotował cykl autorskich zajęć warsztatowych przybliżających sylwetki i dokonania piętnastu polskich naukowców. Zanim nowa propozycja warsztatowa trafi do oferty\, poznają ją uczestnicy twórczych zajęć sobotnich w FILARACH. \nFilarowe Laboratorium Rodzinne\, to cykl spotkań rodzinnych\, przygotowanych dla młodych odbiorców w różnym wieku i o różnych zainteresowaniach. Zajęcia warsztatowe prowadzą edukatorzy Stargardzkiego Centrum Nauki FILARY lub partnerzy centrum. Jest to doskonała okazja\, by w kreatywny\, wartościowy i niekonwencjonalny sposób spędzić czas z dzieckiem. \nWarsztaty rozpoczynają się o godzinie: 11:00\, 13:00\, 15:00. Bilety na wydarzenie można kupić na stronie internetowej FILARÓW lub w kasie SCN FILARY przy ul. B. Chrobrego 21. Bilet zakupiony na Filarowe Laboratorium Rodzinne\, upoważnia również do zwiedzania ekspozycji FILARÓW\, w dniu wydarzenia. \nInf. organizatora
URL:https://infostargard.pl/event/warsztaty-odkrywcow-w-filarach/
LOCATION:SCN Filary
END:VEVENT
BEGIN:VEVENT
DTSTART;TZID=Europe/Helsinki:20251129T160000
DTEND;TZID=Europe/Helsinki:20251129T160000
DTSTAMP:20260420T055620
CREATED:20250812T125621Z
LAST-MODIFIED:20251030T110311Z
UID:20086-1764432000-1764432000@infostargard.pl
SUMMARY:Czarodziejski Bal - Symfonia Magii
DESCRIPTION:Stargardzkie Centrum Kultury zaprasza na koncert w świetle tysiąca świec – Symfonia Magii\, inspirowany niezapomnianą ścieżką dźwiękową z filmowej sagi o młodym czarodzieju\, którego blizna w kształcie błyskawicy jest znana na całym świecie.  \nKoncert odbędzie się w sobotę\, 29 listopada o godz. 16\, na Dużej Scenie SCK. \nBilety od 110 do 130 zł. \nNa scenie wystąpi kwartet smyczkowy\, który wykona na żywo najpiękniejsze\, najbardziej rozpoznawalne tematy – od subtelnych melodii towarzyszących sowom\, listom i początkowi roku szkolnego\, po monumentalne utwory z wielkich finałów. \nInformacja SCK: \nNastrojowa przestrzeń wypełniona światłem świec stworzy wyjątkową aurę – niczym sala w magicznym zamku podczas święta duchów czy zimowego balu. \nTo koncert\, który bardziej się przeżywa niż słucha – emocjonalna podróż przez wspomnienia\, dźwięki i wyobraźnię. Czarodziejski klimat dopełni narrator – pełen charyzmy\, humoru i magii. Jego opowieści poprowadzą Was przez znane sceny i kulisy świata\, który od lat fascynuje pokolenia. Usłyszycie ciekawostki\, magiczne fakty\, a także subtelne nawiązania do bohaterów\, miejsc i symboli\, które każdy fan rozpozna bez trudu… \nZamknij oczy\, posłuchaj znajomej melodii i pozwól\, by muzyka przeniosła Cię do świata\, gdzie magia naprawdę istnieje. Gdzieś tam\, między peronem dziewięć i trzy czwarte a zakamarkami Zakazanego Lasu…
URL:https://infostargard.pl/event/czarodziejski-bal-symfonia-magii/
LOCATION:Duża Scena SCK
END:VEVENT
BEGIN:VEVENT
DTSTART;TZID=Europe/Helsinki:20251129T170000
DTEND;TZID=Europe/Helsinki:20251129T170000
DTSTAMP:20260420T055620
CREATED:20251119T102634Z
LAST-MODIFIED:20251119T102643Z
UID:29806-1764435600-1764435600@infostargard.pl
SUMMARY:Wieczór Andrzejkowy w Dolicach
DESCRIPTION:Koło Gospodyń Wiejskich wraz z Fundacją Biedronki zapraszają seniorów 60+ na zabawę andrzejkową\, która odbędzie się w sobotę\, 29 listopada o godz. 17 w Gminnym Centrum Kultury w Dolicach. \nW programie m.in. dużo dobrej zabawy\, wróżby i przepowiednie\, ciepła kolacja\, zimne przekąski oraz kawa\, ciasta i napoje. Wstęp jest wolny. \nZapisy pod numerem telefonu 724 476 685 do dnia 26.11.2025 r.
URL:https://infostargard.pl/event/wieczor-andrzejkowy-w-dolicach/
LOCATION:Gminne Centrum Kultury w Dolicach
END:VEVENT
BEGIN:VEVENT
DTSTART;TZID=Europe/Helsinki:20251129T180000
DTEND;TZID=Europe/Helsinki:20251129T180000
DTSTAMP:20260420T055620
CREATED:20251124T074258Z
LAST-MODIFIED:20251124T074258Z
UID:30176-1764439200-1764439200@infostargard.pl
SUMMARY:Spotkanie pod Gwiazdami w SCN Filary
DESCRIPTION:Jak wyglądał kosmos\, zanim „Ziemia ruszyła z miejsca”? Dlaczego przez stulecia uważano\, że to Słońce krąży wokół nas?\nJak wielkiej odwagi wymagało od Kopernika ogłoszenie\, że wszystko… jest odwrotnie? \nFilarowe Koło Astronomiczne zaprasza 29 listopada o godzinie 18 na wyjątkowe spotkanie popularnonaukowe\, poświęcone Mikołajowi Kopernikowi i ewolucji modeli Układu Słonecznego. Porozmawiamy o tym\, jak rozwijały się wyobrażenia o budowie wszechświata – od geocentrycznych sfer Ptolemeusza\, przez heliocentryzm\, aż po współczesny obraz naszego systemu planetarnego. \nPodczas spotkania: \n\nspojrzymy na Kopernika poza szkolnym schematem — jako na uczonego\, humanistę i odważnego myśliciela\,\nzrozumiemy\, dlaczego jego teoria była tak rewolucyjna i dlaczego budziła opór\,\nporównamy najważniejsze historyczne wizje Układu Słonecznego i ich wpływ na naukę.\n\nWydarzenie skierowane jest do młodzieży 15+ oraz dorosłych.\nNie trzeba znać astronomii — wystarczy ciekawość świata. \nWstęp wolny. \n \n 
URL:https://infostargard.pl/event/spotkanie-pod-gwiazdami-w-scn-filary/
LOCATION:SCN Filary
END:VEVENT
BEGIN:VEVENT
DTSTART;TZID=Europe/Helsinki:20251129T190000
DTEND;TZID=Europe/Helsinki:20251129T190000
DTSTAMP:20260420T055620
CREATED:20251030T112422Z
LAST-MODIFIED:20251030T112617Z
UID:27739-1764442800-1764442800@infostargard.pl
SUMMARY:Parostatkiem w piękny rejs - Największe polskie przeboje
DESCRIPTION:Stargardzkie Centrum Kultury zaprasza na koncert największych polskich przebojów\, który odbędzie się w sobotę\, 29 listopada o godz. 19\, na Dużej Scenie SCK. \nBilety od 130 do 150 zł dostępne online na stronie kina. \nTo wieczór\, który przypomni\, jak piękne są polskie przeboje i dostarczy niezapomnianych wrażeń\, które pozostaną sercach na długo. Na scenie wystąpią najlepsi wokaliści polskich scen\, którzy zaprezentują najbardziej znane i ukochane polskie przeboje w wyjątkowych interpretacjach. Ich talent\, charyzma i emocjonalne wykonania sprawią\, że każdy utwór zabrzmi z nową mocą\, dostarczając publiczności niezapomnianych doznań. \nTowarzyszyć im będzie Morningstar Orchestra – wybitna orkiestra\, która specjalizuje się w tworzeniu niesamowitych aranżacji\, łączących klasyczne brzmienia z elementami muzyki rozrywkowej. Zespół ten\, złożony z utalentowanych muzyków\, w tym wykładowców Akademii Muzycznej\, wnosi do każdego utworu niepowtarzalny charakter i głębię brzmienia\, która zachwyca słuchaczy. \nW programie koncertu znajdą się największe polskie przeboje\, które od lat są częścią naszej kultury muzycznej. Usłyszeć można będzie między innymi niezapomniane utwory z repertuaru ikon polskiej sceny muzycznej. Znane i lubiane melodie\, w nowych\, symfonicznych aranżacjach\, nabiorą wyjątkowego charakteru i dostarczą publiczności niezwykłych przeżyć. Wyjątkowe symfoniczne aranżacje – Morningstar Orchestra wnosi nową jakość do znanych przebojów\, tworząc niepowtarzalne interpretacje. Niezapomniane emocje – to wieczór\, który na długo pozostanie w Państwa pamięci. Niech ta muzyczna podróż stanie się dla Państwa niezapomnianym doświadczeniem! Serdecznie zapraszamy na koncert\, który będzie prawdziwą ucztą dla duszy i serca. Zapraszamy do wspólnej muzycznej zabawy. \nInf. organizatora
URL:https://infostargard.pl/event/parostatkiem-w-piekny-rejs-najwieksze-polskie-przeboje/
LOCATION:Duża Scena SCK
END:VEVENT
BEGIN:VEVENT
DTSTART;TZID=Europe/Helsinki:20251129T190000
DTEND;TZID=Europe/Helsinki:20251129T190000
DTSTAMP:20260420T055620
CREATED:20251126T100903Z
LAST-MODIFIED:20251126T101519Z
UID:30469-1764442800-1764442800@infostargard.pl
SUMMARY:Poezja Piwniczna
DESCRIPTION:Wieczór pełen emocji z ulubionymi muzykami Piwnicy pod Galerią! \nPonownie wkraczają na scenę\, aby tym razem zaśpiewać dla Was najpiękniejsze piosenki z dawnych lat. Temat jesiennych rozmyślań zainspirował naszych artystów do wybrania pieśni znanych autorów i wykonawców\, które wspaniale wpisują się w pełnię miłościwie panującej nam pory roku rozświetlając ją dźwiękami kazoo i anielskim głosem Pauliny Król. \nW zupełnie nowej odsłonie zagra i zaśpiewa dla Was Andrzej Kokos Kosko do spółki z niezastąpionym szefem wszystkich szefów Arturem Słowikiem\, a nad mocnymi iście męskimi dźwiękami zapanują Krzysztof Ryziński i Paweł Bieg nadając całości stanowczego rysu. Rezerwacje oraz wszelkie dodatkowe informacje w barze Piwnicy pod Galerią. W repertuarze nie zabraknie: „Niebo do wynajęcia”\, „Jak”\, „Alleluja” i wiele\, wiele więcej! \nInf. organizatora.
URL:https://infostargard.pl/event/poezja-piwniczna/
LOCATION:Piwnica Pod Galerią
END:VEVENT
END:VCALENDAR