BEGIN:VCALENDAR
VERSION:2.0
PRODID:-//Info Stargard - ECPv6.15.20//NONSGML v1.0//EN
CALSCALE:GREGORIAN
METHOD:PUBLISH
X-ORIGINAL-URL:https://infostargard.pl
X-WR-CALDESC:Wydarzenia dla Info Stargard
REFRESH-INTERVAL;VALUE=DURATION:PT1H
X-Robots-Tag:noindex
X-PUBLISHED-TTL:PT1H
BEGIN:VTIMEZONE
TZID:Europe/Helsinki
BEGIN:DAYLIGHT
TZOFFSETFROM:+0200
TZOFFSETTO:+0300
TZNAME:EEST
DTSTART:20240331T010000
END:DAYLIGHT
BEGIN:STANDARD
TZOFFSETFROM:+0300
TZOFFSETTO:+0200
TZNAME:EET
DTSTART:20241027T010000
END:STANDARD
BEGIN:DAYLIGHT
TZOFFSETFROM:+0200
TZOFFSETTO:+0300
TZNAME:EEST
DTSTART:20250330T010000
END:DAYLIGHT
BEGIN:STANDARD
TZOFFSETFROM:+0300
TZOFFSETTO:+0200
TZNAME:EET
DTSTART:20251026T010000
END:STANDARD
BEGIN:DAYLIGHT
TZOFFSETFROM:+0200
TZOFFSETTO:+0300
TZNAME:EEST
DTSTART:20260329T010000
END:DAYLIGHT
BEGIN:STANDARD
TZOFFSETFROM:+0300
TZOFFSETTO:+0200
TZNAME:EET
DTSTART:20261025T010000
END:STANDARD
END:VTIMEZONE
BEGIN:VEVENT
DTSTART;TZID=Europe/Helsinki:20251110T000000
DTEND;TZID=Europe/Helsinki:20251215T000000
DTSTAMP:20260420T025304
CREATED:20251203T100945Z
LAST-MODIFIED:20260225T072016Z
UID:31297-1762732800-1765756800@infostargard.pl
SUMMARY:Zbiórka świąteczna "Pomagamy Sercem"
DESCRIPTION:
URL:https://infostargard.pl/event/zbiorka-swiateczna-pomagamy-sercem/
END:VEVENT
BEGIN:VEVENT
DTSTART;TZID=Europe/Helsinki:20251127T000000
DTEND;TZID=Europe/Helsinki:20251216T000000
DTSTAMP:20260420T025304
CREATED:20251210T131157Z
LAST-MODIFIED:20251210T131157Z
UID:32020-1764201600-1765843200@infostargard.pl
SUMMARY:Konsultacje społeczne w gm. Ińsko
DESCRIPTION:
URL:https://infostargard.pl/event/konsultacje-spoleczne-w-gm-insko/
END:VEVENT
BEGIN:VEVENT
DTSTART;TZID=Europe/Helsinki:20251127T100000
DTEND;TZID=Europe/Helsinki:20251127T140000
DTSTAMP:20260420T025304
CREATED:20251126T092240Z
LAST-MODIFIED:20251126T092240Z
UID:30457-1764237600-1764252000@infostargard.pl
SUMMARY:Bezpłatne badania w Stowarzyszeniu EZA
DESCRIPTION:Stowarzyszenie Edukacja-Zdrowie-Aktywność zaprasza mieszkańców Stargardu na bezpłatny pomiar hemoglobiny glikowanej (HbA1c) w ramach ogólnopolskiego programu „Serce na nowo – Słodka Kontrola”.  \nBadania odbędą się w czwartek\, 27 listopada w godz. 10-14\, w siedzibie Stowarzyszenia EZA\, przy ul. Wojska Polskiego 4U/3. \n– To badanie\, które pozwala ocenić poziom cukru we krwi z ostatnich miesięcy i wcześnie wykryć ryzyko cukrzycy – informują organizatorzy.-  Dbajmy o zdrowie\, ponieważ profilaktyka to najlepszy prezent dla siebie i bliskich. Zapraszamy! \nIlość miejsc jest ograniczona. Badanie jest całkowicie bezpłatne.
URL:https://infostargard.pl/event/bezplatne-badania-w-stowarzyszeniu-eza/
LOCATION:Siedziba Stowarzyszenia EZA\, ul. Wojska Polskiego 4U/3
END:VEVENT
BEGIN:VEVENT
DTSTART;TZID=Europe/Helsinki:20251127T163000
DTEND;TZID=Europe/Helsinki:20251127T163000
DTSTAMP:20260420T025304
CREATED:20251108T125219Z
LAST-MODIFIED:20251119T094633Z
UID:28628-1764261000-1764261000@infostargard.pl
SUMMARY:Spotkanie i badania dla panów
DESCRIPTION:Powiatowa Stacja Sanitarno – Epidemiologiczna w Stargardzie zaprasza wszystkich panów na spotkanie poświęcone świadomości zdrowia mężczyzn\, profilaktyki oraz wczesnemu wykrywaniu raka jąder i raka prostaty.  \nSpotkanie odbędzie się w czwartek\, 27 listopada o godz. 16:30\, w Domu Kultury Kolejarza przy ul. Szczecińskiej 17. \nBezpłatne badania dla chętnych.
URL:https://infostargard.pl/event/spotkanie-i-badania-dla-panow/
LOCATION:Dom Kultury Kolejarza
END:VEVENT
BEGIN:VEVENT
DTSTART;TZID=Europe/Helsinki:20251127T170000
DTEND;TZID=Europe/Helsinki:20251127T170000
DTSTAMP:20260420T025304
CREATED:20251119T113721Z
LAST-MODIFIED:20251129T113625Z
UID:29834-1764262800-1764262800@infostargard.pl
SUMMARY:Wernisaż wystawy "Gabinet osobliwości. 65 lecie Muzeum Archeologiczno - Historycznego w Stargardzie"
DESCRIPTION:Muzeum Archeologiczno – Historyczne zaprasza do wspólnego świętowania swoich 65 urodzin.  \nW czwartek\, 27 listopada stargardzkie muzeum otworzy dwupoziomową wystawę pt. „Gabinet osobliwości. 65 lecie Muzeum Archeologiczno – Historycznego w Stargardzie”. \nWernisaż zaplanowano na godz. 17. Wstęp jest wolny.
URL:https://infostargard.pl/event/wernisaz-wystawy-gabinet-osobliwosci-65-lecie-muzeum-archeologiczno-historycznego-w-stargardzie/
LOCATION:Muzeum Archeologiczno-Historyczne\, Rynek Staromiejski 3\, Stargard\, 73-110\, Poland
END:VEVENT
BEGIN:VEVENT
DTSTART;TZID=Europe/Helsinki:20251127T180000
DTEND;TZID=Europe/Helsinki:20251127T180000
DTSTAMP:20260420T025304
CREATED:20251126T115925Z
LAST-MODIFIED:20251126T115934Z
UID:30521-1764266400-1764266400@infostargard.pl
SUMMARY:Wystawa malarstwa uczestników warsztatów plastycznych
DESCRIPTION:Stargardzkie Stowarzyszenie Miłośników Sztuk Plastycznych „BRAMA” zaprasza na wystawę malarstwa uczestników warsztatów plastycznych pt. „Kolory”.  \nWernisaż wystawy odbędzie się w czwartek\, 27 listopada o godz. 18\, w Bramie Wałowej. przy ul. Bolesława Chrobrego 24. Obrazy będą prezentowane do środy\, 31 grudnia 2025r. \nUczestnicy warsztatów: \n\nOliwia Traczykowska\nNadia Wójcik\nJulia Olszowy\nJulia Jotejko\nJulia Dobersztyn\nMartyna Tyczkowska\nLena Ignaszak\nJoanna Mierzwa\nPaulina Rutkowska\n\nOprawa muzyczna: Lena Pędzik oraz Bartosz Traczyk.
URL:https://infostargard.pl/event/wystawa-malarstwa-uczestnikow-warsztatow-plastycznych/
LOCATION:Brama Wałowa w Stargardzie\, ul. Chrobrego 24
END:VEVENT
BEGIN:VEVENT
DTSTART;TZID=Europe/Helsinki:20251127T190000
DTEND;TZID=Europe/Helsinki:20251127T190000
DTSTAMP:20260420T025304
CREATED:20251013T142632Z
LAST-MODIFIED:20251030T105540Z
UID:25973-1764270000-1764270000@infostargard.pl
SUMMARY:Koncert Waldemara Malickiego i Małgorzaty Krzyżanowicz
DESCRIPTION:Stargardzkie Centrum Kultury zaprasza na kolejną odsłonę Czwartkowych Wieczorów Muzycznych. Tym razem wystąpią: światowej sławy pianista – Waldemar Malicki oraz utalentowana wiolonczelistka – Małgorzata Krzyżanowicz. \nKoncert odbędzie się w czwartek\, 27 listopada o godz. 19\, na Dużej Scenie SCK. \nBilety od 80 do 100 zł. \n– Zapraszamy na wieczór pełen wirtuozerii\, pasji i muzycznego dowcipu\, w wykonaniu znakomitych artystów! – zachęcają organizatorzy. \nWaldemar Malicki to artysta o niezwykłej osobowości scenicznej – pianista\, solista\, kameralista i improwizator. Laureat trzech Fryderyków\, Telekamery oraz Wiktora\, ukończył z wyróżnieniem Akademię Muzyczną w Gdańsku\, a następnie doskonalił swoje umiejętności w Wiedniu. Koncertuje na scenach w Europie\, Ameryce Północnej i Południowej oraz w Japonii. Szerokiej publiczności znany jest jako współtwórca popularnego projektu „Filharmonia Dowcipu”\, w którym wirtuozeria muzyczna spotyka się z humorem i sceniczną swobodą. \nDo tego wyjątkowego wieczoru dołączy również Małgorzata Krzyżanowicz – wiolonczelistka\, a jak sama o sobie mówi\, wiolonczelistka „wielofunkcyjna”. Absolwentka Uniwersytetu Muzycznego im. Fryderyka Chopina w Warszawie\, ceniona artystka występuje zarówno dla publiczności dorosłej\, jak i dziecięcej. Lubi grać z zamkniętymi oczami\, co pozwala jej jeszcze głębiej zanurzyć się w muzyce – przelotne spojrzenia i uśmiechy kieruje jedynie w stronę towarzyszących jej artystów. Od lat współpracuje z Waldemarem Malickim\, tworząc niezwykle popularny duet sceniczny\, który łączy muzykę klasyczną z humorem i teatralną ekspresją.
URL:https://infostargard.pl/event/koncert-waldemara-malickiego-i-malgorzaty-krzyzanowicz/
LOCATION:Duża Scena SCK
END:VEVENT
END:VCALENDAR