BEGIN:VCALENDAR
VERSION:2.0
PRODID:-//Info Stargard - ECPv6.15.20//NONSGML v1.0//EN
CALSCALE:GREGORIAN
METHOD:PUBLISH
X-WR-CALNAME:Info Stargard
X-ORIGINAL-URL:https://infostargard.pl
X-WR-CALDESC:Wydarzenia dla Info Stargard
REFRESH-INTERVAL;VALUE=DURATION:PT1H
X-Robots-Tag:noindex
X-PUBLISHED-TTL:PT1H
BEGIN:VTIMEZONE
TZID:Europe/Helsinki
BEGIN:DAYLIGHT
TZOFFSETFROM:+0200
TZOFFSETTO:+0300
TZNAME:EEST
DTSTART:20240331T010000
END:DAYLIGHT
BEGIN:STANDARD
TZOFFSETFROM:+0300
TZOFFSETTO:+0200
TZNAME:EET
DTSTART:20241027T010000
END:STANDARD
BEGIN:DAYLIGHT
TZOFFSETFROM:+0200
TZOFFSETTO:+0300
TZNAME:EEST
DTSTART:20250330T010000
END:DAYLIGHT
BEGIN:STANDARD
TZOFFSETFROM:+0300
TZOFFSETTO:+0200
TZNAME:EET
DTSTART:20251026T010000
END:STANDARD
BEGIN:DAYLIGHT
TZOFFSETFROM:+0200
TZOFFSETTO:+0300
TZNAME:EEST
DTSTART:20260329T010000
END:DAYLIGHT
BEGIN:STANDARD
TZOFFSETFROM:+0300
TZOFFSETTO:+0200
TZNAME:EET
DTSTART:20261025T010000
END:STANDARD
END:VTIMEZONE
BEGIN:VEVENT
DTSTART;TZID=Europe/Helsinki:20251110T000000
DTEND;TZID=Europe/Helsinki:20251215T000000
DTSTAMP:20260420T030120
CREATED:20251203T100945Z
LAST-MODIFIED:20260225T072016Z
UID:31297-1762732800-1765756800@infostargard.pl
SUMMARY:Zbiórka świąteczna "Pomagamy Sercem"
DESCRIPTION:
URL:https://infostargard.pl/event/zbiorka-swiateczna-pomagamy-sercem/
END:VEVENT
BEGIN:VEVENT
DTSTART;TZID=Europe/Helsinki:20251114T160000
DTEND;TZID=Europe/Helsinki:20251114T160000
DTSTAMP:20260420T030120
CREATED:20251104T091759Z
LAST-MODIFIED:20251104T091807Z
UID:28135-1763136000-1763136000@infostargard.pl
SUMMARY:Ińska Gala Seniorów
DESCRIPTION:Burmistrz Ińska wraz z kierownikiem ośrodka pomocy społecznej w Ińsku zapraszają na Ińską Galę Seniorów.  \nWydarzenie odbędzie się w piątek\, 14 listopada o godz. 16\, w sali widowiskowej Ińskiego Centrum Kultury. \nW programie m.in. recital poetycko-aktorski Piotra Pilarskiego „Animus serce moje”\, złote gody par małżeńskich a także projekcja filmu z udziałem ińskich seniorów. \n– Zapewniamy dobrą atmosferę\, poczęstunek i wspólną zabawę – zachęcają organizatorzy.
URL:https://infostargard.pl/event/inska-gala-seniorow/
LOCATION:Sala widowiskowa Ińskiego Centrum Kultury
END:VEVENT
BEGIN:VEVENT
DTSTART;TZID=Europe/Helsinki:20251114T170000
DTEND;TZID=Europe/Helsinki:20251116T174500
DTSTAMP:20260420T030120
CREATED:20251103T094632Z
LAST-MODIFIED:20251103T094954Z
UID:28060-1763139600-1763315100@infostargard.pl
SUMMARY:Festiwal Literacki „Wielogłos” w Książnicy Stargardzkiej
DESCRIPTION:Festiwal Literacki „Wielogłos” organizuje 14 – 16 listopada Książnica Stargardzka. \n–To będą trzy dni spotkań z literaturą\, tożsamością i dialogiem – zaprasza do udziału we wszystkich wydarzeniach Książnica Stargardzka. \nPierwsza edycja Festiwalu Literackiego „Wielogłos” odbędzie się w Stargardzie. Wydarzenie potrwa trzy dni. Festiwal zaplanowany jest na 14-16 listopada. \n– Chcemy\, by ten festiwal był spotkaniem wielu głosów; twórców i czytelników\, przestrzenią dialogu\, wzajemnej inspiracji i wspólnego odkrywania literatury – mówi Jolanta Aniszewska\, dyrektor Książnicy Stargardzkiej. – Będziemy wywoływać tematy ważne\, gatunki i wątki literackie\, które przyciągają czytelników. W tegorocznej edycji znajdą się spotkania autorskie\, panel dyskusyjny\,  wydarzenia artystyczne\, które sprzyjają dialogowi międzypokoleniowemu\, wymianie myśli i budowaniu wrażliwości literackiej.  W tej edycji temat przewodni zostanie poświęcony literackim głosom kobiet. Nie zabraknie wydarzeń adresowanych do dzieci i młodzieży. \nProgram festiwalu podzielono na trzy tematyczne dni. Program każdego z nich jest bardzo bogaty. „Wielogłos” ma być w Stargardzie prawdziwym świętem czytelników książnicy i miłośników literatury. O szczegółach mówiono podczas konferencji prasowej 2 października. \nJednym z gości festiwalu będzie znany z telewizyjnych programów Mariusz Szczygieł\, laureat nagrody Nike. Będą też inni pisarze i twórcy. Festiwal zwieńczy spotkanie z pochodzącym ze Stargardu raperem Kubańczykiem i jego mamą Małgorzatą Flas. \nWięcej szczegółów w nagraniu z czwartkowej konferencji: \n\n\n\n\n\n\n\n\n\n\n\n\n\n\n\n\n\nKsiążnica Stargardzka:  \n 14–16 listopada 2025 r. Stargard stanie się przestrzenią intensywnej rozmowy o literaturze i współczesności. Festiwal Literacki „Wielogłos” to wydarzenie\, które koncentruje się na różnorodności głosów\, tematów i perspektyw\, a jego tegoroczna edycja poświęcona została literackim głosom kobiet – zarówno tym związanym z regionem\, jak i obecnym w szerszym\, ogólnopolskim kontekście. \nProgram festiwalu został podzielony na trzy tematyczne dni: \n-piątek to dzień otwarcia i rozmów inicjujących refleksję nad tożsamością\, językiem i formami ekspresji w kulturze. \n-sobota upłynie pod znakiem obecności (i nieobecności) kobiet w literaturze\, a także dialogu o historii\, pamięci i języku. \n– niedziela skupi się na głosach lokalnych\, codzienności oraz wyzwaniach związanych z mówieniem i milczeniem we współczesnym świecie. Tego dnia szczególne miejsce zajmą również wydarzenia dedykowane dzieciom i młodzieży – spektakle teatralne\, spotkania oraz rozmowy o ważnych dla młodych ludzi tematach. \nW ramach festiwalu zaplanowano spotkania autorskie\, panele dyskusyjne\, wydarzenia artystyczne\, a także „Aleję autorek i autorów” – strefę prezentacji lokalnych twórczyń i twórców. \n„Wielogłos” to nie tylko literatura\, ale także przestrzeń do rozmowy o współczesnym człowieku i jego miejscu w świecie – poprzez słowo\, doświadczenie i wymianę myśli.
URL:https://infostargard.pl/event/festiwal-literacki-wieloglos-w-ksiaznicy-stargardzkiej/
LOCATION:Książnica Stargardzka
END:VEVENT
BEGIN:VEVENT
DTSTART;TZID=Europe/Helsinki:20251114T180000
DTEND;TZID=Europe/Helsinki:20251114T180000
DTSTAMP:20260420T030120
CREATED:20251104T110426Z
LAST-MODIFIED:20251104T110436Z
UID:28179-1763143200-1763143200@infostargard.pl
SUMMARY:Warsztaty w Kobylance - Wianki świąteczne
DESCRIPTION:Centrum Kultury i Rekreacji w Kobylance zaprasza mieszkańców gminy do zapisów na warsztaty bożonarodzeniowe.  \nIlość miejsc jest bardzo ograniczona\, decyduje kolejność zgłoszeń. Zapisy wyłącznie telefoniczne: 91 561 03 56. \nWarsztaty odbędą się w piątek\, 14 listopada o godz. 18\, w Centrum Kultury i Rekreacji w Kobylance.
URL:https://infostargard.pl/event/warsztaty-w-kobylance-wianki-swiateczne/
LOCATION:Centrum Kultury i Rekreacji w Kobylance
END:VEVENT
END:VCALENDAR