BEGIN:VCALENDAR
VERSION:2.0
PRODID:-//Info Stargard - ECPv6.15.20//NONSGML v1.0//EN
CALSCALE:GREGORIAN
METHOD:PUBLISH
X-WR-CALNAME:Info Stargard
X-ORIGINAL-URL:https://infostargard.pl
X-WR-CALDESC:Wydarzenia dla Info Stargard
REFRESH-INTERVAL;VALUE=DURATION:PT1H
X-Robots-Tag:noindex
X-PUBLISHED-TTL:PT1H
BEGIN:VTIMEZONE
TZID:Europe/Helsinki
BEGIN:DAYLIGHT
TZOFFSETFROM:+0200
TZOFFSETTO:+0300
TZNAME:EEST
DTSTART:20240331T010000
END:DAYLIGHT
BEGIN:STANDARD
TZOFFSETFROM:+0300
TZOFFSETTO:+0200
TZNAME:EET
DTSTART:20241027T010000
END:STANDARD
BEGIN:DAYLIGHT
TZOFFSETFROM:+0200
TZOFFSETTO:+0300
TZNAME:EEST
DTSTART:20250330T010000
END:DAYLIGHT
BEGIN:STANDARD
TZOFFSETFROM:+0300
TZOFFSETTO:+0200
TZNAME:EET
DTSTART:20251026T010000
END:STANDARD
BEGIN:DAYLIGHT
TZOFFSETFROM:+0200
TZOFFSETTO:+0300
TZNAME:EEST
DTSTART:20260329T010000
END:DAYLIGHT
BEGIN:STANDARD
TZOFFSETFROM:+0300
TZOFFSETTO:+0200
TZNAME:EET
DTSTART:20261025T010000
END:STANDARD
END:VTIMEZONE
BEGIN:VEVENT
DTSTART;TZID=Europe/Helsinki:20251108T180000
DTEND;TZID=Europe/Helsinki:20251109T150000
DTSTAMP:20260420T025301
CREATED:20251021T102805Z
LAST-MODIFIED:20251022T074126Z
UID:26777-1762624800-1762700400@infostargard.pl
SUMMARY:Iza Klementowska & Ilona Wiśniewska - spotkania autorskie z reportażystkami w O.Medze
DESCRIPTION:Księgarnia w O. Medze zaprasza na dwa spotkania autorskie z reportażystkami\, które odbędą się 8 i 9 listopada.  \nIza Klementowska – 8 listopada (sobota)\, godz. 18:00. \nIlona Wiśniewska – 9 listopada (niedziela)\, godz. 14:00. \nSpotkanie odbywa się w ramach projektu „Księgarnia w O. Medze finansowanego ze środków Ministerstwa Kultury i Dziedzictwa Narodowego. \nGłównym punktem spotkań będą najnowsze książki autorek – „Nomadzi” – Izy Klementowskiej oraz „Hiem. Na północnych wyspach” Ilony Wiśniewskiej. \nWstęp jest wolny. \nIza Klementowska – reporterka i dziennikarka. Autorka książek „Samotność Portugalczyka”\, „Szkielet białego słonia”\, „Minuty. Reportaże o starości\, Skóra”\, „Witamy uchodźców”\, „Cztery strony drzewa”\, „Nomadzi” oraz „Zapach trawy. Opowieści o dzieciach hipisów”. Nominowana do Nagrody „Newsweeka” im. Teresy Torańskiej\, Nagrody Travelery\, Nagrody im. Beaty Pawlak i – dwukrotnie – Nagrody Radia Wrocław Kultura „Emocje”. Publikowała m.in. w „Dużym Formacie”\, „Wysokich Obcasach Extra”\, „Newsweeku”\, „Kontynentach”\, „Machinie”\, „Sukcesie”\, „Bluszczu” i „Nowym Dzienniku” (Nowy Jork). \nIlona Wiśniewska – reporterka i fotografka. Na co dzień mieszka w północnej Norwegii. Współpracuje między innymi z redakcją „Dwutygodnika”\, „Polityki” oraz „Dużego Formatu”. Ilona Wiśniewska ma na swoim koncie takie tytuły\, jak choćby „Białe. Zimna wyspa Spitsbergen”\, „Hen. Na północy Norwegii”\, „Lud. Z grenlandzkiej wyspy” oraz „Migot. Z krańca Grenlandii”. Jest również autorką opowieści dla dzieci pt. „Przyjaciel Północy”. Była nominowana między innymi do Nagrody „Newsweeka” im. Teresy Torańskiej i tytułu Kobiety Roku 2015 w plebiscycie portalu wp.pl oraz Nagrody im. Beaty Pawlak. Za swoją książkę „Hen” otrzymała nagrodę w konkursie Travelery\, a za „Lud” Kryształową Kartę Polskiego Reportażu – Nagrodę Prezydenta Lublina oraz nominację do MediaTorów kategorii ObserwaTOR. Iwona Wiśniewska zdobyła również Złotą Sowę – nagrodę Klubu Inteligencji Polskiej w Wiedniu\, która trafia w ręce twórców propagujących polską kulturę za granicą.
URL:https://infostargard.pl/event/iza-klementowska-ilona-wisniewska-spotkania-autorskie-z-reportazystkami-w-o-medze/
LOCATION:Galeria O.Mega
END:VEVENT
BEGIN:VEVENT
DTSTART;TZID=Europe/Helsinki:20251109T123000
DTEND;TZID=Europe/Helsinki:20251109T123000
DTSTAMP:20260420T025301
CREATED:20251104T162624Z
LAST-MODIFIED:20251108T064804Z
UID:28256-1762691400-1762691400@infostargard.pl
SUMMARY:80-lecie chóru im. św. Cecylii
DESCRIPTION:W niedzielę\, 9 listopada\, podczas mszy św. o godz. 12.30 Chór im. św. Cecylii\, założony przy parafii w 1945 roku\, będzie obchodził jubileusz 80-lecia istnienia.  \nPo mszy odbędzie się jubileuszowy koncert będący finał Warsztatów Pieśni Liturgicznej\, które od piątku prowadzi dyrygent i wokalista Marcin Wasilewski-Kruk. Odbywają się one w parafii pw. Chrystusa Króla Wszechświata na oś. Chopina. \nZe względu na jubileusz chóru św. Cecylii i koncert\, wyjątkowo nie będzie w niedzielę mszy o godz. 14. \nChór imienia św. Cecylii powstał w 1945 r. Został powołany przez księży Chrystusowców. \n-Przez ponad 60 lat działał przy kościele św. Jana\, obecnie pracujemy na osiedlu Chopina przy kościele Chrystusa Króla Wszechświata – czytamy na profilu fejsbukowym chóru.
URL:https://infostargard.pl/event/80-lecie-choru-im-sw-cecylii/
LOCATION:kościół św. Jana w Stargardzie
END:VEVENT
BEGIN:VEVENT
DTSTART;TZID=Europe/Helsinki:20251109T150000
DTEND;TZID=Europe/Helsinki:20251109T150000
DTSTAMP:20260420T025301
CREATED:20251008T111106Z
LAST-MODIFIED:20251008T111215Z
UID:25609-1762700400-1762700400@infostargard.pl
SUMMARY:Spektakl: Nadzieja – rodzinna komedia Anny Muchy
DESCRIPTION:Stargardzkie Centrum Kultury zaprasza na spektakl pt. „Nadzieja – rodzinna komedia Anny Muchy”. \nPrzedstawienie odbędzie się w niedzielę\, 9 listopada w godz. 15:00 i 18:00\, na Dużej Scenie SCK. \nBilety w cenie: \n\nparter rz. 1-8 w cenie 165 zł\nparter rz. 9-13 w cenie 125 zł\nbalkon rz. 1-6 w cenie 105 zł\nbalkon rz. 7-11 w cenie 85 zł.\n\nInformacja SCK: \nCzy można w jeden wieczór przygotować kolację\, wyjść za mąż\, pogodzić się z rodzicami i ukryć fakt\, że właśnie zaczęło się rodzić? „Nadzieja” to dowcipne i wzruszające spojrzenie na rodzinne relacje\, które rozgrzeje serce każdego widza. \nDuet Anna Mucha i Jakub Wons zapraszają na niezwykłą komedię o trzypokoleniowej rodzinie\, która próbuje się pogodzić. Spotkanie odbywa się w mroźną zimową noc\, w starym domu na farmie. Choć wszyscy mają dobre chęci\, to sytuacja bardzo szybko zamienia się w potok rodzinnych sprzeczek i zabawnych nieporozumień. \n„Nadzieja” to lekka komedia z mądrym przesłaniem\, która przypomina\, że czasami serce wybiera najdłuższą\, ale jedyną właściwą drogę do domu – miejsca miłości i rodzinnego zrozumienia.\nPrzygotuj się na wieczór pełen śmiechu\, emocji i rodzinnych niespodzianek! \nObsada: \nPaulina Holtz\nPaweł Deląg\nGrzegorz Wons\nEmma Giegżno\nPiotr Janusz\nHanna Turnau \nProducent: Anna Mucha\nReżyseria: Jakub Wons\nAutor: David S. Craig\nTłumaczenie: Elżbieta Woźniak\nKostiumy: Magdalena Sekrecka\nScenografia: Marek Idzikowski
URL:https://infostargard.pl/event/spektakl-nadzieja-rodzinna-komedia-anny-muchy/
LOCATION:Duża Scena SCK
END:VEVENT
BEGIN:VEVENT
DTSTART;TZID=Europe/Helsinki:20251109T160000
DTEND;TZID=Europe/Helsinki:20251109T170000
DTSTAMP:20260420T025301
CREATED:20251105T124116Z
LAST-MODIFIED:20251105T124116Z
UID:28352-1762704000-1762707600@infostargard.pl
SUMMARY:Niepodległościowe Śpiewanki
DESCRIPTION:
URL:https://infostargard.pl/event/niepodleglosciowe-spiewanki/
LOCATION:kościół Chrystusa Króla
END:VEVENT
BEGIN:VEVENT
DTSTART;TZID=Europe/Helsinki:20251109T180000
DTEND;TZID=Europe/Helsinki:20251109T180000
DTSTAMP:20260420T025301
CREATED:20251030T092254Z
LAST-MODIFIED:20251030T092423Z
UID:27655-1762711200-1762711200@infostargard.pl
SUMMARY:Koncert z okazji Narodowego Święta Niepodległości - Kobylanka dla Niepodległej
DESCRIPTION:W niedzielę\, 9 listopada\, w Kościele św. Antoniego z Padwy w Kobylance odbędzie się koncert z okazji Narodowego Święta Niepodległości.  \nPrzedstawienie rozpocznie się o godz. 18. Spotkają się tam trzy kobiety reprezentujące trzy pokolenia. Łączy je doświadczenie miłości i utraty ukochanego. Choć każda z nich reprezentuje inne pokolenie\, wspólne są im uczucia takie jak tęsknota\, nadzieja i siła przetrwania. \nWiększość pieśni przygotowanych na spektakl – koncert\, została zaaranżowana na trzy głosy. Trzy artystki: Dorota Wasilewska\, Julita Kożuszek\, i Dorota Witkowska nie tylko śpiewają\, ale grają na różnych instrumentach; fortepianie\, skrzypcach\, ukulele i instrumentach perkusyjnych. \n„Jeszcze Polska nie zginęła – kobiecym głosem o niepodległości” to spektakl\, który nie tylko wzrusza\, ale też przypomina\, że wolność ma wiele głosów\, a jednym z najpiękniejszych – jest głos kobiety. \nWstęp na to wydarzenie jest wolny.
URL:https://infostargard.pl/event/koncert-z-okazji-narodowego-swieta-niepodleglosci-kobylanka-dla-niepodleglej/
LOCATION:Kościół św. Antoniego z Padwy w Kobylance
END:VEVENT
END:VCALENDAR