BEGIN:VCALENDAR
VERSION:2.0
PRODID:-//Info Stargard - ECPv6.15.20//NONSGML v1.0//EN
CALSCALE:GREGORIAN
METHOD:PUBLISH
X-ORIGINAL-URL:https://infostargard.pl
X-WR-CALDESC:Wydarzenia dla Info Stargard
REFRESH-INTERVAL;VALUE=DURATION:PT1H
X-Robots-Tag:noindex
X-PUBLISHED-TTL:PT1H
BEGIN:VTIMEZONE
TZID:Europe/Helsinki
BEGIN:DAYLIGHT
TZOFFSETFROM:+0200
TZOFFSETTO:+0300
TZNAME:EEST
DTSTART:20240331T010000
END:DAYLIGHT
BEGIN:STANDARD
TZOFFSETFROM:+0300
TZOFFSETTO:+0200
TZNAME:EET
DTSTART:20241027T010000
END:STANDARD
BEGIN:DAYLIGHT
TZOFFSETFROM:+0200
TZOFFSETTO:+0300
TZNAME:EEST
DTSTART:20250330T010000
END:DAYLIGHT
BEGIN:STANDARD
TZOFFSETFROM:+0300
TZOFFSETTO:+0200
TZNAME:EET
DTSTART:20251026T010000
END:STANDARD
BEGIN:DAYLIGHT
TZOFFSETFROM:+0200
TZOFFSETTO:+0300
TZNAME:EEST
DTSTART:20260329T010000
END:DAYLIGHT
BEGIN:STANDARD
TZOFFSETFROM:+0300
TZOFFSETTO:+0200
TZNAME:EET
DTSTART:20261025T010000
END:STANDARD
END:VTIMEZONE
BEGIN:VEVENT
DTSTART;TZID=Europe/Helsinki:20251106T170000
DTEND;TZID=Europe/Helsinki:20251106T170000
DTSTAMP:20260420T030237
CREATED:20251028T172705Z
LAST-MODIFIED:20251030T101935Z
UID:27504-1762448400-1762448400@infostargard.pl
SUMMARY:Czarny ogród Wenus - wernisaż wystawy Anny Wardal
DESCRIPTION:Książnica Stargardzka zaprasza na wernisaż wystawy Anny Wardal pt. „Czarny Ogród Wenus”.  \nSpotkanie odbędzie się w czwartek\, 6 listopada o godz. 17. \nTo wystawa opowiadająca o sile i delikatności\, o kobietach i kwiatach\, o pięknie i emocjach uchwyconych w czarno-białych fotografiach. To opowieść o mocy ukrytej w kruchości\, o życiu\, które potrafi rozkwitać mimo przeciwności. Historia snuta między światłem a cieniem – dwa światy splecione w jedno.
URL:https://infostargard.pl/event/czarny-ogrod-wenus-wernisaz-wystawy-anny-wardal/
LOCATION:Książnica Stargardzka
END:VEVENT
BEGIN:VEVENT
DTSTART;TZID=Europe/Helsinki:20251106T170000
DTEND;TZID=Europe/Helsinki:20251106T170000
DTSTAMP:20260420T030237
CREATED:20251104T082011Z
LAST-MODIFIED:20251104T082018Z
UID:28121-1762448400-1762448400@infostargard.pl
SUMMARY:Spotkanie w przyrynkowej kamienicy
DESCRIPTION:6 listopada\, o godz. 17 w siedzibie Muzeum Archeologiczno – Historycznego w Stargardzie mieszczącym się przy Rynku Staromiejskim odbędzie się kolejne spotkanie w przyrynkowej kamienicy.  \nGościem spotkania będzie pan dr Michał Gierke\, który opowie o wybitnym pomorskim duchownym\, poecie i uczonym Danielu Cramerze. \nWstęp jest bezpłatny.
URL:https://infostargard.pl/event/spotkanie-w-przyrynkowej-kamienicy-2/
LOCATION:Muzeum Archeologiczno-Historyczne\, Rynek Staromiejski 3\, Stargard\, 73-110\, Poland
END:VEVENT
BEGIN:VEVENT
DTSTART;TZID=Europe/Helsinki:20251106T180000
DTEND;TZID=Europe/Helsinki:20251106T180000
DTSTAMP:20260420T030237
CREATED:20251030T083040Z
LAST-MODIFIED:20251030T083105Z
UID:27630-1762452000-1762452000@infostargard.pl
SUMMARY:Jeszcze Polska nie zginęła - Kobiecym głosem o Niepodległości
DESCRIPTION:W czwartek\, 6 listopada o godz. 18\, w Piwnicy TPS odbędzie się koncert pt. „Kobiecym Głosem o Niepodległości – Jeszcze Polska nie zginęła”.  \nNa scenie Piwnicy Towarzystwa Przyjaciół Stargardu spotkają się trzy kobiety reprezentujące trzy pokolenia. Łączy je doświadczenie miłości i utraty ukochanego. Choć każda z nich reprezentuje inne pokolenie\, wspólne są im uczucia takie jak tęsknota\, nadzieja i siła przetrwania. \n-Będzie to przepiękny wieczór wypełniony pieśniami niepodległościowymi\, poukładanymi w konkretną narrację\, która pozwoli spojrzeć na teatr wojny z perspektywy kobiet; matek\, żon\, córek\, babć – zaprasza pochodząca ze Stargardu aktorka i piosenkarka Julita Kożuszek\, reżyserka i autorka scenariusza. \nWiększość pieśni przygotowanych na spektakl – koncert\, została zaaranżowana na trzy głosy. Trzy artystki: Dorota Wasilewska\, Julita Kożuszek\, i Dorota Witkowska nie tylko śpiewają\, ale grają na różnych instrumentach; fortepianie\, skrzypcach\, ukulele i instrumentach perkusyjnych. \nSpektakl pomyślany został tak\, by publiczność miała okazję włączyć się do wspólnego śpiewania. Między pieśniami pojawią się także słowa poety Cypriana Kamila Norwida\, które dodają całości poetyckiej głębi i stają się pomostem między muzyką a historią. \nFinałowym akcentem wydarzenia\, które odbędzie się 6 listopada o godz. 18\, będzie poruszające wykonanie utworu „Gdzie są kwiaty z tamtych lat” – symbolicznego pytania o pamięć\, czas i wartość pokoju. \n„Jeszcze Polska nie zginęła – kobiecym głosem o niepodległości” to spektakl\, który nie tylko wzrusza\, ale też przypomina\, że wolność ma wiele głosów\, a jednym z najpiękniejszych – jest głos kobiety. \nBilety dostępne w Centrum Informacji Turystycznej przy Rynku Staromiejskim oraz w kasie SCK.
URL:https://infostargard.pl/event/jeszcze-polska-nie-zginela-kobiecym-glosem-o-niepodleglosci/
LOCATION:Piwnica pod Ratuszem
END:VEVENT
END:VCALENDAR