BEGIN:VCALENDAR
VERSION:2.0
PRODID:-//Info Stargard - ECPv6.15.20//NONSGML v1.0//EN
CALSCALE:GREGORIAN
METHOD:PUBLISH
X-WR-CALNAME:Info Stargard
X-ORIGINAL-URL:https://infostargard.pl
X-WR-CALDESC:Wydarzenia dla Info Stargard
REFRESH-INTERVAL;VALUE=DURATION:PT1H
X-Robots-Tag:noindex
X-PUBLISHED-TTL:PT1H
BEGIN:VTIMEZONE
TZID:Europe/Helsinki
BEGIN:DAYLIGHT
TZOFFSETFROM:+0200
TZOFFSETTO:+0300
TZNAME:EEST
DTSTART:20240331T010000
END:DAYLIGHT
BEGIN:STANDARD
TZOFFSETFROM:+0300
TZOFFSETTO:+0200
TZNAME:EET
DTSTART:20241027T010000
END:STANDARD
BEGIN:DAYLIGHT
TZOFFSETFROM:+0200
TZOFFSETTO:+0300
TZNAME:EEST
DTSTART:20250330T010000
END:DAYLIGHT
BEGIN:STANDARD
TZOFFSETFROM:+0300
TZOFFSETTO:+0200
TZNAME:EET
DTSTART:20251026T010000
END:STANDARD
BEGIN:DAYLIGHT
TZOFFSETFROM:+0200
TZOFFSETTO:+0300
TZNAME:EEST
DTSTART:20260329T010000
END:DAYLIGHT
BEGIN:STANDARD
TZOFFSETFROM:+0300
TZOFFSETTO:+0200
TZNAME:EET
DTSTART:20261025T010000
END:STANDARD
END:VTIMEZONE
BEGIN:VEVENT
DTSTART;TZID=Europe/Helsinki:20251030T203000
DTEND;TZID=Europe/Helsinki:20251031T203000
DTSTAMP:20260420T025302
CREATED:20251031T100735Z
LAST-MODIFIED:20251031T101315Z
UID:27871-1761856200-1761942600@infostargard.pl
SUMMARY:Maraton filmów grozy w kinie SCK
DESCRIPTION:Coroczny maraton filmów grozy\, w którym przedstawiamy najnowsze produkcje dystrybuowane przez Monolith Films\, które mrożą krew w żyłach. Bilet na Maraton Halloween w cenie 40 złotych obejmuje wszystkie trzy pozycje. Pomiędzy seansami przewidziana jest przerwa. Przebrania mile widziane. W tym roku MH odbędzie się dwukrotnie – 30 i 31 października.\n\n\n\nGOOD BOY – MARATON HALLOWEEN\nHorror (75 min.)\n\nTodd\, młody mężczyzna pogrążony w żałobie po tragicznej stracie\, przeprowadza się wraz z psem do starego domu na odludziu. Ma nadzieję odnaleźć tu spokój i zacząć życie od nowa. Wkrótce okaże się\, że dom nie jest pusty. W jego ścianach kryje się nadprzyrodzone zło\, którego obecność wyczuwa tylko zwierzę. Początkowo Todd lekceważy nerwowe zachowanie psa\, sądząc\, że to reakcja na nowe miejsce. Ale z czasem nawiedzenia stają się coraz bardziej przerażające i brutalne\, a Todd zaczyna tracić kontrolę nad sobą. Jego jedyną nadzieję na przetrwanie jest wierny pies skazany na samotną walkę ze złem\, które zawładnęło losem jego pana. (Monolith Films)\n\nMIASTECZKO SHELBY OAKS – MARATON HALLOWEEN\nHorror (109 min.)\n\nW okolicach opuszczonego miasteczka Shelby Oaks odnalezione zostają ciała członków ekipy filmowej. Zwłok stojącej na czele wyprawy Riley nigdy nie odkryto. 12 lat później starsza siostra zaginionej podejmuje ostatnią próbę poznania prawdy o tym przerażającym wydarzeniu. Wkrótce odkryje\, że zaginionych w niewyjaśnionych okolicznościach ofiar jest znacznie więcej. (Monolith Films)\n\n\nSTRANGERS 2 – MARATON HALLOWEEN\nHorror (76 min.)\n\nOni wrócili. Bardziej brutalni niż kiedykolwiek\, wstrząsną wami w kolejnej odsłonie kultowego horroru. Gdy okazuje się\, że Maya przeżyła atak\, oni wracają\, by dokończyć to\, co zaczęli. Uwięziona\, pozbawiona drogi ucieczki i kogokolwiek\, komu mogłaby zaufać\, kolejny raz musi zmierzyć się z koszmarem. Zamaskowani oprawcy nie cofną się przed niczym – a każdy\, kto stanie im na drodze\, zginie. (Monolith Films)\n\n\n\nInf. SCK
URL:https://infostargard.pl/event/maraton-filmow-grozy-w-kinie-sck/
LOCATION:Kino SCK
END:VEVENT
BEGIN:VEVENT
DTSTART;TZID=Europe/Helsinki:20251031T170000
DTEND;TZID=Europe/Helsinki:20251031T170000
DTSTAMP:20260420T025302
CREATED:20251030T100948Z
LAST-MODIFIED:20251030T100953Z
UID:27676-1761930000-1761930000@infostargard.pl
SUMMARY:Straasznie Fajna Zabawa w CKiR
DESCRIPTION:Centrum Kultury i Rekreacji w Kobylance zaprasza na halloweenową imprezę\, która odbędzie się w piątek\, 31 października o godz. 17.  \nSpotkanie wyłącznie dla dzieci od 5 roku życia\, z gminy Kobylanka. \n– Zabierajcie obuwie zmienne\, poduchę/kocyk do siedzenia oraz podpisane picie – informują organizatorzy. – Wszystkie przebrania mile widziane.  \nZapisy wyłącznie online. Ilość miejsc jest ograniczona. Decyduje kolejność zgłoszeń. W programie przedstawienie muzyczno-taneczne – „W magicznej chacie czarownicy”\, a także „Czarodziejskie Halloween” – strasznie fajne animacje. \nCałość potrwa około 1h 45 min.
URL:https://infostargard.pl/event/straasznie-fajna-zabawa-w-ckir/
LOCATION:Centrum Kultury i Rekreacji w Kobylance
END:VEVENT
BEGIN:VEVENT
DTSTART;TZID=Europe/Helsinki:20251031T173000
DTEND;TZID=Europe/Helsinki:20251031T173000
DTSTAMP:20260420T025302
CREATED:20251021T093152Z
LAST-MODIFIED:20251022T073750Z
UID:26766-1761931800-1761931800@infostargard.pl
SUMMARY:Halloweenowe polowanie
DESCRIPTION:Koło Gospodyń Wiejskich w Motańcu zaprasza dzieci z Sołectwa Motaniec na halloweenowe polowanie\, które odbędzie się w piątek\, 31 października o godz. 17:30.  \nW programie m.in. polowanie na duchy\, konkurs na „najstraszniejsze” przebranie a także wspólne polowanie na cukierki. \nZapisy dzieci pod nr. telefonu 506 816 423. \n– Zwracamy się z prośbą do mieszkańców – jeżeli chcecie żebyśmy do Was zapukali\, dajcie nam znać w wiadomości\, komentarzu albo udekorujcie swoją bramę – informują organizatorzy. – Będziemy wiedzieć\, że na nas czekacie!
URL:https://infostargard.pl/event/halloweenowe-polowanie/
LOCATION:Motaniec 1A – świetlica wiejska
END:VEVENT
BEGIN:VEVENT
DTSTART;TZID=Europe/Helsinki:20251031T173000
DTEND;TZID=Europe/Helsinki:20251031T173000
DTSTAMP:20260420T025302
CREATED:20251027T120317Z
LAST-MODIFIED:20251030T081155Z
UID:27303-1761931800-1761931800@infostargard.pl
SUMMARY:Halloweenowe Morsowanie
DESCRIPTION:W piątek\, 31 października Miedwianie Stargardzki Klub Morsów zaprasza wszystkich Miedwian i nie tylko na Halloweenowe Morsowanie\, czyli najstrrrraszniejszą kąpiel w roku! Wampiry\, duchy\, zjawy\, czarownice i inne upiorne stwory tego wieczora opanują Miedwie.  \nPlan wieczoru: \n17:30 – zbiórka i przygotowania\n17:45 – rozgrzewka z duchami\n18:00 – kąpiel z pochodniami w mrożącej krew w żyłach wodzie! \nA przed\, w trakcie i po kąpieli… \n– zjawy i wodne wampiry\n– słodki (i nie tylko) poczęstunek z piekła rodem\n– muzyka zza światów\n– konkurs na najlepsze przebranie halloweenowe! \nPrzebierz się za czarownicę\, ducha\, wampira\, dynię albo kogo tylko chcesz – im bardziej pomysłowo\, tym lepiej! Czekają nas świetne zdjęcia\, mnóstwo śmiechu i potężna dawka strasznie dobrej zabawy! \nDo zobaczenia nad Miedwiem… jeśli tylko odważysz się przyjść! \nInf. organizatora
URL:https://infostargard.pl/event/halloweenowe-morsowanie/
LOCATION:muszla koncertowa Morzyczyn
END:VEVENT
BEGIN:VEVENT
DTSTART;TZID=Europe/Helsinki:20251031T180000
DTEND;TZID=Europe/Helsinki:20251031T180000
DTSTAMP:20260420T025302
CREATED:20251027T114341Z
LAST-MODIFIED:20251030T081409Z
UID:27295-1761933600-1761933600@infostargard.pl
SUMMARY:Upiorne Zwiedzanie Bastei
DESCRIPTION:31 października stargardzkie muzeum zaprasza na 4. edycję Upiornego Zwiedzania Bastei. \n– Mamy jeszcze 7 wolnych miejsc na piątkowe upiorne zwiedzanie Bastei! – zaprasza MAH w Stargardzie. – Liczy się kolejność zgłoszeń. Kto pierwszy ten szybszy. Zgłoszenia należy wysyłać na e-mail: p.antczak@muzeum-stargard.pl. W treści należy podać imię dziecka oraz numer kontaktowy do opiekuna! \nWymogiem zwiedzania jest przebranie się uczestników\, posiadanie latarki lub czołówki\, brak przeciwwskazań do poruszania się po ciemnych pomieszczeniach oraz… odwaga! Zwiedzanie rozpoczyna się o godzinie 18:00 w Bastei i trwa około 1\,5 godziny. Koszt uczestnictwa w wydarzeniu wynosi 15 złotych od osoby (płatne w dniu wydarzenia). Pamiętajcie – miejcie przy sobie duuuużą ilość słodyczy lub owoców! \n\n\n\n\n\nInf. i zdj. MAH
URL:https://infostargard.pl/event/27295/
LOCATION:Basteja
END:VEVENT
END:VCALENDAR