BEGIN:VCALENDAR
VERSION:2.0
PRODID:-//Info Stargard - ECPv6.15.20//NONSGML v1.0//EN
CALSCALE:GREGORIAN
METHOD:PUBLISH
X-WR-CALNAME:Info Stargard
X-ORIGINAL-URL:https://infostargard.pl
X-WR-CALDESC:Wydarzenia dla Info Stargard
REFRESH-INTERVAL;VALUE=DURATION:PT1H
X-Robots-Tag:noindex
X-PUBLISHED-TTL:PT1H
BEGIN:VTIMEZONE
TZID:Europe/Helsinki
BEGIN:DAYLIGHT
TZOFFSETFROM:+0200
TZOFFSETTO:+0300
TZNAME:EEST
DTSTART:20240331T010000
END:DAYLIGHT
BEGIN:STANDARD
TZOFFSETFROM:+0300
TZOFFSETTO:+0200
TZNAME:EET
DTSTART:20241027T010000
END:STANDARD
BEGIN:DAYLIGHT
TZOFFSETFROM:+0200
TZOFFSETTO:+0300
TZNAME:EEST
DTSTART:20250330T010000
END:DAYLIGHT
BEGIN:STANDARD
TZOFFSETFROM:+0300
TZOFFSETTO:+0200
TZNAME:EET
DTSTART:20251026T010000
END:STANDARD
BEGIN:DAYLIGHT
TZOFFSETFROM:+0200
TZOFFSETTO:+0300
TZNAME:EEST
DTSTART:20260329T010000
END:DAYLIGHT
BEGIN:STANDARD
TZOFFSETFROM:+0300
TZOFFSETTO:+0200
TZNAME:EET
DTSTART:20261025T010000
END:STANDARD
END:VTIMEZONE
BEGIN:VEVENT
DTSTART;TZID=Europe/Helsinki:20251029T084500
DTEND;TZID=Europe/Helsinki:20251029T090000
DTSTAMP:20260420T030120
CREATED:20251027T105649Z
LAST-MODIFIED:20251027T105828Z
UID:27288-1761727500-1761728400@infostargard.pl
SUMMARY:"Moje miasto Stargard" w starostwie - wernisaż wystawy
DESCRIPTION:Wernisaż wyjątkowej wystawy malarskiej pt. „Moje miasto Stargard”\, prezentującej twórczość członkiń Sekcji Plastycznej „Inspiracje” Uniwersytetu Trzeciego Wieku odbędzie się w najbliższą środę w holu starostwa przy ul. Skarbowej w Stargardzie.\n\nAutorkami prac są miłośniczki stargardzkich zabytków\, na co dzień tworzące w niezwykłej przestrzeni Bramy Portowej (Młyńskiej). Od lat rozwijają swoje pasje malarskie\, prezentując różnorodne techniki – od akwareli\, przez akryl\, po farby olejne. Na wystawie zobaczymy prace:Elżbiety Wacławczyk\, Janiny Wołoszańskiej\, Hanny Żurych\, Iwony Skupień\, Ireny Rakowskiej\, Zofii Domagalskiej\, Weroniki Rybińskiej\, Stanisławy Gugałki\, Aliny Stachowiak\, Marii de Weyher\, Beaty Maldzis\, Krystyny Letkiewicz oraz śp. Reginy Szymanowskiej-Kulskiej. Wernisaż odbędzie się w Galerii Jerzego Wąsiewicza w holu Starostwa Powiatowego w Stargardzie Serdecznie zapraszamy wszystkich miłośników sztuki i Stargardu!\n\n\n\nInf. i zdj. powiat stargardzki
URL:https://infostargard.pl/event/moje-miasto-stargard-w-starostwie-wernisaz-wystawy/
LOCATION:hol starostrwa\, ul. Skarbowa
END:VEVENT
BEGIN:VEVENT
DTSTART;TZID=Europe/Helsinki:20251029T160000
DTEND;TZID=Europe/Helsinki:20251029T160000
DTSTAMP:20260420T030120
CREATED:20251022T104607Z
LAST-MODIFIED:20251022T104607Z
UID:26920-1761753600-1761753600@infostargard.pl
SUMMARY:Spotkanie z Honoratą Burzyńską w Pomietowie
DESCRIPTION:
URL:https://infostargard.pl/event/spotkanie-z-honorata-burzynska-w-pomietowie/
LOCATION:świetlica w Pomietowie
END:VEVENT
END:VCALENDAR