BEGIN:VCALENDAR
VERSION:2.0
PRODID:-//Info Stargard - ECPv6.15.20//NONSGML v1.0//EN
CALSCALE:GREGORIAN
METHOD:PUBLISH
X-ORIGINAL-URL:https://infostargard.pl
X-WR-CALDESC:Wydarzenia dla Info Stargard
REFRESH-INTERVAL;VALUE=DURATION:PT1H
X-Robots-Tag:noindex
X-PUBLISHED-TTL:PT1H
BEGIN:VTIMEZONE
TZID:Europe/Helsinki
BEGIN:DAYLIGHT
TZOFFSETFROM:+0200
TZOFFSETTO:+0300
TZNAME:EEST
DTSTART:20240331T010000
END:DAYLIGHT
BEGIN:STANDARD
TZOFFSETFROM:+0300
TZOFFSETTO:+0200
TZNAME:EET
DTSTART:20241027T010000
END:STANDARD
BEGIN:DAYLIGHT
TZOFFSETFROM:+0200
TZOFFSETTO:+0300
TZNAME:EEST
DTSTART:20250330T010000
END:DAYLIGHT
BEGIN:STANDARD
TZOFFSETFROM:+0300
TZOFFSETTO:+0200
TZNAME:EET
DTSTART:20251026T010000
END:STANDARD
BEGIN:DAYLIGHT
TZOFFSETFROM:+0200
TZOFFSETTO:+0300
TZNAME:EEST
DTSTART:20260329T010000
END:DAYLIGHT
BEGIN:STANDARD
TZOFFSETFROM:+0300
TZOFFSETTO:+0200
TZNAME:EET
DTSTART:20261025T010000
END:STANDARD
END:VTIMEZONE
BEGIN:VEVENT
DTSTART;TZID=Europe/Helsinki:20251027T170000
DTEND;TZID=Europe/Helsinki:20251027T170000
DTSTAMP:20260420T025305
CREATED:20251021T101104Z
LAST-MODIFIED:20251022T073511Z
UID:26774-1761584400-1761584400@infostargard.pl
SUMMARY:Wernisaż wystawy ekologicznej w Galerii 108
DESCRIPTION:Stargardzkie Centrum Kultury zaprasza na wernisaż wystawy ekologicznej\, który odbędzie się w poniedziałek\, 27 października w Galerii 108 SCK. Wstęp jest wolny. \n\n\nZielony Zakątek Kultury to nowy projekt Stargardzkiego Centrum Kultury\, to przestrzeń\, w której twórczość spotyka się z naturą\, a sztuka staje się narzędziem edukacji ekologicznej. \nZa nami cykl warsztatów – od tworzenia drzew z naturalnych materiałów\, przez projektowanie własnych EKOtoreb\, aż po konstruowanie doniczek i recyklingowych rakiet – każdy warsztat to okazja\, by rozbudzić wyobraźnię i zasiać w sobie ekologiczne wartości. \nEfekty tej niezwykłej przygody będzie można podziwiać już 27 października o 17:00 w Galerii Stargardzkiego Centrum Kultury\, podczas wernisażu wystawy „Człowiek i natura w symbiozie”.  To opowieść o harmonii\, jaką możemy tworzyć z otaczającym nas światem – jeśli tylko damy sobie na to przestrzeń. \nW ramach projektu przewidziano także wspólne sadzenie roślin wokół SCK – działania\, które nie tylko upiększają naszą wspólną przestrzeń\, ale przede wszystkim łączą ludzi i budują lokalną wspólnotę opartą na szacunku do przyrody i do siebie nawzajem. \nProjekt „Zielony Zakątek Kultury” powstał dzięki wsparciu fundacji Enea – energia wspólnoty w ramach programu „Zielona Społeczność”\, którego operatorem jest stowarzyszenie młodych animatorów kultury. \nInf. organizatora
URL:https://infostargard.pl/event/wernisaz-wystawy-ekologicznej-w-galerii-108/
LOCATION:Galeria 108 SCK
END:VEVENT
END:VCALENDAR