BEGIN:VCALENDAR
VERSION:2.0
PRODID:-//Info Stargard - ECPv6.15.20//NONSGML v1.0//EN
CALSCALE:GREGORIAN
METHOD:PUBLISH
X-ORIGINAL-URL:https://infostargard.pl
X-WR-CALDESC:Wydarzenia dla Info Stargard
REFRESH-INTERVAL;VALUE=DURATION:PT1H
X-Robots-Tag:noindex
X-PUBLISHED-TTL:PT1H
BEGIN:VTIMEZONE
TZID:Europe/Helsinki
BEGIN:DAYLIGHT
TZOFFSETFROM:+0200
TZOFFSETTO:+0300
TZNAME:EEST
DTSTART:20240331T010000
END:DAYLIGHT
BEGIN:STANDARD
TZOFFSETFROM:+0300
TZOFFSETTO:+0200
TZNAME:EET
DTSTART:20241027T010000
END:STANDARD
BEGIN:DAYLIGHT
TZOFFSETFROM:+0200
TZOFFSETTO:+0300
TZNAME:EEST
DTSTART:20250330T010000
END:DAYLIGHT
BEGIN:STANDARD
TZOFFSETFROM:+0300
TZOFFSETTO:+0200
TZNAME:EET
DTSTART:20251026T010000
END:STANDARD
BEGIN:DAYLIGHT
TZOFFSETFROM:+0200
TZOFFSETTO:+0300
TZNAME:EEST
DTSTART:20260329T010000
END:DAYLIGHT
BEGIN:STANDARD
TZOFFSETFROM:+0300
TZOFFSETTO:+0200
TZNAME:EET
DTSTART:20261025T010000
END:STANDARD
END:VTIMEZONE
BEGIN:VEVENT
DTSTART;TZID=Europe/Helsinki:20251024T170000
DTEND;TZID=Europe/Helsinki:20251026T230000
DTSTAMP:20260420T055619
CREATED:20251021T084625Z
LAST-MODIFIED:20251022T072715Z
UID:26753-1761325200-1761519600@infostargard.pl
SUMMARY:Halloween Dobrych Dusz - wystawa dyń z postaciami z bajek
DESCRIPTION:Magiczny Ogród Aleksandry zaprasza na charytatywną wystawę\, największą w Europie wystawę dyń z wyciętymi wzorami postaci z bajek i filmów.  \nWydarzenie odbędzie się w trzech terminach: \n\n24 października (czwartek) – 17:00-23:00\n25 października (piątek) – 17:00-23:00\n26 października (sobota) – 17:00-23:00\n\nMiejsce wydarzenia: Inkubator Sektorów Kreatywnych – Ogród INKU\, ul. Wojska Polskiego 90\, Szczecin. \nBilety: 30 zł do nabycia przy wejściu. Wydarzenie jest częściowo biletowane — opłata obowiązuje osoby\, które nie kwalifikują się do wstępu bezpłatnego. \n\n\nWstęp wolny przysługuje:\n\n\n\ndzieciom do lat 5\nosobom z niepełnosprawnościami (bez względu na wiek)\ndzieciom i młodzieży z domów dziecka\, innych placówek opiekuńczo-wychowawczych oraz ośrodków wychowawczych\n\nCelem wystawy jest: \n\nintegracja społeczna – bez barier\, dla wszystkich\npromowanie zdrowego stylu życia i miłości do ogrodnictwa\nwspieranie lokalnych inicjatyw charytatywnych — razem możemy więcej!\n\nW programie m.in. \n\ndynie z wyciętymi wzorami z bajek i filmów — magia kina w ogrodniczym wydaniu\ndynia gigant — robi wrażenie i świetnie wygląda na zdjęciach\nnasiona z 5 kontynentów — poznaj rośliny z całego świata\ndegustacje — smaki natury\, które zaskoczą niejedno podniebienie\nzajęcia z hortiterapii i fitoterapii — ogrodnictwo i zioła jako źródło zdrowia i równowagi\ninteraktywne postacie — czarownice\, świetlne stwory i wiele innych\, które ożywią przestrzeń i zaskoczą każdego\nścianki do zdjęć — zamki\, potworki\, wiedźmy\, maski\, miotły\, siekiery i inne atrybuty do kreatywnych ujęć\n\nWystawa powstała z pasji do ogrodnictwa\, potrzeby pomagania i chęci stworzenia miejsca\, w którym każdy niezależnie od wieku czy możliwości poczuje się mile widziany. \nCzęść dochodu z biletów zostanie przekazana na cel charytatywny wybrany przez uczestników. \n– Na odwrocie biletu znajdziesz miejsce\, w którym możesz wpisać nazwę organizacji lub inicjatywy\, którą chcesz wesprzeć – informują organizatorzy. – Wypełniony bilet wrzuć do specjalnego pojemnika podczas wystawy. Po zakończeniu wydarzenia wszystkie głosy zostaną zliczone\, a organizacja/cel z największym poparciem otrzyma zgromadzone środki. To Ty decydujesz\, komu pomagamy — razem tworzymy ogród dobra! Twój głos – czyjeś wsparcie. Dołącz do nas i poczuj\, jak dynia może łączyć ludzi! \nMagiczny Ogród Aleksandry (p. Aleksandra z prawej) zdobył w tym roku nagrodę za największą dynię podczas jarmarku nad Miedwiem Złota Dynia.
URL:https://infostargard.pl/event/halloween-dobrych-dusz/
LOCATION:Inkubator Sektorów Kreatywnych – Ogród INKU\, ul. Wojska Polskiego 90\, Szczecin
END:VEVENT
BEGIN:VEVENT
DTSTART;TZID=Europe/Helsinki:20251025T150000
DTEND;TZID=Europe/Helsinki:20251025T150000
DTSTAMP:20260420T055619
CREATED:20251002T110049Z
LAST-MODIFIED:20251002T110115Z
UID:24801-1761404400-1761404400@infostargard.pl
SUMMARY:Mecz o mistrzostwo III ligi
DESCRIPTION:25 października o godz. 15 na stadionie miejskim przy ul. Ceglanej rozpocznie się mecz o mistrzostwo\, III ligi\, gr. II.  \nBłękitni Stargard zmierzą się z Pogonią Nowe Skalmierzyce. \nBilety w cenie: normalny – 15 zł\, ulgowy oraz ze Stargardzka Kartą Mieszkańca – 10 zł\, dzieci i młodzież do lat 13 – wstęp wolny. \nSprzedaż biletów od środy do piątku w klubie w godz. 10-17 lub w dniu meczu w kasach stadionu.
URL:https://infostargard.pl/event/mecz-o-mistrzostwo-iii-ligi-4/
LOCATION:Stadion przy ul. Ceglanej
END:VEVENT
BEGIN:VEVENT
DTSTART;TZID=Europe/Helsinki:20251025T150000
DTEND;TZID=Europe/Helsinki:20251025T150000
DTSTAMP:20260420T055619
CREATED:20251014T100657Z
LAST-MODIFIED:20251014T100801Z
UID:26114-1761404400-1761404400@infostargard.pl
SUMMARY:Jesienne spotkanie pod chmurką
DESCRIPTION:Sołectwo Czertyń zaprasza wszystkich mieszkańców na jesienne spotkanie pod chmurką\, które odbędzie się w sobotę\, 25 października o godz. 15\, przy świetlicy wiejskiej.  \nW programie m.in. konkursy dla dzieci i dorosłych oraz smaczny poczęstunek.
URL:https://infostargard.pl/event/jesienne-spotkanie-pod-chmurka/
LOCATION:Teren przy świetlicy wiejskiej w Czertyniu
END:VEVENT
BEGIN:VEVENT
DTSTART;TZID=Europe/Helsinki:20251025T160000
DTEND;TZID=Europe/Helsinki:20251025T160000
DTSTAMP:20260420T055619
CREATED:20251021T090417Z
LAST-MODIFIED:20251022T073132Z
UID:26760-1761408000-1761408000@infostargard.pl
SUMMARY:Warsztaty florystyczne: kompozycje nagrobne
DESCRIPTION:Centrum Kultury i Rekreacji w Kobylance zaprasza mieszkańców gminy Kobylanka do udziału w warsztatach florystycznych: kompozycja nagrobna.  \nWarsztaty odbędą się w sobotę\, 25 października\, w Centrum Kultury i Rekreacji w Kobylance. Początek o godz. 16. \nUdział w warsztatach jest całkowicie bezpłatny i obejmuje całość materiałów oraz prowadzenie krok po kroku przez instruktora. \nIlość miejsc jest ograniczona. Decyduje kolejność zgłoszeń. Zapisy pod nr tel. 91 561 03 56. \n– W związku z ogromnym zainteresowaniem warsztatami florystycznymi „Kompozycje nagrobne”\, otwieramy zapisy na II turę – informują organizatorzy. – Odbędzie się ona tego samego dnia\, 25 października o godz. 14. Zapraszamy do zapisów telefonicznych.  \n \n \n 
URL:https://infostargard.pl/event/warsztaty-florystyczne-kompozycje-nagrobne/
LOCATION:Centrum Kultury i Rekreacji w Kobylance
END:VEVENT
BEGIN:VEVENT
DTSTART;TZID=Europe/Helsinki:20251025T170000
DTEND;TZID=Europe/Helsinki:20251025T170000
DTSTAMP:20260420T055619
CREATED:20251021T104451Z
LAST-MODIFIED:20251021T104503Z
UID:26786-1761411600-1761411600@infostargard.pl
SUMMARY:Limboski - "Wieloryby nie kłamią" - spotkanie autorskie + koncert
DESCRIPTION:Galeria Ińskiego Lata Filmowego O. Mega zaprasza na spotkanie autorskie i koncert Michała Limboskiego.  \n„Wieloryby nie kłamią” – Spotkanie autorskie godz. 17:00 \n„Wieloryby nie kłamią” to prozatorski debiut Michała Limboskiego\, zbiór esejów\, w których realne miejsca\, wydarzenia i melodie stają się punktem wyjścia do refleksji nad muzyką\, pamięcią psychologią i duchowością. Wątki autobiograficzne splatają się tu z opowieścią o Polsce i jej mitach\, o głosach z dzieciństwa i złudzeniach współczesnej kultury. „Wieloryby nie kłamią” to osobista mozaika – nieoczywisty portret współczesnego mężczyzny i jego epoki. \nZapraszamy na spotkanie z autorem\, podczas którego przybliżymy jego literacko-muzyczne uniwersum i zapytamy go\, ile w jego „Esejach Fantastycznych” jest prawdy\, a ile fantazji. \nLimboski Solo Act – godz.18:30 \nLIMBOSKI SOLO ACT Z NOWĄ PŁYTĄ „WIELORYB” \nZapraszamy na kameralny koncert Michała Limboskiego – 'Solo act’ Artysta tworząc loopy na żywo za każdym razem improwizuje i tworzy niepowtarzalne interpretacje własnych utworów. Kilka ostatnich lat spędził w Berlinie\, gdzie wykładał w instytucie BIMM i stworzył soulowo-gospelowy project Limboski& Rev.Ray. Niedawno wydał długo oczekiwaną przez fanów nową płytę\, którą będzie prezentował podczas koncertu. Usłyszymy także znane utwory z poprzednich płyt np. „W Trawie”; czy „Na Statku”. Jego solowym\, kameralnym koncertom zawsze towarzyszy spora dawka autoironii \, improwizacyjna swoboda i czarny humor. \nSpotkanie autorskie – WSTĘP WOLNY. \nKoncert – 50 zł (bilety w przedsprzedaży na stronie: https://sklep.limboski.pl/…/limboski-spotkanie…/ \nInf. organizatora
URL:https://infostargard.pl/event/limboski-wieloryby-nie-klamia-spotkanie-autorskie-koncert/
LOCATION:Galeria O.Mega
END:VEVENT
BEGIN:VEVENT
DTSTART;TZID=Europe/Helsinki:20251025T183000
DTEND;TZID=Europe/Helsinki:20251025T183000
DTSTAMP:20260420T055619
CREATED:20251002T110848Z
LAST-MODIFIED:20251002T110856Z
UID:24805-1761417000-1761417000@infostargard.pl
SUMMARY:Stargard Death Fest XII Halloweenowa edycja 2025
DESCRIPTION:Informacja organizatora:\n\nSCARYFICATOR (Death Metal Gdańsk Polska)\nDEAD TO SPEAK One Man Army Project (Rotting Metal Polska)\n25.10.2025 (sobota) godzina 18:30\nPiwnica TPS Rynek Staromiejski 1 StargardWstęp 30 plnZapraszamy serdecznie i dziękujemy bardzo za wsparcie !
URL:https://infostargard.pl/event/stargard-death-fest-xii-halloweenowa-edycja-2025/
LOCATION:Piwnica TPS
END:VEVENT
END:VCALENDAR