BEGIN:VCALENDAR
VERSION:2.0
PRODID:-//Info Stargard - ECPv6.15.20//NONSGML v1.0//EN
CALSCALE:GREGORIAN
METHOD:PUBLISH
X-ORIGINAL-URL:https://infostargard.pl
X-WR-CALDESC:Wydarzenia dla Info Stargard
REFRESH-INTERVAL;VALUE=DURATION:PT1H
X-Robots-Tag:noindex
X-PUBLISHED-TTL:PT1H
BEGIN:VTIMEZONE
TZID:Europe/Helsinki
BEGIN:DAYLIGHT
TZOFFSETFROM:+0200
TZOFFSETTO:+0300
TZNAME:EEST
DTSTART:20240331T010000
END:DAYLIGHT
BEGIN:STANDARD
TZOFFSETFROM:+0300
TZOFFSETTO:+0200
TZNAME:EET
DTSTART:20241027T010000
END:STANDARD
BEGIN:DAYLIGHT
TZOFFSETFROM:+0200
TZOFFSETTO:+0300
TZNAME:EEST
DTSTART:20250330T010000
END:DAYLIGHT
BEGIN:STANDARD
TZOFFSETFROM:+0300
TZOFFSETTO:+0200
TZNAME:EET
DTSTART:20251026T010000
END:STANDARD
BEGIN:DAYLIGHT
TZOFFSETFROM:+0200
TZOFFSETTO:+0300
TZNAME:EEST
DTSTART:20260329T010000
END:DAYLIGHT
BEGIN:STANDARD
TZOFFSETFROM:+0300
TZOFFSETTO:+0200
TZNAME:EET
DTSTART:20261025T010000
END:STANDARD
END:VTIMEZONE
BEGIN:VEVENT
DTSTART;TZID=Europe/Helsinki:20251022T090000
DTEND;TZID=Europe/Helsinki:20251024T170000
DTSTAMP:20260420T055620
CREATED:20251013T142939Z
LAST-MODIFIED:20251013T142939Z
UID:25977-1761123600-1761325200@infostargard.pl
SUMMARY:Osteoporoza może zagrażać i Tobie - badania w Ińsku\, Chociwlu i Dobrzanach
DESCRIPTION:
URL:https://infostargard.pl/event/osteoporoza-moze-zagrazac-i-tobie-badania-w-insku-chociwlu-i-dobrzanach/
LOCATION:Ińsko\, Dobrzany\, Chociwel
END:VEVENT
BEGIN:VEVENT
DTSTART;TZID=Europe/Helsinki:20251024T160000
DTEND;TZID=Europe/Helsinki:20251024T160000
DTSTAMP:20260420T055620
CREATED:20251022T103531Z
LAST-MODIFIED:20251022T103531Z
UID:26915-1761321600-1761321600@infostargard.pl
SUMMARY:Spotkanie ze Zbigniewem Masternakiem w Dobrzanach
DESCRIPTION:
URL:https://infostargard.pl/event/spotkanie-ze-zbigniewem-masternakiem-w-dobrzanach/
LOCATION:Biblioteka w Dobrzanach
END:VEVENT
BEGIN:VEVENT
DTSTART;TZID=Europe/Helsinki:20251024T170000
DTEND;TZID=Europe/Helsinki:20251024T170000
DTSTAMP:20260420T055620
CREATED:20251008T085648Z
LAST-MODIFIED:20251008T085715Z
UID:25560-1761325200-1761325200@infostargard.pl
SUMMARY:Spotkanie o menopauzie w Książnicy Stargardzkiej
DESCRIPTION:Książnica Stargardzka zaprasza na spotkanie pn. „Menopauza\, perimenopauza – aspekt fizyczny i emocjonalny”\, które odbędzie się w czwartek\, 24 października w filii nr 2 Książnicy Stargardzkiej. Początek godz. 17.  \nGośćmi spotkania będą: Magda Trembecka – fizjoterapeutka i osteopatka oraz Anna Kario-Skoczylas – psychoterapeutka (terapia i edukacja). \n– Porozmawiamy o tym\, co dzieje się z ciałem i emocjami w czasie menopauzy i jak najlepiej zadbać o siebie w tym ważnym etapie życia – zachęcają organizatorzy. – Spotkanie otwarte dla wszystkich zainteresowanych. \nWstęp jest wolny.
URL:https://infostargard.pl/event/spotkanie-o-menopauzie-w-ksiaznicy-stargardzkiej/
LOCATION:Filia nr 2 Książnicy Stargardzkiej \, ul. Tańskiego 6E/9
END:VEVENT
BEGIN:VEVENT
DTSTART;TZID=Europe/Helsinki:20251024T170000
DTEND;TZID=Europe/Helsinki:20251024T170000
DTSTAMP:20260420T055620
CREATED:20251013T142146Z
LAST-MODIFIED:20251014T090417Z
UID:25966-1761325200-1761325200@infostargard.pl
SUMMARY:CYBERbezpieczeństwo - spotkanie w Kobylance
DESCRIPTION:Komenda Powiatowa Policji w Stargardzie zaprasza na spotkanie mieszkańców Gminy Kobylanka\, które odbędzie się w piątek\, 24 października o godz. 17\, w sali nr 1 Centrum Kultury i Rekreacji w Kobylance. \nTematem spotkania będzie cyber bezpieczeństwo. \nW programie m.in. najczęściej występujące formy oszustw – telefoniczne i internetowe a także jak działają przestępcy\, na co zwracać uwagę i co zrobić\, aby uchronić siebie i swoich bliskich przed stratą pieniędzy oraz danych osobowych.
URL:https://infostargard.pl/event/cyberbezpieczenstwo-spotkanie-w-kobylance/
LOCATION:CKiR w Kobylance
END:VEVENT
BEGIN:VEVENT
DTSTART;TZID=Europe/Helsinki:20251024T170000
DTEND;TZID=Europe/Helsinki:20251026T230000
DTSTAMP:20260420T055620
CREATED:20251021T084625Z
LAST-MODIFIED:20251022T072715Z
UID:26753-1761325200-1761519600@infostargard.pl
SUMMARY:Halloween Dobrych Dusz - wystawa dyń z postaciami z bajek
DESCRIPTION:Magiczny Ogród Aleksandry zaprasza na charytatywną wystawę\, największą w Europie wystawę dyń z wyciętymi wzorami postaci z bajek i filmów.  \nWydarzenie odbędzie się w trzech terminach: \n\n24 października (czwartek) – 17:00-23:00\n25 października (piątek) – 17:00-23:00\n26 października (sobota) – 17:00-23:00\n\nMiejsce wydarzenia: Inkubator Sektorów Kreatywnych – Ogród INKU\, ul. Wojska Polskiego 90\, Szczecin. \nBilety: 30 zł do nabycia przy wejściu. Wydarzenie jest częściowo biletowane — opłata obowiązuje osoby\, które nie kwalifikują się do wstępu bezpłatnego. \n\n\nWstęp wolny przysługuje:\n\n\n\ndzieciom do lat 5\nosobom z niepełnosprawnościami (bez względu na wiek)\ndzieciom i młodzieży z domów dziecka\, innych placówek opiekuńczo-wychowawczych oraz ośrodków wychowawczych\n\nCelem wystawy jest: \n\nintegracja społeczna – bez barier\, dla wszystkich\npromowanie zdrowego stylu życia i miłości do ogrodnictwa\nwspieranie lokalnych inicjatyw charytatywnych — razem możemy więcej!\n\nW programie m.in. \n\ndynie z wyciętymi wzorami z bajek i filmów — magia kina w ogrodniczym wydaniu\ndynia gigant — robi wrażenie i świetnie wygląda na zdjęciach\nnasiona z 5 kontynentów — poznaj rośliny z całego świata\ndegustacje — smaki natury\, które zaskoczą niejedno podniebienie\nzajęcia z hortiterapii i fitoterapii — ogrodnictwo i zioła jako źródło zdrowia i równowagi\ninteraktywne postacie — czarownice\, świetlne stwory i wiele innych\, które ożywią przestrzeń i zaskoczą każdego\nścianki do zdjęć — zamki\, potworki\, wiedźmy\, maski\, miotły\, siekiery i inne atrybuty do kreatywnych ujęć\n\nWystawa powstała z pasji do ogrodnictwa\, potrzeby pomagania i chęci stworzenia miejsca\, w którym każdy niezależnie od wieku czy możliwości poczuje się mile widziany. \nCzęść dochodu z biletów zostanie przekazana na cel charytatywny wybrany przez uczestników. \n– Na odwrocie biletu znajdziesz miejsce\, w którym możesz wpisać nazwę organizacji lub inicjatywy\, którą chcesz wesprzeć – informują organizatorzy. – Wypełniony bilet wrzuć do specjalnego pojemnika podczas wystawy. Po zakończeniu wydarzenia wszystkie głosy zostaną zliczone\, a organizacja/cel z największym poparciem otrzyma zgromadzone środki. To Ty decydujesz\, komu pomagamy — razem tworzymy ogród dobra! Twój głos – czyjeś wsparcie. Dołącz do nas i poczuj\, jak dynia może łączyć ludzi! \nMagiczny Ogród Aleksandry (p. Aleksandra z prawej) zdobył w tym roku nagrodę za największą dynię podczas jarmarku nad Miedwiem Złota Dynia.
URL:https://infostargard.pl/event/halloween-dobrych-dusz/
LOCATION:Inkubator Sektorów Kreatywnych – Ogród INKU\, ul. Wojska Polskiego 90\, Szczecin
END:VEVENT
BEGIN:VEVENT
DTSTART;TZID=Europe/Helsinki:20251024T173000
DTEND;TZID=Europe/Helsinki:20251024T173000
DTSTAMP:20260420T055620
CREATED:20250528T110222Z
LAST-MODIFIED:20250603T092544Z
UID:12325-1761327000-1761327000@infostargard.pl
SUMMARY:Spektakl: Kim jest Pan Schmitt?
DESCRIPTION:W piątek\, 24 października o godz. 17:30 i 20\, na Dużej Scenie Stargardzkiego Centrum Kultury\, odbędzie się spektakl komediowy pt. „Kim jest Pan Schmitt?”. \nBilety od 80 zł do 170 zł dostępne w kasie kina lub online. \nInformacja SCK: \nWyobraź sobie sytuację\, w której budzisz się rano i odkrywasz\, że jesteś kimś zupełnie innym niż dotychczas. Z taką sytuacją mierzy się bohater kultowej komedii Sébastien Thiéry’ego. W lawinie zaskakujących i zabawnych sytuacji\, „Pan Schmitt” będzie musiał odpowiedzieć sobie na jedno\, bardzo ważne pytanie: Kim naprawdę jestem? \nPewnego dnia wszystko w życiu bohatera zmienia się nie do poznania. Odkrywa\, że ma inny zawód\, inne ubrania i książki w mieszkaniu\, on i żona inaczej się nazywają\, a nawet mają już dorosłe dziecko. Świat próbuje mu wmówić\, że jest panem Schmittem\, a zaprzeczenie temu może się dla niego źle skończyć… \nW tej zwariowanej komedii „Pan Schmitt” zaczyna lawirować i udaje kogoś\, kim nie jest. Jednocześnie usiłuje nie zdradzić samego siebie i tego\, w co wierzy. Mnożą się przez to absurdalne sytuacje\, a także zabawne nieporozumienia. Czy istnieją granice kompromisu\, na jaki człowiek zdolny jest pójść dla świętego spokoju? \nObsada: \nAndrzej Zieliński\nMonika Krzywkowska\nMichał Piela\nAntoni Pawlicki\nAlma Asuai \n\n\nAutor: Sébastien Thiéry\nReżyser: Aldona Figura\nPrzekład: Irma Helt\nProducent: Wydział Produkcji Karol Bytner
URL:https://infostargard.pl/event/spektakl-kim-jest-pan-schmitt/
LOCATION:Duża Scena SCK
END:VEVENT
BEGIN:VEVENT
DTSTART;TZID=Europe/Helsinki:20251024T190000
DTEND;TZID=Europe/Helsinki:20251024T190000
DTSTAMP:20260420T055620
CREATED:20251014T104803Z
LAST-MODIFIED:20251014T104810Z
UID:26127-1761332400-1761332400@infostargard.pl
SUMMARY:Jesienny koncert w Kobylance
DESCRIPTION:Centrum Kultury i Rekreacji w Kobylance zaprasza na jesienny koncert „Jesteś moją miłością” w wykonaniu Julity Kożuszek.  \nPrzedstawienie odbędzie się w piątek\, 24 października w auli CKiR. Początek godz. 19. \n– Zapraszamy na ciepły\, nastrojowy\, pełen wzruszeń koncert z najpiękniejszymi polskimi piosenkami lat 70-tych – zachęcają organizatorzy. – W programie usłyszą Państwo najpiękniejsze piosenki Zbigniewa Wodeckiego\, Ireny Santor\, Anny German\, Violetty Villas\, Ludmiły Jakubczak i inne.  \nNa koncercie nie zabraknie również elementów poezji Joanny Kulmowej\, a także dwóch klasycznych utworów Fryderyka Chopina. \nWstęp jest wolny.
URL:https://infostargard.pl/event/jesienny-koncert-w-kobylance/
LOCATION:Aula Centrum Kultury i Rekreacji w Kobylance
END:VEVENT
END:VCALENDAR