BEGIN:VCALENDAR
VERSION:2.0
PRODID:-//Info Stargard - ECPv6.15.20//NONSGML v1.0//EN
CALSCALE:GREGORIAN
METHOD:PUBLISH
X-WR-CALNAME:Info Stargard
X-ORIGINAL-URL:https://infostargard.pl
X-WR-CALDESC:Wydarzenia dla Info Stargard
REFRESH-INTERVAL;VALUE=DURATION:PT1H
X-Robots-Tag:noindex
X-PUBLISHED-TTL:PT1H
BEGIN:VTIMEZONE
TZID:Europe/Helsinki
BEGIN:DAYLIGHT
TZOFFSETFROM:+0200
TZOFFSETTO:+0300
TZNAME:EEST
DTSTART:20240331T010000
END:DAYLIGHT
BEGIN:STANDARD
TZOFFSETFROM:+0300
TZOFFSETTO:+0200
TZNAME:EET
DTSTART:20241027T010000
END:STANDARD
BEGIN:DAYLIGHT
TZOFFSETFROM:+0200
TZOFFSETTO:+0300
TZNAME:EEST
DTSTART:20250330T010000
END:DAYLIGHT
BEGIN:STANDARD
TZOFFSETFROM:+0300
TZOFFSETTO:+0200
TZNAME:EET
DTSTART:20251026T010000
END:STANDARD
BEGIN:DAYLIGHT
TZOFFSETFROM:+0200
TZOFFSETTO:+0300
TZNAME:EEST
DTSTART:20260329T010000
END:DAYLIGHT
BEGIN:STANDARD
TZOFFSETFROM:+0300
TZOFFSETTO:+0200
TZNAME:EET
DTSTART:20261025T010000
END:STANDARD
END:VTIMEZONE
BEGIN:VEVENT
DTSTART;TZID=Europe/Helsinki:20251022T090000
DTEND;TZID=Europe/Helsinki:20251024T170000
DTSTAMP:20260420T055557
CREATED:20251013T142939Z
LAST-MODIFIED:20251013T142939Z
UID:25977-1761123600-1761325200@infostargard.pl
SUMMARY:Osteoporoza może zagrażać i Tobie - badania w Ińsku\, Chociwlu i Dobrzanach
DESCRIPTION:
URL:https://infostargard.pl/event/osteoporoza-moze-zagrazac-i-tobie-badania-w-insku-chociwlu-i-dobrzanach/
LOCATION:Ińsko\, Dobrzany\, Chociwel
END:VEVENT
BEGIN:VEVENT
DTSTART;TZID=Europe/Helsinki:20251022T160000
DTEND;TZID=Europe/Helsinki:20251022T160000
DTSTAMP:20260420T055557
CREATED:20251002T105346Z
LAST-MODIFIED:20251002T105408Z
UID:24797-1761148800-1761148800@infostargard.pl
SUMMARY:Spotkanie Dyskusyjnego Klubu Książki dla dorosłych
DESCRIPTION:W środę\, 22 października o godz. 16\, w Sali Projekcyjnej Książnicy Stargardzkiej odbędzie się spotkanie dyskusyjnego klubu książki dla dorosłych.  \nWstęp na to wydarzenie jest wolny. \nDyskusyjny Klub Książki dla dorosłych przy Książnicy Stargardzkiej umożliwia rozmowy dotyczące tytułów\, którymi interesują się czytelnicy. Nad wyborem omawianych pozycji czuwa moderator klubu.
URL:https://infostargard.pl/event/spotkanie-dyskusyjnego-klubu-ksiazki-dla-doroslych/
LOCATION:Sala Projekcyjna – Książnica Stargardzka
END:VEVENT
BEGIN:VEVENT
DTSTART;TZID=Europe/Helsinki:20251022T180000
DTEND;TZID=Europe/Helsinki:20251022T180000
DTSTAMP:20260420T055557
CREATED:20251008T100946Z
LAST-MODIFIED:20251008T101005Z
UID:25598-1761156000-1761156000@infostargard.pl
SUMMARY:Alibabki: Seks dla opornych
DESCRIPTION:Stargardzkie Centrum Kultury zaprasza na film pt. „Seks dla opornych” w ramach comiesięcznych spotkań Alibabki.  \nSeans odbędzie się w środę\, 22 października o godz. 18\, na Dużej Scenie SCK. \nBilety w cenie 40 zł. \nInformacja SCK: \nCzy związek z długim stażem oznacza kres namiętności\, czy może dopiero wtedy rodzi się prawdziwa bliskość? Ilona Ostrowska i Piotr Adamczyk w pełnej humoru historii o parze\, która próbuje na nowo rozbudzić pożądanie i poznać swoje pragnienia. Film inspirowany przebojową sztuką teatralną „Seks dla opornych” autorstwa Michele Riml\, która podbiła serca milionów widzów w całej Polsce\, to wzruszająca opowieść o odnajdywaniu się na nowo\, odkrywaniu swoich potrzeb i sztuce kochania\, która nie ma terminu ważności. Basia (Ilona Ostrowska) i Grzegorz (Piotr Adamczyk)\, małżeństwo z 25-letnim stażem\, zmagają się z rutyną i gasnącą namiętnością. Ich życie intymne stało się przewidywalne\, a rozmowy o pragnieniach i fantazjach dawno zeszły na drugi plan. Zdeterminowana Basia postanawia działać – namawia męża na weekend w ekskluzywnym hotelu SPA i uzbrojona w poradnik „Seks dla opornych” próbuje rozpalić dawny ogień namiętności. Nieoczekiwane spotkanie z młodym i pewnym siebie Maksem (Mikołaj Matczak)\, szefem Grzegorza\, i jego spontaniczną\, seksowną  partnerką Domi (Helena Englert) sprawia\, że ich pobyt nabiera nieoczekiwanego tempa\, pełnego napięć i pokus. Czy ten wyjazd pomoże im na nowo odkryć siebie i przypomnieć\, na czym polega sztuka bycia razem?
URL:https://infostargard.pl/event/alibabki-seks-dla-opornych/
LOCATION:Duża Scena SCK
END:VEVENT
END:VCALENDAR