BEGIN:VCALENDAR
VERSION:2.0
PRODID:-//Info Stargard - ECPv6.15.20//NONSGML v1.0//EN
CALSCALE:GREGORIAN
METHOD:PUBLISH
X-WR-CALNAME:Info Stargard
X-ORIGINAL-URL:https://infostargard.pl
X-WR-CALDESC:Wydarzenia dla Info Stargard
REFRESH-INTERVAL;VALUE=DURATION:PT1H
X-Robots-Tag:noindex
X-PUBLISHED-TTL:PT1H
BEGIN:VTIMEZONE
TZID:Europe/Helsinki
BEGIN:DAYLIGHT
TZOFFSETFROM:+0200
TZOFFSETTO:+0300
TZNAME:EEST
DTSTART:20240331T010000
END:DAYLIGHT
BEGIN:STANDARD
TZOFFSETFROM:+0300
TZOFFSETTO:+0200
TZNAME:EET
DTSTART:20241027T010000
END:STANDARD
BEGIN:DAYLIGHT
TZOFFSETFROM:+0200
TZOFFSETTO:+0300
TZNAME:EEST
DTSTART:20250330T010000
END:DAYLIGHT
BEGIN:STANDARD
TZOFFSETFROM:+0300
TZOFFSETTO:+0200
TZNAME:EET
DTSTART:20251026T010000
END:STANDARD
BEGIN:DAYLIGHT
TZOFFSETFROM:+0200
TZOFFSETTO:+0300
TZNAME:EEST
DTSTART:20260329T010000
END:DAYLIGHT
BEGIN:STANDARD
TZOFFSETFROM:+0300
TZOFFSETTO:+0200
TZNAME:EET
DTSTART:20261025T010000
END:STANDARD
END:VTIMEZONE
BEGIN:VEVENT
DTSTART;TZID=Europe/Helsinki:20251019T100000
DTEND;TZID=Europe/Helsinki:20251019T140000
DTSTAMP:20260420T055558
CREATED:20251013T141930Z
LAST-MODIFIED:20251013T141930Z
UID:25962-1760868000-1760882400@infostargard.pl
SUMMARY:Pchli Targ
DESCRIPTION:
URL:https://infostargard.pl/event/pchli-targ-2/
LOCATION:Parking przy ul. Barnima
END:VEVENT
BEGIN:VEVENT
DTSTART;TZID=Europe/Helsinki:20251019T120000
DTEND;TZID=Europe/Helsinki:20251019T120000
DTSTAMP:20260420T055558
CREATED:20251008T095110Z
LAST-MODIFIED:20251008T095118Z
UID:25595-1760875200-1760875200@infostargard.pl
SUMMARY:Kinomaniaki: Emma i czarny jaguar
DESCRIPTION:Stargardzkie Centrum Kultury zaprasza na film przygodowy pt. „Emma i czarny jaguar” w ramach wspólnej inicjatywy Prezydenta Stargardu i SCK – Stargardzkie Dzieciaki Kinomaniaki.  \nRaz w miesiącu\, w niedzielę o 12\, wyświetlany jest specjalny seans dla dzieci z biletami dla każdego za 1 zł. Bilety do kupienia wyłącznie w kasie kina SCK na dwie godziny przed seansem. \nSeans odbędzie się 19 października. \nInformacja SCK: \nSympatyczna Emma dorasta w amazońskiej dżungli\, mając za towarzysza przygód i zabaw Hope – małego czarnego jaguarka. Niestety\, ich piękna i zażyła relacja kończy się wraz z przeprowadzką dziewczynki do Nowego Jorku. Z dala od rodzinnych stron\, Emma nie przestaje jednak marzyć o powrocie do deszczowych lasów i ukochanego zwierzaka. Mijają lata. Nastoletnia już Emma\, która z czasem przyzwyczaiła się do życia w wielkim mieście\, odkrywa\, że amazońskiej puszczy zagrażają okrutni łowcy zwierząt. Nie wahając się ani chwili\, dziewczynka wyrusza do krainy dzieciństwa\, aby uratować swojego przyjaciela. Pomaga jej w tym przebojowa nauczycielka biologii – pani Anja. Razem zrobią wszystko\, by odnaleźć Hope i ocalić jaguara przed tymi\, którzy dla zysku nie zawahają się zniszczyć dzikiej przyrody. (Kino Świat)
URL:https://infostargard.pl/event/kinomaniaki-emma-i-czarny-jaguar/
LOCATION:Kino SCK
END:VEVENT
BEGIN:VEVENT
DTSTART;TZID=Europe/Helsinki:20251019T123000
DTEND;TZID=Europe/Helsinki:20251019T123000
DTSTAMP:20260420T055558
CREATED:20251018T113742Z
LAST-MODIFIED:20251018T113742Z
UID:26429-1760877000-1760877000@infostargard.pl
SUMMARY:Rodzinny Poranek Muzyczny
DESCRIPTION:
URL:https://infostargard.pl/event/rodzinny-poranek-muzyczny/
LOCATION:Państwowa Szkoła Muzyczna I i II stopnia w Stargardzie
END:VEVENT
END:VCALENDAR