BEGIN:VCALENDAR
VERSION:2.0
PRODID:-//Info Stargard - ECPv6.15.20//NONSGML v1.0//EN
CALSCALE:GREGORIAN
METHOD:PUBLISH
X-WR-CALNAME:Info Stargard
X-ORIGINAL-URL:https://infostargard.pl
X-WR-CALDESC:Wydarzenia dla Info Stargard
REFRESH-INTERVAL;VALUE=DURATION:PT1H
X-Robots-Tag:noindex
X-PUBLISHED-TTL:PT1H
BEGIN:VTIMEZONE
TZID:Europe/Helsinki
BEGIN:DAYLIGHT
TZOFFSETFROM:+0200
TZOFFSETTO:+0300
TZNAME:EEST
DTSTART:20240331T010000
END:DAYLIGHT
BEGIN:STANDARD
TZOFFSETFROM:+0300
TZOFFSETTO:+0200
TZNAME:EET
DTSTART:20241027T010000
END:STANDARD
BEGIN:DAYLIGHT
TZOFFSETFROM:+0200
TZOFFSETTO:+0300
TZNAME:EEST
DTSTART:20250330T010000
END:DAYLIGHT
BEGIN:STANDARD
TZOFFSETFROM:+0300
TZOFFSETTO:+0200
TZNAME:EET
DTSTART:20251026T010000
END:STANDARD
BEGIN:DAYLIGHT
TZOFFSETFROM:+0200
TZOFFSETTO:+0300
TZNAME:EEST
DTSTART:20260329T010000
END:DAYLIGHT
BEGIN:STANDARD
TZOFFSETFROM:+0300
TZOFFSETTO:+0200
TZNAME:EET
DTSTART:20261025T010000
END:STANDARD
END:VTIMEZONE
BEGIN:VEVENT
DTSTART;TZID=Europe/Helsinki:20251018T080000
DTEND;TZID=Europe/Helsinki:20251018T080000
DTSTAMP:20260420T055557
CREATED:20250917T083844Z
LAST-MODIFIED:20250917T083849Z
UID:23197-1760774400-1760774400@infostargard.pl
SUMMARY:II Festiwal Biegowy w Nadleśnictwie Kliniska
DESCRIPTION:Stargardzki Klub Lekkoatletyczny zaprasza na drugą edycję festiwalu biegowego leśnymi duktami. \nBiegi odbędą się w sobotę\, 18 października w wyznaczonych godzinach\, na terenie Nadleśnictwa Kliniska w miejscowości Sowno\, koło Stargardu. Biegi odbędą się bez względu na warunki atmosferyczne. \nBiuro zawodów oraz linia startu i mety usytuowane będą przy Szkole Podstawowej w Sownie\, ul. Szkolna 4. \nBieg główny to półmaraton leśny „Jeleń” na dystansie ok. 21 km. Imprezy towarzyszące to bieg na dystansie 12 km – „Dzik”\, Marsz Nordic Walking na dystansie 6 km – „Borsuk”\, bieg na dystansie 6 km – „Sarna” i biegi dla dzieci i przedszkolaków – „Sówka”. \nZapisy i więcej informacji na stronie www.skl.stargard.pl.
URL:https://infostargard.pl/event/ii-festiwal-biegowy-w-nadlesnictwie-kliniska/
LOCATION:Szkoła Podstawowa w Sownie
END:VEVENT
BEGIN:VEVENT
DTSTART;TZID=Europe/Helsinki:20251018T160000
DTEND;TZID=Europe/Helsinki:20251018T160000
DTSTAMP:20260420T055557
CREATED:20250904T112955Z
LAST-MODIFIED:20250904T113004Z
UID:21937-1760803200-1760803200@infostargard.pl
SUMMARY:Spektakl Francuski Numerek
DESCRIPTION:Stargardzkie Centrum Kultury zaprasza na komediowy spektakl pn. „Francuski numerek”. \nWydarzenie odbędzie się w sobotę\, 18 października o godz. 16 i 19\, na Dużej Scenie SCK. Bilety od 100 zł do 140 zł. \nInformacja SCK: \nFRANCUSKI NUMEREK to komedia pełna zaskakujących zwrotów akcji i przezabawnych dialogów\, rozgrywająca się w ekskluzywnym apartamencie w jednym z dużych polskich miast. Przebiegły plan\, do którego Marek namawia swoją żonę Anetę\, by zrealizować interes życia\, nieoczekiwanie zmienia się w pasmo komicznych wydarzeń\, podszytych międzynarodowymi znajomościami. \nAkcja zagęszcza się\, gdy do akcji włącza się bezkompromisowa Gosposia – Nadia. Marek i Aneta zostaną postawieni przed sytuacją bez wyjścia i tonąc w oparach absurdu \, będą musieli odpowiedzieć sobie na pytanie: Do czego jesteśmy zdolni\, by osiągnąć wyznaczony cel? Francuski flirt\, ruletka na rejsowych statkach oraz  widmo wielkiego biznesu! Musicie to zobaczyć! Bohaterowie wykręcą Wam prawdziwy Francuski Numerek! \nObsada: \nNadia: Waldemar Obłoza\nMarek M: Rafał Kwietniewski / Robert Koszucki\nAneta M: Adriana Kalska / Maria Dejmek\nPatric N: Rafał Cieszyński / Igor Obłoza\nSandra O: Laura Breszka / Marlena Jonasz\nKuzynka Lucy: Aldona Orman / Beata Olga Kowalska / Dominika Gwit
URL:https://infostargard.pl/event/spektakl-francuski-numerek/
LOCATION:Duża Scena SCK
END:VEVENT
BEGIN:VEVENT
DTSTART;TZID=Europe/Helsinki:20251018T160000
DTEND;TZID=Europe/Helsinki:20251018T160000
DTSTAMP:20260420T055557
CREATED:20251014T065106Z
LAST-MODIFIED:20251014T065113Z
UID:26000-1760803200-1760803200@infostargard.pl
SUMMARY:To nie nasza wojna - Tak dla pokoju\, spotkanie na Placu Wolności
DESCRIPTION:Stowarzyszenie Łączy Nas Stargard zaprasza wszystkich mieszkańców Stargardu i okolic na pokojowe spotkanie\, które odbędzie się w sobotę\, 18 października o godz. 16 na Placu Wolności.  \n– Spotkajmy się\, by pokazać\, że jedność i solidarność są naszą siłą – zachęcają organizatorzy wydarzenia. – W tych trudnych czasach ważne jest\, by stać razem – w imię pokoju\, wzajemnego szacunku i bezpieczeństwa. Przyjdź z rodziną\, przyjaciółmi i sąsiadami. Pokażmy\, że Stargard łączy a nie dzieli. 
URL:https://infostargard.pl/event/to-nie-nasza-wojna-tak-dla-pokoju-spotkanie-na-placu-wolnosci/
LOCATION:Plac Wolności\, Stargard
END:VEVENT
BEGIN:VEVENT
DTSTART;TZID=Europe/Helsinki:20251018T180000
DTEND;TZID=Europe/Helsinki:20251018T180000
DTSTAMP:20260420T055557
CREATED:20251013T143609Z
LAST-MODIFIED:20251014T083347Z
UID:25986-1760810400-1760810400@infostargard.pl
SUMMARY:Wieczór pod gwiazdami w Filarach
DESCRIPTION:Filarowe Koło Astronomiczne zaprasza na Wieczór pod Gwiazdami\, który odbędzie się w sobotę\, 18 października o godz. 18.  \nW programie: \n\npokaz zdjęć z wrześniowego zaćmienia Księżyca\,\npodróż po nocnym niebie – o gwiazdozbiorach\, planetach i jesiennych konstelacjach\,\nwspólne obserwacje nieba w Parku Zamkowym\, a jeśli pogoda nie dopisze – pokaz gwiazd w przestrzeni Filarów i film o gwiazdozbiorach z cyklu „Astronarium”.\n\nWstęp na to wydarzenie jest wolny.
URL:https://infostargard.pl/event/wieczor-pod-gwiazdami-w-filarach/
LOCATION:SCN Filary
END:VEVENT
BEGIN:VEVENT
DTSTART;TZID=Europe/Helsinki:20251018T190000
DTEND;TZID=Europe/Helsinki:20251018T190000
DTSTAMP:20260420T055557
CREATED:20251016T060800Z
LAST-MODIFIED:20251016T060800Z
UID:26245-1760814000-1760814000@infostargard.pl
SUMMARY:Wieczór z muzyką i fotografią w Ińsku
DESCRIPTION: Stowarzyszenia Ińskie Lato Filmowe zaprasza na wyjątkowe spotkanie z muzyką i fotografią w Galerii O.Mega. Wydarzenie odbędzie się w sobotę\, 18 października.  \n–  Gwarantuje fuzję doznań\, wrażeń i emocji – zapraszają organizatorzy. – Wydarzenie wspiera Pomorze Zachodnie. Ma charakter otwarty i skierowane jest zarówno do mieszkańców Ińska\, okolicznych miejscowości jak i całego regionu. To będzie wypełniony dobrym beatem jesienny wieczór\, bo… zaśpiewa u nas wyczekiwana od lata Julia Rover ze swoim zespołem. \nNa scenie wystąpi Julia Rover\, piosenkarka\, autorka tekstów i didżejka z Poznania\, znana jako połowa duetu Bliss Kiss. Artystka zaprezentuje autorską muzykę łączącą wokal z elektronicznym brzmieniem inspirowanym latami 80.\, przez retro-popowe ballady\, aż po rytmy klubowe. Podczas występu towarzyszyć jej będzie dwóch DJ-ów\, tworząc na żywo elektroniczne kompozycje.  Oprócz części muzycznej\, w przestrzeni galerii dostępna jest wystawa fotografii Leszka Paradowskiego – lokalnego artysty i fotografa przyrody. Ekspozycja ukazuje piękno Pojezierza Ińskiego\ni Drawskiego. Leszek Paradowski jest członkiem Fotoklubu Rzeczypospolitej Polskiej i Związku Polskich Fotografów Przyrody\, a także posiadaczem tytułów artystycznych AFIAP (Międzynarodowa Federacja Sztuki Fotograficznej) oraz PPSA (Amerykańskie Towarzystwo Fotograficzne). Koncert rozpocznie się o godz. 19. \nJULIA ROVER \n\nMieszkająca w Poznaniu piosenkarka\, autorka tekstów i didżejka\, znana jako połowa duetu Bliss Kiss. Jej twórczość to muzyczna podróż przez różnorodne brzmienia – od kojących tonów zimnej fali i przebojowego synth-popu rodem z lat osiemdziesiątych\, po nostalgiczne\, retro-popowe ballady przywołujące romantyczne wspomnienia\, aż po dubowe klubowe brzmienia. Pod koniec 2024 roku Julia wydała swoją debiutancką EP-kę zatytułowaną „Co z Tobą?” nakładem kultowej wytwórni The Very Polish Cut Outs. Warstwą muzyczną wydawnictwa zajęło się trio FTP: Freux\, TAMTEN i Pejzaż – uznani producenci od lat związani z wytwórnią\, której logo zdobi charakterystyczny kogut. EP-ka szybko zyskała uznanie na polskim rynku muzycznym. Utwór „Sen” trafił do pierwszej dziesiątki najlepszych polskich piosenek roku 2024\, a pozostałe kawałki z „Co z Tobą?” regularnie gościły na playlistach takich stacji jak Radio Nowy Świat\, Czwórka\, Kampus\, 357 czy Trójka. Wyróżnieniem o globalnym zasięgu było umieszczenie EP-ki w TOP 10 Global Charts 2024 prestiżowego amerykańskiego radia KEXP.\nChoć pełnoprawny debiut Julii przypadł na końcówkę 2024 roku\, artystka działa na scenie muzycznej od 2021 roku. Współpracowała m.in. z Rat One z Rat Kru\, nagrywając pojedyncze single\, i regularnie koncertowała\, występując na różnych scenach w Polsce (m. in. Next Fest\, FAMA). Rok 2025 zapowiada się jako przełomowy w jej karierze. Julia\, wraz dwoma producentami Freuxem i Tamtym (odpowiedzialnymi za część materiału z „Co z Tobą?”)\, planuje intensywną trasę koncertową\, podczas której zaprezentuje zarówno utwory z debiutanckiej EP-ki\, premierowe kompozycje\, jak i starsze kawałki w nowym aranżacjach.\n\nZadanie publiczne jest współfinansowane ze środków otrzymanych z budżetu Województwa Zachodniopomorskiego.\nInf. organizatora
URL:https://infostargard.pl/event/wieczor-z-muzyka-i-fotografia-w-insku/
LOCATION:Galeria O.Mega
END:VEVENT
END:VCALENDAR