BEGIN:VCALENDAR
VERSION:2.0
PRODID:-//Info Stargard - ECPv6.15.20//NONSGML v1.0//EN
CALSCALE:GREGORIAN
METHOD:PUBLISH
X-ORIGINAL-URL:https://infostargard.pl
X-WR-CALDESC:Wydarzenia dla Info Stargard
REFRESH-INTERVAL;VALUE=DURATION:PT1H
X-Robots-Tag:noindex
X-PUBLISHED-TTL:PT1H
BEGIN:VTIMEZONE
TZID:Europe/Helsinki
BEGIN:DAYLIGHT
TZOFFSETFROM:+0200
TZOFFSETTO:+0300
TZNAME:EEST
DTSTART:20240331T010000
END:DAYLIGHT
BEGIN:STANDARD
TZOFFSETFROM:+0300
TZOFFSETTO:+0200
TZNAME:EET
DTSTART:20241027T010000
END:STANDARD
BEGIN:DAYLIGHT
TZOFFSETFROM:+0200
TZOFFSETTO:+0300
TZNAME:EEST
DTSTART:20250330T010000
END:DAYLIGHT
BEGIN:STANDARD
TZOFFSETFROM:+0300
TZOFFSETTO:+0200
TZNAME:EET
DTSTART:20251026T010000
END:STANDARD
BEGIN:DAYLIGHT
TZOFFSETFROM:+0200
TZOFFSETTO:+0300
TZNAME:EEST
DTSTART:20260329T010000
END:DAYLIGHT
BEGIN:STANDARD
TZOFFSETFROM:+0300
TZOFFSETTO:+0200
TZNAME:EET
DTSTART:20261025T010000
END:STANDARD
END:VTIMEZONE
BEGIN:VEVENT
DTSTART;TZID=Europe/Helsinki:20251016T140000
DTEND;TZID=Europe/Helsinki:20251016T160000
DTSTAMP:20260420T055619
CREATED:20251010T114227Z
LAST-MODIFIED:20251014T071855Z
UID:25750-1760623200-1760630400@infostargard.pl
SUMMARY:Festyn Bezpieczeństwa - Rynek Staromiejski
DESCRIPTION:Komendant Powiatowy PSP w Stargardzie wraz z Prezesem Powiatowym Zarządu Powiatowego OSP RP zaprasza wszystkich mieszkańców Stargardu na Festyn Bezpieczeństwa w ramach programu Czujne Zachodniopomorskie! \nWydarzenie odbędzie się 16 października o godzinie 14 na Rynku Staromiejskim. \nCel programu: zwiększenie bezpieczeństwa pożarowego w naszym regionie i ochrona mieszkańców przed tlenkiem węgla – „cichym zabójcą”. \nW trakcie wydarzenia strażacy będą: \n\nrozdawać czujki tlenku węgla\,\nudzielać porad dotyczących bezpieczeństwa w domu\,\nprowadzić pokazy i instruktaże z montażu czujek\,\nodpowiadać na wszystkie pytania dotyczące pożarów i zatruć CO.\n\n– Dzięki tej inicjatywie chcemy\, by każde zachodniopomorskie gospodarstwo domowe było czujne i bezpieczne! – zachęcają organizatorzy. – Do zobaczenia na festynie!
URL:https://infostargard.pl/event/festyn-bezpieczenstwa-rynek-staromiejski/
LOCATION:Rynek Staromiejski
END:VEVENT
BEGIN:VEVENT
DTSTART;TZID=Europe/Helsinki:20251016T160000
DTEND;TZID=Europe/Helsinki:20251016T190000
DTSTAMP:20260420T055619
CREATED:20250930T064113Z
LAST-MODIFIED:20251014T072119Z
UID:24531-1760630400-1760641200@infostargard.pl
SUMMARY:80-lecie Szkoły Podstawowej w Marianowie
DESCRIPTION:Dyrekcja\, grono pedagogiczne oraz uczniowie serdecznie zapraszają absolwentów i mieszkańców gminy Marianowo na uroczyste obchody 80-lecia Szkoły.  \nObchody odbędą się 16 października w godzinach 16-19. W programie: zwiedzanie szkoły i spotkania z nauczycielami\, oglądanie wystaw okolicznościowych\, spotkania z dawnymi kolegami i rówieśnikami\, wspomnienia\, rozmowy i czas pełen wzruszeń. \n– Przyjdź\, zobacz\, jak zmieniła się nasza szkoła i przeżyjmy ten dzień razem – zapraszają organizatorzy.
URL:https://infostargard.pl/event/80-lecie-szkoly-podstawowej-w-marianowie/
LOCATION:SP Marianowo
END:VEVENT
BEGIN:VEVENT
DTSTART;TZID=Europe/Helsinki:20251016T170000
DTEND;TZID=Europe/Helsinki:20251016T170000
DTSTAMP:20260420T055619
CREATED:20251002T103916Z
LAST-MODIFIED:20251013T140249Z
UID:24794-1760634000-1760634000@infostargard.pl
SUMMARY:Spotkanie z Agnes Tołoczmańską
DESCRIPTION:W czwartek\, 16 października o godz. 17\, w Czytelni Głównej Książnicy Stargardzkiej odbędzie się spotkanie z pierwszą w Polsce edukatorką w temacie śmierci\, Agnes Tołoczmańską. \nAgnes Tołoczmańska\, znana w sieci jako „Agnes zza grobu”\, na co dzień jest mieszkanką Stargardu. Swoją karierę zawodową zaczynała jako tanatokosmetolog\, dziś za pośrednictwem mediów społecznościowych w otwarty i pozbawiony tabu sposób edukuje o śmierci\, żałobie i branży pogrzebowej. Organizatorka wielu spotkań i webinarów oswajających ten temat. Jej teksty można przeczytać w magazynie branżowym „Kultura Pogrzebu” oraz na portalu „Świętej Pamięci”. \n– Podczas spotkania porozmawiamy o jej książce pt. „𝐌𝐚𝐦𝐲 𝐭𝐫𝐮𝐩𝐚 𝐢 𝐜𝐨 𝐝𝐚𝐥𝐞𝐣. 𝐎𝐝 𝐮𝐦𝐢𝐞𝐫𝐚𝐧𝐢𝐚 𝐝𝐨 𝐩𝐨𝐜𝐡𝐨𝐰𝐚𝐧𝐢𝐚”\, napisanej wspólnie z Małgorzatą Węglarz – zaprasza KS. – To praktyczny\, a zarazem empatyczny poradnik\, który pomaga zrozumieć\, jak oswoić temat śmierci\, jak poradzić sobie z żałobą oraz jak wygląda rzeczywistość branży pogrzebowej „od kuchni”. \nWstęp na wydarzenie jest wolny.
URL:https://infostargard.pl/event/spotkanie-z-agnes-toloczmanska-edukatorka-o-smierci/
LOCATION:Czytelnia Główna Książnicy Stargardzkiej
END:VEVENT
BEGIN:VEVENT
DTSTART;TZID=Europe/Helsinki:20251016T170000
DTEND;TZID=Europe/Helsinki:20251016T170000
DTSTAMP:20260420T055619
CREATED:20251008T073837Z
LAST-MODIFIED:20251008T073848Z
UID:25520-1760634000-1760634000@infostargard.pl
SUMMARY:CSKF: Pan Olbrychski
DESCRIPTION:W ramach Czwartkowych Spotkań Klubu Filmowego\, Stargardzkie Centrum Kultury zaprasza na seans filmu pt. „Pan Olbrychski”.  \nGościem CSKF będzie reżyser Robert Wichrowski. Rozmowę po seansie przeprowadzi dziennikarz filmowy Krzysztof Spór. \nBilety w cenie 17 zł – normalny\, 12 zł – dla członków klubu. \nInformacja SCK: \nDaniel Olbrychski to ikona polskiego kina\, znany z ról w takich dziełach jak „Popioły„\, „Pan Tadeusz” czy „Ziemia obiecana„. Film „Pan Olbrychski” przedstawia jego drogę od debiutu na wielkim ekranie po status legendy\, ukazując\, jak osobiste doświadczenia wpłynęły na jego aktorską pasję.\nDokument nie ogranicza się jedynie do twórczości Olbrychskiego. Opowiada także o jego życiu poza sceną – relacjach rodzinnych\, przyjaźniach i momentach\, które ukształtowały go jako człowieka. To intymny portret artysty\, który pozwala lepiej zrozumieć jego motywacje. \n„Pan Olbrychski” eksploruje dorobek aktora\, analizując jego najważniejsze role teatralne i filmowe. Współpraca z takimi reżyserami jak Andrzej Wajda czy Jerzy Hoffman uczyniła go symbolem złotej ery polskiego kina. Dokument przybliża\, jak jego kreacje wpłynęły na kulturę narodową.\nFilm wyprodukowany został przez Faun Film w koprodukcji z Telewizją Polską\, Wytwórnią Filmów Dokumentalnych i Fabularnych oraz Filmoteką Narodową – Instytutem Audiowizualnym. Autorem plakatu jest Andrzej Pągowski.Ten film to nie tylko hołd dla Daniela Olbrychskiego\, ale także podróż przez historię polskiego teatru i kina. Świetnie zmontowany\, pełen archiwalnych materiałów i wywiadów\, stanowi gratkę dla miłośników sztuki oraz wszystkich\, którzy chcą poznać bliżej tę fascynującą postać. (TVP)
URL:https://infostargard.pl/event/cskf-pan-olbrychski/
LOCATION:Sala nr 2 – Piwnica Artystyczna
END:VEVENT
BEGIN:VEVENT
DTSTART;TZID=Europe/Helsinki:20251016T173000
DTEND;TZID=Europe/Helsinki:20251016T173000
DTSTAMP:20260420T055619
CREATED:20251014T082118Z
LAST-MODIFIED:20251014T082126Z
UID:26082-1760635800-1760635800@infostargard.pl
SUMMARY:Przedstawienie inspirowane dawnymi opowieściami w muzeum
DESCRIPTION:Muzeum Archeologiczno-Historyczne zaprasza na bezpłatne przedstawienie inspirowane dawnymi opowieściami\, które odbędzie się 16 października o godz. 17:30.  \nSpotkanie odbywa się w ramach Spotkań w przyrynkowej kamienicy. Po przedstawieniu będzie czas na rozmowę o dostępności treści kulturalnych dla osób z niepełnosprawnościami oraz ich rodzin. \nO co tu chodzi? Uwspółcześniamy\, poddajemy dekonstrukcji i bawimy się dawnymi opowieściami i podaniami. Zapominamy na chwilę o problemach świata i wcielamy się w postaci osadzone w wyimaginowanych światach. \nZałożeniem i celem projektu „Miejskie Granie” jest włączanie do uczestniczenia i odbierania treści kulturowych\, a także „wychodzenie” w przestrzeń miejską i docieranie w szczególności do mieszkańców Stargardu i okolic\, seniorów\, osób z niepełnosprawnościami\, osób i grup społecznie wykluczonych i marginalizowanych\, a także do grup przedszkolnych i szkolnych.
URL:https://infostargard.pl/event/przedstawienie-inspirowane-dawnymi-opowiesciami-w-muzeum/
LOCATION:Muzeum Archeologiczno-Historyczne\, Rynek Staromiejski 3\, Stargard\, 73-110\, Poland
END:VEVENT
END:VCALENDAR